Workbook

Sheet Pro Universitate érdemrend
A1: Poszeidon iktatószám megadása kötelező! | E1: iktatószám | K1: igen
A2: A javaslatot Excelben, gépelve kérjük kitölteni, a kinyomtatott, aláírással ellátott dokumentumot scannelve a HROnline rendszeren keresztül vagy a kituntetes.human@semmelweis.hu e-mail címre kérjük megküldeni! | E2: ügyintéző | K2: nem
B3: JAVASLAT
B4: Pro Universitate érdemrend
B5: kitüntetés adományozásához
A7: A kitüntetés éremmel és oklevéllel jár.
C8: I. Javaslattevő
C10: Javaslattevő neve
C11: Javaslattevő tisztsége | D11: Javaslattevő személye
C12: Javaslattevő szervezeti egysége
C13: A kitüntetésre javasolt személy felett elsődleges munkáltatói jogkört gyakorló vezető neve (amennyiben eltér a javaslattevő személyétől)
C15: II. Kitüntetésre javasolt személy adatai
A17: Amennyiben a javasolt személy egyetemi dolgozó - munkajogviszonyban vagy egészségügyi szolgálati jogviszonyban (a megfelelő részt kérjük kitölteni) | C17: Kitüntetésre javasolt személy neve (egyetemi munkavállaló) | D17: Név
C18: Szervezeti egysége
C19: SAP törzsszám | D19: SAP törzsszám
C20: Születési hely | D20: Születési hely, dátum
C21: Születési idő
C22: Munkakörének megnevezése
C23: E-mail címe (értesítéshez) | D23: munkakörének megnevezése
C24: Telefonszám (értesítéshez) | D24: munkakörének megnevezése
A27: Amennyiben a javasolt személy NEM munkajogviszonyban vagy egészségügyi szolgálati jogviszonyban áll az Egyetemmel (a megfelelő részt kérjük kitölteni) | C27: Kitüntetésre javasolt személy neve (NEM egyetemi munkavállaló) | D27: Név
C28: Születési hely | D28: Születési hely, dátum
C29: Születési idő
C30: Levelezési cím
C31: Telefonszám (értesítéshez)
C32: E-mail címe (értesítéshez) | D32: munkakörének megnevezése
C34: III. A javaslat elbírálásához kért információk
C36: III.1 A kitüntetési javaslat részletes indoklása
A37: Amennyiben a kitüntetési javaslat indoklása meghaladja a kijelölt területet, kérem az EGFI honlapján szereplő "Javaslat részletes indoklása" dokumentumot kitölteni.
A41: Legördülő listából választható (igen/nem), kérjük minden esetben kiválasztani! | C41: Részletes indoklás külön csatolva:
C43: III.2 A kitüntetésre javasolt személy esetleges állami, egyetemi kitüntetései
C44: kitüntetés megnevezése | E44: évszáma
A49: A Munkavállalói Fórum véleményét csak azon szervezeti egység vezetője által tett javaslat esetén kell bekérni, amelyben az adott egyégnél működik alkalmazotti fórum. Kérjük, küldjék meg a Munkavállalói Fórum jegyzőkönyvét! | C49: III.3 A Munkavállalói Fórum véleménye:
C51: IV.A kitüntetés átadásának javasolt időpontja
A53: Szabad szöveges mező
E55: Egyetértek:
A56: Munkáltatói jogkör gyakorlójának aláírása akkor szükséges ha a javasolt személy az Egyetem munkavállalója és ha nem azononos a javaslattevő személyével. NEM egyetemi munkavállaló esetén kérjük törölni!
C59: =E10 -> 0 | E59: =E13 -> 0
A60: Az aláírásra jogosult személy nevét kérjük feltüntetni! | C60: javaslattevő | E60: munkáltatói jogkör gyakorlója
C61: Dátum: | E61: (ha nem azonos a javaslattevő személyével)
E62: Dátum:

Sheet javaslattevő
A3: rektor
A4: rektorhelyettes
A5: dékán
A6: Klinikai Központ elnöke
A7: oktatási-kutatási szervezeti egység vezetője

Sheet Munka1
A1: Beérkezés dátuma | B1: Kitüntetés neve | C1: Iktatószám | D1: Ügyintéző | E1: Javaslattevő neve | F1: Javaslattevő tisztsége | G1: Javaslattevő szervezeti egysége | H1: Munkáltatói jogkör gyakorlója | I1: Kitüntetésre javasolt munkavállaló neve | J1: Szervezeti egysége | K1: SAP törzsszám | L1: Születési hely | M1: Születési idő | N1: Munkakörének megnevezése | O1: E-mail címe (értesítéshez) | P1: Telefonszám (értesítéshez) | Q1: Kitüntetés megnevezése | R1: Évszáma | S1: A kitüntetés átadásának javasolt időpontja
B2: ='Pro Universitate érdemrend'!B4:F4 -> Pro Universitate érdemrend | C2: ='Pro Universitate érdemrend'!F1 -> 0 | D2: ='Pro Universitate érdemrend'!F2 -> 0 | E2: ='Pro Universitate érdemrend'!E10 -> 0 | F2: ='Pro Universitate érdemrend'!E11 -> 0 | G2: ='Pro Universitate érdemrend'!E12 -> 0 | H2: ='Pro Universitate érdemrend'!E13 -> 0 | I2: ='Pro Universitate érdemrend'!E17 -> 0 | J2: ='Pro Universitate érdemrend'!E18 -> 0 | K2: ='Pro Universitate érdemrend'!E19 -> 0 | L2: ='Pro Universitate érdemrend'!E20 -> 0 | M2: ='Pro Universitate érdemrend'!E21 -> 0 | N2: ='Pro Universitate érdemrend'!E22 -> 0 | O2: ='Pro Universitate érdemrend'!E23 -> 0 | P2: ='Pro Universitate érdemrend'!E24 -> 0 | Q2: ='Pro Universitate érdemrend'!C45 -> 0 | R2: ='Pro Universitate érdemrend'!E45 -> 0 | S2: ='Pro Universitate érdemrend'!C53 -> 0
Q3: ='Pro Universitate érdemrend'!C46 -> 0 | R3: ='Pro Universitate érdemrend'!E46 -> 0
