Workbook

Sheet Kiváló Dolgozó
A1: Poszeidon iktatószám megadása kötelező! | E1: iktatószám | I1: március 15-e | K1: igen
A2: A javaslatot Excelben, gépelve kérjük kitölteni, a kinyomtatott, aláírással ellátott dokumentumot scannelve a HROnline rendszeren keresztül vagy a kituntetes.human@semmelweis.hu e-mail címre kérjük megküldeni! | E2: ügyintéző | I2: Semmelweis Nap | K2: nem
B3: JAVASLAT
B4: Semmelweis Egyetem Kiváló Dolgozója
B5: kitüntetés adományozásához
C6: I. Javaslattevő
C8: Javaslattevő neve
C9: Javaslattevő tisztsége | D9: Javaslattevő személye
C10: Javaslattevő szervezeti egysége
C11: A kitüntetésre javasolt személy felett elsődleges munkáltatói jogkört gyakorló vezető neve (amennyiben eltér a javaslattevő személyétől)
C13: II. Kitüntetésre javasolt személy adatai
A15: A kitüntetésre javasolt személy legalább 5 éve az Egyetem munkavállalója, illetve a kitüntetés másik feltétele, hogy a javasolt személy 5 éven belül nem részesült egyetemi kitüntetésben. | C15: Kitüntetésre javasolt munkavállaló neve | D15: Név
C16: Szervezeti egysége
C17: SAP törzsszám | D17: SAP törzsszám
C18: Születési hely | D18: Születési hely, dátum
C19: Születési idő
C20: Munkakörének megnevezése | D20: munkakörének megnevezése
C21: E-mail címe (értesítéshez) | D21: munkakörének megnevezése
C22: Telefonszám (értesítéshez) | D22: munkakörének megnevezése
C24: III. A javaslat elbírálásához kért információk
C26: III.1. A kitüntetési javaslat részletes indoklása
A27: Amennyiben a kitüntetési javaslat indoklása meghaladja a kijelölt területet, kérem az EGFI honlapján szereplő "Javaslat részletes indoklása" dokumentumot kitölteni.
A29: Legördülő listából választható (igen/nem), kérjük minden esetben kiválasztani! | C29: Részletes indoklás külön csatolva:
C31: III.2 A kitüntetésre javasolt személy esetleges állami, egyetemi kitüntetései
C32: kitüntetés megnevezése | E32: évszáma
A37: A Munkavállalói Fórum véleményét csak azon szervezeti egység vezetője által tett javaslat esetén kell bekérni, amelyben az adott egyégnél működik intézeti tanács. Kérjük, küldjék meg a Munkavállalói Fórum jegyzőkönyvét! | C37: III.3 A Munkavállalói Fórum véleménye:
C39: IV.A kitüntetés átadásának javasolt időpontja
A41: Legördülő menüből kiválasztható az időpont
E42: Egyetértek:
A45: Az aláírásra jogosult személy nevét kérjük feltüntetni!
C46: =E8 -> 0 | E46: =E11 -> 0
C47: javaslattevő | E47: munkáltatói jogkör gyakorlója
C48: Dátum: | E48: (ha nem azonos a javaslattevő személyével)
E49: Dátum:
C51: A kitüntetés oklevéllel és pénzjutalommal jár, a pénzjutalom összege 600 000 Ft, amely az erre a célra létrehozott központi keretet terheli.

Sheet Munka2
A1: rektor
A2: kancellár
A3: rektorhelyettes
A4: dékán
A5: szervezeti egység vezetője

Sheet Munka1
A1: Beérkezés dátuma | B1: Kitüntetés neve | C1: Iktatószám | D1: Ügyintéző | E1: Javaslattevő neve | F1: Javaslattevő tisztsége | G1: Javaslattevő szervezeti egysége | H1: Munkáltatói jogkör gyakorlója | I1: Kitüntetésre javasolt munkavállaló neve | J1: Szervezeti egysége | K1: SAP törzsszám | L1: Születési hely | M1: Születési idő | N1: Munkakörének megnevezése | O1: E-mail címe (értesítéshez) | P1: Telefonszám (értesítéshez) | Q1: Kitüntetés megnevezése | R1: Évszáma | S1: A kitüntetés átadásának javasolt időpontja
B2: ='Kiváló Dolgozó'!B4 -> Semmelweis Egyetem Kiváló Dolgozója | C2: ='Kiváló Dolgozó'!F1 -> 0 | D2: ='Kiváló Dolgozó'!F2 -> 0 | E2: ='Kiváló Dolgozó'!E8 -> 0 | F2: ='Kiváló Dolgozó'!E9 -> 0 | G2: ='Kiváló Dolgozó'!E10 -> 0 | H2: ='Kiváló Dolgozó'!E11 -> 0 | I2: ='Kiváló Dolgozó'!E15 -> 0 | J2: ='Kiváló Dolgozó'!E16 -> 0 | K2: ='Kiváló Dolgozó'!E17 -> 0 | L2: ='Kiváló Dolgozó'!E18 -> 0 | M2: ='Kiváló Dolgozó'!E19 -> 0 | N2: ='Kiváló Dolgozó'!E20 -> 0 | O2: ='Kiváló Dolgozó'!E21 -> 0 | P2: ='Kiváló Dolgozó'!E22 -> 0 | Q2: ='Kiváló Dolgozó'!C33 -> 0 | R2: ='Kiváló Dolgozó'!E33 -> 0 | S2: ='Kiváló Dolgozó'!C41 -> 0
Q3: ='Kiváló Dolgozó'!C34 -> 0 | R3: ='Kiváló Dolgozó'!E34 -> 0
Q4: ='Kiváló Dolgozó'!C35 -> 0 | R4: ='Kiváló Dolgozó'!E35 -> 0
