Workbook

Sheet likvid terv
A1: PNYR azonosító | D1: Overhead alapja: | H1: Overhead mértéke:
A2: Pénznem | C2: Pénzügyi tétel | D2: 2027. | Q2: Tervezett felhasználás összesen
A3: összesítő | D3: január | E3: február | F3: március | G3: április | H3: május | I3: június | J3: július | K3: augusztus | L3: szeptember | M3: október | N3: november | O3: december | P3: összesen
D4: 1 | E4: 2 | F4: 3 | G4: 4 | H4: 5 | I4: 6 | J4: 7 | K4: 8 | L4: 9 | M4: 10 | N4: 11 | O4: 12
A5: =$A$3 -> összesítő | B5: T21 | C5: Munkavállalói alapbér (Rendszeres személyi juttatás ) | D5: =+D34+D63+D92+D121+D150+D179+D208+D237+D266+D295 -> 0 | E5: =+E34+E63+E92+E121+E150+E179+E208+E237+E266+E295 -> 0 | F5: =+F34+F63+F92+F121+F150+F179+F208+F237+F266+F295 -> 0 | G5: =+G34+G63+G92+G121+G150+G179+G208+G237+G266+G295 -> 0 | H5: =+H34+H63+H92+H121+H150+H179+H208+H237+H266+H295 -> 0 | I5: =+I34+I63+I92+I121+I150+I179+I208+I237+I266+I295 -> 0 | J5: =+J34+J63+J92+J121+J150+J179+J208+J237+J266+J295 -> 0 | K5: =+K34+K63+K92+K121+K150+K179+K208+K237+K266+K295 -> 0 | ... P5: =+P34+P63+P92+P121+P150+P179+P208+P237+P266+P295 -> 0 | R5: =VLOOKUP(C5,adatok!$C:$F,3,FALSE) -> 8
A6: =$A$3 -> összesítő | B6: T21 | C6: Munkavállalói többletkifizetés (Időszakos személyi juttatás) | D6: =+D35+D64+D93+D122+D151+D180+D209+D238+D267+D296 -> 0 | E6: =+E35+E64+E93+E122+E151+E180+E209+E238+E267+E296 -> 0 | F6: =+F35+F64+F93+F122+F151+F180+F209+F238+F267+F296 -> 0 | G6: =+G35+G64+G93+G122+G151+G180+G209+G238+G267+G296 -> 0 | H6: =+H35+H64+H93+H122+H151+H180+H209+H238+H267+H296 -> 0 | I6: =+I35+I64+I93+I122+I151+I180+I209+I238+I267+I296 -> 0 | J6: =+J35+J64+J93+J122+J151+J180+J209+J238+J267+J296 -> 0 | K6: =+K35+K64+K93+K122+K151+K180+K209+K238+K267+K296 -> 0 | ... P6: =+P35+P64+P93+P122+P151+P180+P209+P238+P267+P296 -> 0 | R6: =VLOOKUP(C6,adatok!$C:$F,3,FALSE) -> 9
A7: =$A$3 -> összesítő | B7: T21 | C7: Külső személyi juttatás | D7: =+D36+D65+D94+D123+D152+D181+D210+D239+D268+D297 -> 0 | E7: =+E36+E65+E94+E123+E152+E181+E210+E239+E268+E297 -> 0 | F7: =+F36+F65+F94+F123+F152+F181+F210+F239+F268+F297 -> 0 | G7: =+G36+G65+G94+G123+G152+G181+G210+G239+G268+G297 -> 0 | H7: =+H36+H65+H94+H123+H152+H181+H210+H239+H268+H297 -> 0 | I7: =+I36+I65+I94+I123+I152+I181+I210+I239+I268+I297 -> 0 | J7: =+J36+J65+J94+J123+J152+J181+J210+J239+J268+J297 -> 0 | K7: =+K36+K65+K94+K123+K152+K181+K210+K239+K268+K297 -> 0 | ... P7: =+P36+P65+P94+P123+P152+P181+P210+P239+P268+P297 -> 0 | R7: =VLOOKUP(C7,adatok!$C:$F,3,FALSE) -> 10
A8: =$A$3 -> összesítő | B8: T21 | C8: Személyi költségek | D8: =+D37+D66+D95+D124+D153+D182+D211+D240+D269+D298 -> 0 | E8: =+E37+E66+E95+E124+E153+E182+E211+E240+E269+E298 -> 0 | F8: =+F37+F66+F95+F124+F153+F182+F211+F240+F269+F298 -> 0 | G8: =+G37+G66+G95+G124+G153+G182+G211+G240+G269+G298 -> 0 | H8: =+H37+H66+H95+H124+H153+H182+H211+H240+H269+H298 -> 0 | I8: =+I37+I66+I95+I124+I153+I182+I211+I240+I269+I298 -> 0 | J8: =+J37+J66+J95+J124+J153+J182+J211+J240+J269+J298 -> 0 | K8: =+K37+K66+K95+K124+K153+K182+K211+K240+K269+K298 -> 0 | ... P8: =+P37+P66+P95+P124+P153+P182+P211+P240+P269+P298 -> 0 | R8: =VLOOKUP(C8,adatok!$C:$F,3,FALSE) -> 1
A9: =$A$3 -> összesítő | B9: T23 | C9: Járulékok | D9: =+D38+D67+D96+D125+D154+D183+D212+D241+D270+D299 -> 0 | E9: =+E38+E67+E96+E125+E154+E183+E212+E241+E270+E299 -> 0 | F9: =+F38+F67+F96+F125+F154+F183+F212+F241+F270+F299 -> 0 | G9: =+G38+G67+G96+G125+G154+G183+G212+G241+G270+G299 -> 0 | H9: =+H38+H67+H96+H125+H154+H183+H212+H241+H270+H299 -> 0 | I9: =+I38+I67+I96+I125+I154+I183+I212+I241+I270+I299 -> 0 | J9: =+J38+J67+J96+J125+J154+J183+J212+J241+J270+J299 -> 0 | K9: =+K38+K67+K96+K125+K154+K183+K212+K241+K270+K299 -> 0 | ... P9: =+P38+P67+P96+P125+P154+P183+P212+P241+P270+P299 -> 0 | R9: =VLOOKUP(C9,adatok!$C:$F,3,FALSE) -> 2
A10: =$A$3 -> összesítő | B10: T41 | C10: Overhead - általános költségek | D10: =+D39+D68+D97+D126+D155+D184+D213+D242+D271+D300 -> 0 | E10: =+E39+E68+E97+E126+E155+E184+E213+E242+E271+E300 -> 0 | F10: =+F39+F68+F97+F126+F155+F184+F213+F242+F271+F300 -> 0 | G10: =+G39+G68+G97+G126+G155+G184+G213+G242+G271+G300 -> 0 | H10: =+H39+H68+H97+H126+H155+H184+H213+H242+H271+H300 -> 0 | I10: =+I39+I68+I97+I126+I155+I184+I213+I242+I271+I300 -> 0 | J10: =+J39+J68+J97+J126+J155+J184+J213+J242+J271+J300 -> 0 | K10: =+K39+K68+K97+K126+K155+K184+K213+K242+K271+K300 -> 0 | ... P10: =+P39+P68+P97+P126+P155+P184+P213+P242+P271+P300 -> 0 | R10: =VLOOKUP(C10,adatok!$C:$F,3,FALSE) -> 3
A11: =$A$3 -> összesítő | B11: T27 | C11: Vegyszerek költségei | D11: =+D40+D69+D98+D127+D156+D185+D214+D243+D272+D301 -> 0 | E11: =+E40+E69+E98+E127+E156+E185+E214+E243+E272+E301 -> 0 | F11: =+F40+F69+F98+F127+F156+F185+F214+F243+F272+F301 -> 0 | G11: =+G40+G69+G98+G127+G156+G185+G214+G243+G272+G301 -> 0 | H11: =+H40+H69+H98+H127+H156+H185+H214+H243+H272+H301 -> 0 | I11: =+I40+I69+I98+I127+I156+I185+I214+I243+I272+I301 -> 0 | J11: =+J40+J69+J98+J127+J156+J185+J214+J243+J272+J301 -> 0 | K11: =+K40+K69+K98+K127+K156+K185+K214+K243+K272+K301 -> 0 | ... P11: =+P40+P69+P98+P127+P156+P185+P214+P243+P272+P301 -> 0 | R11: =VLOOKUP(C11,adatok!$C:$F,3,FALSE) -> 20
A12: =$A$3 -> összesítő | B12: T27 | C12: Szakmai anyagok költségei | D12: =+D41+D70+D99+D128+D157+D186+D215+D244+D273+D302 -> 0 | E12: =+E41+E70+E99+E128+E157+E186+E215+E244+E273+E302 -> 0 | F12: =+F41+F70+F99+F128+F157+F186+F215+F244+F273+F302 -> 0 | G12: =+G41+G70+G99+G128+G157+G186+G215+G244+G273+G302 -> 0 | H12: =+H41+H70+H99+H128+H157+H186+H215+H244+H273+H302 -> 0 | I12: =+I41+I70+I99+I128+I157+I186+I215+I244+I273+I302 -> 0 | J12: =+J41+J70+J99+J128+J157+J186+J215+J244+J273+J302 -> 0 | K12: =+K41+K70+K99+K128+K157+K186+K215+K244+K273+K302 -> 0 | ... P12: =+P41+P70+P99+P128+P157+P186+P215+P244+P273+P302 -> 0 | R12: =VLOOKUP(C12,adatok!$C:$F,3,FALSE) -> 21
A13: =$A$3 -> összesítő | B13: T27 | C13: Egyéb anyagok | D13: =+D42+D71+D100+D129+D158+D187+D216+D245+D274+D303 -> 0 | E13: =+E42+E71+E100+E129+E158+E187+E216+E245+E274+E303 -> 0 | F13: =+F42+F71+F100+F129+F158+F187+F216+F245+F274+F303 -> 0 | G13: =+G42+G71+G100+G129+G158+G187+G216+G245+G274+G303 -> 0 | H13: =+H42+H71+H100+H129+H158+H187+H216+H245+H274+H303 -> 0 | I13: =+I42+I71+I100+I129+I158+I187+I216+I245+I274+I303 -> 0 | J13: =+J42+J71+J100+J129+J158+J187+J216+J245+J274+J303 -> 0 | K13: =+K42+K71+K100+K129+K158+K187+K216+K245+K274+K303 -> 0 | ... P13: =+P42+P71+P100+P129+P158+P187+P216+P245+P274+P303 -> 0 | R13: =VLOOKUP(C13,adatok!$C:$F,3,FALSE) -> 22
A14: =$A$3 -> összesítő | B14: T27 | C14: Terápiás - szakmai anyagköltség | D14: =+D43+D72+D101+D130+D159+D188+D217+D246+D275+D304 -> 0 | E14: =+E43+E72+E101+E130+E159+E188+E217+E246+E275+E304 -> 0 | F14: =+F43+F72+F101+F130+F159+F188+F217+F246+F275+F304 -> 0 | G14: =+G43+G72+G101+G130+G159+G188+G217+G246+G275+G304 -> 0 | H14: =+H43+H72+H101+H130+H159+H188+H217+H246+H275+H304 -> 0 | I14: =+I43+I72+I101+I130+I159+I188+I217+I246+I275+I304 -> 0 | J14: =+J43+J72+J101+J130+J159+J188+J217+J246+J275+J304 -> 0 | K14: =+K43+K72+K101+K130+K159+K188+K217+K246+K275+K304 -> 0 | ... P14: =+P43+P72+P101+P130+P159+P188+P217+P246+P275+P304 -> 0 | R14: =VLOOKUP(C14,adatok!$C:$F,3,FALSE) -> 4
A15: =$A$3 -> összesítő | B15: T28 | C15: Számlás megbízási költségek | D15: =+D44+D73+D102+D131+D160+D189+D218+D247+D276+D305 -> 0 | E15: =+E44+E73+E102+E131+E160+E189+E218+E247+E276+E305 -> 0 | F15: =+F44+F73+F102+F131+F160+F189+F218+F247+F276+F305 -> 0 | G15: =+G44+G73+G102+G131+G160+G189+G218+G247+G276+G305 -> 0 | H15: =+H44+H73+H102+H131+H160+H189+H218+H247+H276+H305 -> 0 | I15: =+I44+I73+I102+I131+I160+I189+I218+I247+I276+I305 -> 0 | J15: =+J44+J73+J102+J131+J160+J189+J218+J247+J276+J305 -> 0 | K15: =+K44+K73+K102+K131+K160+K189+K218+K247+K276+K305 -> 0 | ... P15: =+P44+P73+P102+P131+P160+P189+P218+P247+P276+P305 -> 0 | R15: =VLOOKUP(C15,adatok!$C:$F,3,FALSE) -> 23
A16: =$A$3 -> összesítő | B16: T28 | C16: Javítás, karbantartás költsége | D16: =+D45+D74+D103+D132+D161+D190+D219+D248+D277+D306 -> 0 | E16: =+E45+E74+E103+E132+E161+E190+E219+E248+E277+E306 -> 0 | F16: =+F45+F74+F103+F132+F161+F190+F219+F248+F277+F306 -> 0 | G16: =+G45+G74+G103+G132+G161+G190+G219+G248+G277+G306 -> 0 | H16: =+H45+H74+H103+H132+H161+H190+H219+H248+H277+H306 -> 0 | I16: =+I45+I74+I103+I132+I161+I190+I219+I248+I277+I306 -> 0 | J16: =+J45+J74+J103+J132+J161+J190+J219+J248+J277+J306 -> 0 | K16: =+K45+K74+K103+K132+K161+K190+K219+K248+K277+K306 -> 0 | ... P16: =+P45+P74+P103+P132+P161+P190+P219+P248+P277+P306 -> 0 | R16: =VLOOKUP(C16,adatok!$C:$F,3,FALSE) -> 24
... A29: =$A$3 -> összesítő | B29: T31 | C29: Jármuvek | D29: =+D58+D87+D116+D145+D174+D203+D232+D261+D290+D319 -> 0 | E29: =+E58+E87+E116+E145+E174+E203+E232+E261+E290+E319 -> 0 | F29: =+F58+F87+F116+F145+F174+F203+F232+F261+F290+F319 -> 0 | G29: =+G58+G87+G116+G145+G174+G203+G232+G261+G290+G319 -> 0 | H29: =+H58+H87+H116+H145+H174+H203+H232+H261+H290+H319 -> 0 | I29: =+I58+I87+I116+I145+I174+I203+I232+I261+I290+I319 -> 0 | J29: =+J58+J87+J116+J145+J174+J203+J232+J261+J290+J319 -> 0 | K29: =+K58+K87+K116+K145+K174+K203+K232+K261+K290+K319 -> 0 | ... P29: =+P58+P87+P116+P145+P174+P203+P232+P261+P290+P319 -> 0 | R29: =VLOOKUP(C29,adatok!$C:$F,3,FALSE) -> 19
A30: =$A$3 -> összesítő | B30: T31 | C30: Felhalmozási kiadások | D30: =+D59+D88+D117+D146+D175+D204+D233+D262+D291+D320 -> 0 | E30: =+E59+E88+E117+E146+E175+E204+E233+E262+E291+E320 -> 0 | F30: =+F59+F88+F117+F146+F175+F204+F233+F262+F291+F320 -> 0 | G30: =+G59+G88+G117+G146+G175+G204+G233+G262+G291+G320 -> 0 | H30: =+H59+H88+H117+H146+H175+H204+H233+H262+H291+H320 -> 0 | I30: =+I59+I88+I117+I146+I175+I204+I233+I262+I291+I320 -> 0 | J30: =+J59+J88+J117+J146+J175+J204+J233+J262+J291+J320 -> 0 | K30: =+K59+K88+K117+K146+K175+K204+K233+K262+K291+K320 -> 0 | ... P30: =+P59+P88+P117+P146+P175+P204+P233+P262+P291+P320 -> 0 | Q30: =+P8+P9+P10+P14+P20+P21+P30 -> 0 | R30: =VLOOKUP(C30,adatok!$C:$F,3,FALSE) -> 6
A31: =$A$3 -> összesítő | B31: Bevétel | C31: Bevétel (pénzforgalmi előleg/támogatás) | D31: =+D60+D89+D118+D147+D176+D205+D234+D263+D292+D321 -> 0 | E31: =+E60+E89+E118+E147+E176+E205+E234+E263+E292+E321 -> 0 | F31: =+F60+F89+F118+F147+F176+F205+F234+F263+F292+F321 -> 0 | G31: =+G60+G89+G118+G147+G176+G205+G234+G263+G292+G321 -> 0 | H31: =+H60+H89+H118+H147+H176+H205+H234+H263+H292+H321 -> 0 | I31: =+I60+I89+I118+I147+I176+I205+I234+I263+I292+I321 -> 0 | J31: =+J60+J89+J118+J147+J176+J205+J234+J263+J292+J321 -> 0 | K31: =+K60+K89+K118+K147+K176+K205+K234+K263+K292+K321 -> 0 | ... P31: =+P60+P89+P118+P147+P176+P205+P234+P263+P292+P321 -> 0 | R31: =VLOOKUP(C31,adatok!$C:$F,3,FALSE) -> #N/A
C32: Pénzügyi tétel | D32: 2027. | R32: =VLOOKUP(C32,adatok!$C:$F,3,FALSE) -> #N/A
A33: PST | D33: január | E33: február | F33: március | G33: április | H33: május | I33: június | J33: július | K33: augusztus | L33: szeptember | M33: október | N33: november | O33: december | P33: összesen | R33: =VLOOKUP(C33,adatok!$C:$F,3,FALSE) -> #N/A
A34: =$B$33 -> 0 | B34: =B5 -> T21 | C34: =C5 -> Munkavállalói alapbér (Rendszeres személyi juttatás ) | P34: =SUM(D34:O34) -> 0 | R34: =VLOOKUP(C34,adatok!$C:$F,3,FALSE) -> 8
A35: =$B$33 -> 0 | B35: =B6 -> T21 | C35: =C6 -> Munkavállalói többletkifizetés (Időszakos személyi juttatás) | P35: =SUM(D35:O35) -> 0 | R35: =VLOOKUP(C35,adatok!$C:$F,3,FALSE) -> 9
A36: =$B$33 -> 0 | B36: =B7 -> T21 | C36: =C7 -> Külső személyi juttatás | P36: =SUM(D36:O36) -> 0 | R36: =VLOOKUP(C36,adatok!$C:$F,3,FALSE) -> 10
A37: =$B$33 -> 0 | B37: =B8 -> T21 | C37: =C8 -> Személyi költségek | D37: =+D34+D35+D36 -> 0 | E37: =+E34+E35+E36 -> 0 | F37: =+F34+F35+F36 -> 0 | G37: =+G34+G35+G36 -> 0 | H37: =+H34+H35+H36 -> 0 | I37: =+I34+I35+I36 -> 0 | J37: =+J34+J35+J36 -> 0 | K37: =+K34+K35+K36 -> 0 | ... O37: =+O34+O35+O36 -> 0 | P37: =SUM(D37:O37) -> 0 | R37: =VLOOKUP(C37,adatok!$C:$F,3,FALSE) -> 1
A38: =$B$33 -> 0 | B38: =B9 -> T23 | C38: =C9 -> Járulékok | D38: =+IF($B$2="Magyar forint",ROUND((D34+D35)*0.13+D36*0.9*0.13,0),ROUND((D34+D35)*0.13+D36*0.9*0.13,2)) -> 0 | E38: =+IF($B$2="Magyar forint",ROUND((E34+E35)*0.13+E36*0.9*0.13,0),ROUND((E34+E35)*0.13+E36*0.9*0.13,2)) -> 0 | F38: =+IF($B$2="Magyar forint",ROUND((F34+F35)*0.13+F36*0.9*0.13,0),ROUND((F34+F35)*0.13+F36*0.9*0.13,2)) -> 0 | G38: =+IF($B$2="Magyar forint",ROUND((G34+G35)*0.13+G36*0.9*0.13,0),ROUND((G34+G35)*0.13+G36*0.9*0.13,2)) -> 0 | H38: =+IF($B$2="Magyar forint",ROUND((H34+H35)*0.13+H36*0.9*0.13,0),ROUND((H34+H35)*0.13+H36*0.9*0.13,2)) -> 0 | I38: =+IF($B$2="Magyar forint",ROUND((I34+I35)*0.13+I36*0.9*0.13,0),ROUND((I34+I35)*0.13+I36*0.9*0.13,2)) -> 0 | J38: =+IF($B$2="Magyar forint",ROUND((J34+J35)*0.13+J36*0.9*0.13,0),ROUND((J34+J35)*0.13+J36*0.9*0.13,2)) -> 0 | K38: =+IF($B$2="Magyar forint",ROUND((K34+K35)*0.13+K36*0.9*0.13,0),ROUND((K34+K35)*0.13+K36*0.9*0.13,2)) -> 0 | ... O38: =+IF($B$2="Magyar forint",ROUND((O34+O35)*0.13+O36*0.9*0.13,0),ROUND((O34+O35)*0.13+O36*0.9*0.13,2)) -> 0 | P38: =SUM(D38:O38) -> 0 | R38: =VLOOKUP(C38,adatok!$C:$F,3,FALSE) -> 2
A39: =$B$33 -> 0 | B39: =B10 -> T41 | C39: =C10 -> Overhead - általános költségek | D39: {=IF($B$2="Magyar forint",ROUND(IFERROR(_xlfn.IFS($F$1="a pályázat összköltsége",((+D37+D38+D43+D49+D50+D59)/(1-$J$1))*$J$1,$F$1="a pályázat közvetlen költsége",(+D37+D38+D43+D49+D50+D59)*$J$1,$F$1="személyi költségek",(+D37+D38)*$J$1,$F$1="közvetlen költség Szolgáltatás (52) nélkül",(+D37+D38+#REF!+D50+D59)*$J$1),0),0),ROUND(IFERROR(_xlfn.IFS($F$1="a pályázat összköltsége",((+D37+D38+D43+D49+D50+D59)/(1-$J$1))*$J$1,$F$1="a pályázat közvetlen költsége",(+D37+D38+D43+D49+D50+D59)*$J$1,$F$1="személyi költségek",(+D37+D38)*$J$1,$F$1="közvetlen költség Szolgáltatás (52) nélkül",(+D37+D38+D43+D50+D59)*$J$1),0),2))} -> 0 | E39: {=IF($B$2="Magyar forint",ROUND(IFERROR(_xlfn.IFS($F$1="a pályázat összköltsége",((+E37+E38+E43+E49+E50+E59)/(1-$J$1))*$J$1,$F$1="a pályázat közvetlen költsége",(+E37+E38+E43+E49+E50+E59)*$J$1,$F$1="személyi költségek",(+E37+E38)*$J$1,$F$1="közvetlen költség Szolgáltatás (52) nélkül",(+E37+E38+#REF!+E50+E59)*$J$1),0),0),ROUND(IFERROR(_xlfn.IFS($F$1="a pályázat összköltsége",((+E37+E38+E43+E49+E50+E59)/(1-$J$1))*$J$1,$F$1="a pályázat közvetlen költsége",(+E37+E38+E43+E49+E50+E59)*$J$1,$F$1="személyi költségek",(+E37+E38)*$J$1,$F$1="közvetlen költség Szolgáltatás (52) nélkül",(+E37+E38+E43+E50+E59)*$J$1),0),2))} -> 0 | F39: {=IF($B$2="Magyar forint",ROUND(IFERROR(_xlfn.IFS($F$1="a pályázat összköltsége",((+F37+F38+F43+F49+F50+F59)/(1-$J$1))*$J$1,$F$1="a pályázat közvetlen költsége",(+F37+F38+F43+F49+F50+F59)*$J$1,$F$1="személyi költségek",(+F37+F38)*$J$1,$F$1="közvetlen költség Szolgáltatás (52) nélkül",(+F37+F38+#REF!+F50+F59)*$J$1),0),0),ROUND(IFERROR(_xlfn.IFS($F$1="a pályázat összköltsége",((+F37+F38+F43+F49+F50+F59)/(1-$J$1))*$J$1,$F$1="a pályázat közvetlen költsége",(+F37+F38+F43+F49+F50+F59)*$J$1,$F$1="személyi költségek",(+F37+F38)*$J$1,$F$1="közvetlen költség Szolgáltatás (52) nélkül",(+F37+F38+F43+F50+F59)*$J$1),0),2))} -> 0 | G39: {=IF($B$2="Magyar forint",ROUND(IFERROR(_xlfn.IFS($F$1="a pályázat összköltsége",((+G37+G38+G43+G49+G50+G59)/(1-$J$1))*$J$1,$F$1="a pályázat közvetlen költsége",(+G37+G38+G43+G49+G50+G59)*$J$1,$F$1="személyi költségek",(+G37+G38)*$J$1,$F$1="közvetlen költség Szolgáltatás (52) nélkül",(+G37+G38+#REF!+G50+G59)*$J$1),0),0),ROUND(IFERROR(_xlfn.IFS($F$1="a pályázat összköltsége",((+G37+G38+G43+G49+G50+G59)/(1-$J$1))*$J$1,$F$1="a pályázat közvetlen költsége",(+G37+G38+G43+G49+G50+G59)*$J$1,$F$1="személyi költségek",(+G37+G38)*$J$1,$F$1="közvetlen költség Szolgáltatás (52) nélkül",(+G37+G38+G43+G50+G59)*$J$1),0),2))} -> 0 | H39: {=IF($B$2="Magyar forint",ROUND(IFERROR(_xlfn.IFS($F$1="a pályázat összköltsége",((+H37+H38+H43+H49+H50+H59)/(1-$J$1))*$J$1,$F$1="a pályázat közvetlen költsége",(+H37+H38+H43+H49+H50+H59)*$J$1,$F$1="személyi költségek",(+H37+H38)*$J$1,$F$1="közvetlen költség Szolgáltatás (52) nélkül",(+H37+H38+#REF!+H50+H59)*$J$1),0),0),ROUND(IFERROR(_xlfn.IFS($F$1="a pályázat összköltsége",((+H37+H38+H43+H49+H50+H59)/(1-$J$1))*$J$1,$F$1="a pályázat közvetlen költsége",(+H37+H38+H43+H49+H50+H59)*$J$1,$F$1="személyi költségek",(+H37+H38)*$J$1,$F$1="közvetlen költség Szolgáltatás (52) nélkül",(+H37+H38+H43+H50+H59)*$J$1),0),2))} -> 0 | I39: {=IF($B$2="Magyar forint",ROUND(IFERROR(_xlfn.IFS($F$1="a pályázat összköltsége",((+I37+I38+I43+I49+I50+I59)/(1-$J$1))*$J$1,$F$1="a pályázat közvetlen költsége",(+I37+I38+I43+I49+I50+I59)*$J$1,$F$1="személyi költségek",(+I37+I38)*$J$1,$F$1="közvetlen költség Szolgáltatás (52) nélkül",(+I37+I38+#REF!+I50+I59)*$J$1),0),0),ROUND(IFERROR(_xlfn.IFS($F$1="a pályázat összköltsége",((+I37+I38+I43+I49+I50+I59)/(1-$J$1))*$J$1,$F$1="a pályázat közvetlen költsége",(+I37+I38+I43+I49+I50+I59)*$J$1,$F$1="személyi költségek",(+I37+I38)*$J$1,$F$1="közvetlen költség Szolgáltatás (52) nélkül",(+I37+I38+I43+I50+I59)*$J$1),0),2))} -> 0 | J39: {=IF($B$2="Magyar forint",ROUND(IFERROR(_xlfn.IFS($F$1="a pályázat összköltsége",((+J37+J38+J43+J49+J50+J59)/(1-$J$1))*$J$1,$F$1="a pályázat közvetlen költsége",(+J37+J38+J43+J49+J50+J59)*$J$1,$F$1="személyi költségek",(+J37+J38)*$J$1,$F$1="közvetlen költség Szolgáltatás (52) nélkül",(+J37+J38+#REF!+J50+J59)*$J$1),0),0),ROUND(IFERROR(_xlfn.IFS($F$1="a pályázat összköltsége",((+J37+J38+J43+J49+J50+J59)/(1-$J$1))*$J$1,$F$1="a pályázat közvetlen költsége",(+J37+J38+J43+J49+J50+J59)*$J$1,$F$1="személyi költségek",(+J37+J38)*$J$1,$F$1="közvetlen költség Szolgáltatás (52) nélkül",(+J37+J38+J43+J50+J59)*$J$1),0),2))} -> 0 | K39: {=IF($B$2="Magyar forint",ROUND(IFERROR(_xlfn.IFS($F$1="a pályázat összköltsége",((+K37+K38+K43+K49+K50+K59)/(1-$J$1))*$J$1,$F$1="a pályázat közvetlen költsége",(+K37+K38+K43+K49+K50+K59)*$J$1,$F$1="személyi költségek",(+K37+K38)*$J$1,$F$1="közvetlen költség Szolgáltatás (52) nélkül",(+K37+K38+#REF!+K50+K59)*$J$1),0),0),ROUND(IFERROR(_xlfn.IFS($F$1="a pályázat összköltsége",((+K37+K38+K43+K49+K50+K59)/(1-$J$1))*$J$1,$F$1="a pályázat közvetlen költsége",(+K37+K38+K43+K49+K50+K59)*$J$1,$F$1="személyi költségek",(+K37+K38)*$J$1,$F$1="közvetlen költség Szolgáltatás (52) nélkül",(+K37+K38+K43+K50+K59)*$J$1),0),2))} -> 0 | ... O39: {=IF($B$2="Magyar forint",ROUND(IFERROR(_xlfn.IFS($F$1="a pályázat összköltsége",((+O37+O38+O43+O49+O50+O59)/(1-$J$1))*$J$1,$F$1="a pályázat közvetlen költsége",(+O37+O38+O43+O49+O50+O59)*$J$1,$F$1="személyi költségek",(+O37+O38)*$J$1,$F$1="közvetlen költség Szolgáltatás (52) nélkül",(+O37+O38+#REF!+O50+O59)*$J$1),0),0),ROUND(IFERROR(_xlfn.IFS($F$1="a pályázat összköltsége",((+O37+O38+O43+O49+O50+O59)/(1-$J$1))*$J$1,$F$1="a pályázat közvetlen költsége",(+O37+O38+O43+O49+O50+O59)*$J$1,$F$1="személyi költségek",(+O37+O38)*$J$1,$F$1="közvetlen költség Szolgáltatás (52) nélkül",(+O37+O38+O43+O50+O59)*$J$1),0),2))} -> 0 | P39: =SUM(D39:O39) -> 0 | R39: =VLOOKUP(C39,adatok!$C:$F,3,FALSE) -> 3
A40: =$B$33 -> 0 | B40: =B11 -> T27 | C40: =C11 -> Vegyszerek költségei | P40: =SUM(D40:O40) -> 0 | R40: =VLOOKUP(C40,adatok!$C:$F,3,FALSE) -> 20
A41: =$B$33 -> 0 | B41: =B12 -> T27 | C41: =C12 -> Szakmai anyagok költségei | P41: =SUM(D41:O41) -> 0 | R41: =VLOOKUP(C41,adatok!$C:$F,3,FALSE) -> 21
A42: =$B$33 -> 0 | B42: =B13 -> T27 | C42: =C13 -> Egyéb anyagok | P42: =SUM(D42:O42) -> 0 | R42: =VLOOKUP(C42,adatok!$C:$F,3,FALSE) -> 22
A43: =$B$33 -> 0 | B43: =B14 -> T27 | C43: =C14 -> Terápiás - szakmai anyagköltség | D43: =+D40+D41+D42 -> 0 | E43: =+E40+E41+E42 -> 0 | F43: =+F40+F41+F42 -> 0 | G43: =+G40+G41+G42 -> 0 | H43: =+H40+H41+H42 -> 0 | I43: =+I40+I41+I42 -> 0 | J43: =+J40+J41+J42 -> 0 | K43: =+K40+K41+K42 -> 0 | ... O43: =+O40+O41+O42 -> 0 | P43: =SUM(D43:O43) -> 0 | R43: =VLOOKUP(C43,adatok!$C:$F,3,FALSE) -> 4
A44: =$B$33 -> 0 | B44: =B15 -> T28 | C44: =C15 -> Számlás megbízási költségek | P44: =SUM(D44:O44) -> 0 | R44: =VLOOKUP(C44,adatok!$C:$F,3,FALSE) -> 23
A45: =$B$33 -> 0 | B45: =B16 -> T28 | C45: =C16 -> Javítás, karbantartás költsége | P45: =SUM(D45:O45) -> 0 | R45: =VLOOKUP(C45,adatok!$C:$F,3,FALSE) -> 24
A46: =$B$33 -> 0 | B46: =B17 -> T28 | C46: =C17 -> Informatikai szolgáltatás igénybevétele | P46: =SUM(D46:O46) -> 0 | R46: =VLOOKUP(C46,adatok!$C:$F,3,FALSE) -> 25
A47: =$B$33 -> 0 | B47: =B18 -> T28 | C47: =C18 -> Utazási és küldetési költségei ók | P47: =SUM(D47:O47) -> 0 | R47: =VLOOKUP(C47,adatok!$C:$F,3,FALSE) -> 26
A48: =$B$33 -> 0 | B48: =B19 -> T28 | C48: =C19 -> Egyéb szolgáltatások | P48: =SUM(D48:O48) -> 0 | R48: =VLOOKUP(C48,adatok!$C:$F,3,FALSE) -> 27
A49: =$B$33 -> 0 | B49: =B20 -> T28 | C49: =C20 -> Dologi kiadások | D49: =+D44+D45+D46+D47+D48 -> 0 | E49: =+E44+E45+E46+E47+E48 -> 0 | F49: =+F44+F45+F46+F47+F48 -> 0 | G49: =+G44+G45+G46+G47+G48 -> 0 | H49: =+H44+H45+H46+H47+H48 -> 0 | I49: =+I44+I45+I46+I47+I48 -> 0 | J49: =+J44+J45+J46+J47+J48 -> 0 | K49: =+K44+K45+K46+K47+K48 -> 0 | ... O49: =+O44+O45+O46+O47+O48 -> 0 | P49: =SUM(D49:O49) -> 0 | R49: =VLOOKUP(C49,adatok!$C:$F,3,FALSE) -> 5
A50: =$B$33 -> 0 | B50: =B21 -> T29 | C50: =C21 -> Ellátottak pénzbeli juttatásai (Ösztöndíjak 8641300) | P50: =SUM(D50:O50) -> 0 | R50: =VLOOKUP(C50,adatok!$C:$F,3,FALSE) -> 11
A51: =$B$33 -> 0 | B51: =B22 -> T31 | C51: =C22 -> Vagyoni értéku jogok | P51: =SUM(D51:O51) -> 0 | R51: =VLOOKUP(C51,adatok!$C:$F,3,FALSE) -> 12
A52: =$B$33 -> 0 | B52: =B23 -> T31 | C52: =C23 -> Szellemi termékek | P52: =SUM(D52:O52) -> 0 | R52: =VLOOKUP(C52,adatok!$C:$F,3,FALSE) -> 13
...

Sheet project_eves_terv
A1: project | B1: budget | C1: year | D1: month | E1: type | F1: price | G1: devizaId
A2: ='likvid terv'!$B$1 -> 0 | B2: ='likvid terv'!$B$33 -> 0 | C2: 2027 | D2: 1 | E2: 8 | F2: {=_xlfn.IFS(AND($B2<>0,$D2=1),SUMIFS('likvid terv'!$D:$D,'likvid terv'!$A:$A,project_eves_terv!B2,'likvid terv'!$R:$R,project_eves_terv!$E2),AND($B2<>0,$D2=2),SUMIFS('likvid terv'!$E:$E,'likvid terv'!$A:$A,project_eves_terv!B2,'likvid terv'!$R:$R,project_eves_terv!$E2),AND($B2<>0,$D2=3),SUMIFS('likvid terv'!$F:$F,'likvid terv'!$A:$A,project_eves_terv!B2,'likvid terv'!$R:$R,project_eves_terv!$E2),AND($B2<>0,$D2=4),SUMIFS('likvid terv'!$G:$G,'likvid terv'!$A:$A,project_eves_terv!B2,'likvid terv'!$R:$R,project_eves_terv!$E2),AND($B2<>0,$D2=5),SUMIFS('likvid terv'!$H:$H,'likvid terv'!$A:$A,project_eves_terv!B2,'likvid terv'!$R:$R,project_eves_terv!$E2),AND($B2<>0,$D2=6),SUMIFS('likvid terv'!$I:$I,'likvid terv'!$A:$A,project_eves_terv!B2,'likvid terv'!$R:$R,project_eves_terv!$E2),AND($B2<>0,$D2=7),SUMIFS('likvid terv'!$J:$J,'likvid terv'!$A:$A,project_eves_terv!B2,'likvid terv'!$R:$R,project_eves_terv!$E2),AND($B2<>0,$D2=8),SUMIFS('likvid terv'!$K:$K,'likvid terv'!$A:$A,project_eves_terv!B2,'likvid terv'!$R:$R,project_eves_terv!$E2),AND($B2<>0,$D2=9),SUMIFS('likvid terv'!$L:$L,'likvid terv'!$A:$A,project_eves_terv!B2,'likvid terv'!$R:$R,project_eves_terv!$E2),AND($B2<>0,$D2=10),SUMIFS('likvid terv'!$M:$M,'likvid terv'!$A:$A,project_eves_terv!B2,'likvid terv'!$R:$R,project_eves_terv!$E2),AND($B2<>0,$D2=11),SUMIFS('likvid terv'!$N:$N,'likvid terv'!$A:$A,project_eves_terv!B2,'likvid terv'!$R:$R,project_eves_terv!$E2),AND($B2<>0,$D2=12),SUMIFS('likvid terv'!$O:$O,'likvid terv'!$A:$A,project_eves_terv!B2,'likvid terv'!$R:$R,project_eves_terv!$E2),$B2=0,0)} -> 0 | G2: ='likvid terv'!$B$2 -> 0
A3: ='likvid terv'!$B$1 -> 0 | B3: ='likvid terv'!$B$33 -> 0 | C3: 2027 | D3: 2 | E3: 8 | F3: {=_xlfn.IFS(AND($B3<>0,$D3=1),SUMIFS('likvid terv'!$D:$D,'likvid terv'!$A:$A,project_eves_terv!B3,'likvid terv'!$R:$R,project_eves_terv!$E3),AND($B3<>0,$D3=2),SUMIFS('likvid terv'!$E:$E,'likvid terv'!$A:$A,project_eves_terv!B3,'likvid terv'!$R:$R,project_eves_terv!$E3),AND($B3<>0,$D3=3),SUMIFS('likvid terv'!$F:$F,'likvid terv'!$A:$A,project_eves_terv!B3,'likvid terv'!$R:$R,project_eves_terv!$E3),AND($B3<>0,$D3=4),SUMIFS('likvid terv'!$G:$G,'likvid terv'!$A:$A,project_eves_terv!B3,'likvid terv'!$R:$R,project_eves_terv!$E3),AND($B3<>0,$D3=5),SUMIFS('likvid terv'!$H:$H,'likvid terv'!$A:$A,project_eves_terv!B3,'likvid terv'!$R:$R,project_eves_terv!$E3),AND($B3<>0,$D3=6),SUMIFS('likvid terv'!$I:$I,'likvid terv'!$A:$A,project_eves_terv!B3,'likvid terv'!$R:$R,project_eves_terv!$E3),AND($B3<>0,$D3=7),SUMIFS('likvid terv'!$J:$J,'likvid terv'!$A:$A,project_eves_terv!B3,'likvid terv'!$R:$R,project_eves_terv!$E3),AND($B3<>0,$D3=8),SUMIFS('likvid terv'!$K:$K,'likvid terv'!$A:$A,project_eves_terv!B3,'likvid terv'!$R:$R,project_eves_terv!$E3),AND($B3<>0,$D3=9),SUMIFS('likvid terv'!$L:$L,'likvid terv'!$A:$A,project_eves_terv!B3,'likvid terv'!$R:$R,project_eves_terv!$E3),AND($B3<>0,$D3=10),SUMIFS('likvid terv'!$M:$M,'likvid terv'!$A:$A,project_eves_terv!B3,'likvid terv'!$R:$R,project_eves_terv!$E3),AND($B3<>0,$D3=11),SUMIFS('likvid terv'!$N:$N,'likvid terv'!$A:$A,project_eves_terv!B3,'likvid terv'!$R:$R,project_eves_terv!$E3),AND($B3<>0,$D3=12),SUMIFS('likvid terv'!$O:$O,'likvid terv'!$A:$A,project_eves_terv!B3,'likvid terv'!$R:$R,project_eves_terv!$E3),$B3=0,0)} -> 0 | G3: ='likvid terv'!$B$2 -> 0
A4: ='likvid terv'!$B$1 -> 0 | B4: ='likvid terv'!$B$33 -> 0 | C4: 2027 | D4: 3 | E4: 8 | F4: {=_xlfn.IFS(AND($B4<>0,$D4=1),SUMIFS('likvid terv'!$D:$D,'likvid terv'!$A:$A,project_eves_terv!B4,'likvid terv'!$R:$R,project_eves_terv!$E4),AND($B4<>0,$D4=2),SUMIFS('likvid terv'!$E:$E,'likvid terv'!$A:$A,project_eves_terv!B4,'likvid terv'!$R:$R,project_eves_terv!$E4),AND($B4<>0,$D4=3),SUMIFS('likvid terv'!$F:$F,'likvid terv'!$A:$A,project_eves_terv!B4,'likvid terv'!$R:$R,project_eves_terv!$E4),AND($B4<>0,$D4=4),SUMIFS('likvid terv'!$G:$G,'likvid terv'!$A:$A,project_eves_terv!B4,'likvid terv'!$R:$R,project_eves_terv!$E4),AND($B4<>0,$D4=5),SUMIFS('likvid terv'!$H:$H,'likvid terv'!$A:$A,project_eves_terv!B4,'likvid terv'!$R:$R,project_eves_terv!$E4),AND($B4<>0,$D4=6),SUMIFS('likvid terv'!$I:$I,'likvid terv'!$A:$A,project_eves_terv!B4,'likvid terv'!$R:$R,project_eves_terv!$E4),AND($B4<>0,$D4=7),SUMIFS('likvid terv'!$J:$J,'likvid terv'!$A:$A,project_eves_terv!B4,'likvid terv'!$R:$R,project_eves_terv!$E4),AND($B4<>0,$D4=8),SUMIFS('likvid terv'!$K:$K,'likvid terv'!$A:$A,project_eves_terv!B4,'likvid terv'!$R:$R,project_eves_terv!$E4),AND($B4<>0,$D4=9),SUMIFS('likvid terv'!$L:$L,'likvid terv'!$A:$A,project_eves_terv!B4,'likvid terv'!$R:$R,project_eves_terv!$E4),AND($B4<>0,$D4=10),SUMIFS('likvid terv'!$M:$M,'likvid terv'!$A:$A,project_eves_terv!B4,'likvid terv'!$R:$R,project_eves_terv!$E4),AND($B4<>0,$D4=11),SUMIFS('likvid terv'!$N:$N,'likvid terv'!$A:$A,project_eves_terv!B4,'likvid terv'!$R:$R,project_eves_terv!$E4),AND($B4<>0,$D4=12),SUMIFS('likvid terv'!$O:$O,'likvid terv'!$A:$A,project_eves_terv!B4,'likvid terv'!$R:$R,project_eves_terv!$E4),$B4=0,0)} -> 0 | G4: ='likvid terv'!$B$2 -> 0
A5: ='likvid terv'!$B$1 -> 0 | B5: ='likvid terv'!$B$33 -> 0 | C5: 2027 | D5: 4 | E5: 8 | F5: {=_xlfn.IFS(AND($B5<>0,$D5=1),SUMIFS('likvid terv'!$D:$D,'likvid terv'!$A:$A,project_eves_terv!B5,'likvid terv'!$R:$R,project_eves_terv!$E5),AND($B5<>0,$D5=2),SUMIFS('likvid terv'!$E:$E,'likvid terv'!$A:$A,project_eves_terv!B5,'likvid terv'!$R:$R,project_eves_terv!$E5),AND($B5<>0,$D5=3),SUMIFS('likvid terv'!$F:$F,'likvid terv'!$A:$A,project_eves_terv!B5,'likvid terv'!$R:$R,project_eves_terv!$E5),AND($B5<>0,$D5=4),SUMIFS('likvid terv'!$G:$G,'likvid terv'!$A:$A,project_eves_terv!B5,'likvid terv'!$R:$R,project_eves_terv!$E5),AND($B5<>0,$D5=5),SUMIFS('likvid terv'!$H:$H,'likvid terv'!$A:$A,project_eves_terv!B5,'likvid terv'!$R:$R,project_eves_terv!$E5),AND($B5<>0,$D5=6),SUMIFS('likvid terv'!$I:$I,'likvid terv'!$A:$A,project_eves_terv!B5,'likvid terv'!$R:$R,project_eves_terv!$E5),AND($B5<>0,$D5=7),SUMIFS('likvid terv'!$J:$J,'likvid terv'!$A:$A,project_eves_terv!B5,'likvid terv'!$R:$R,project_eves_terv!$E5),AND($B5<>0,$D5=8),SUMIFS('likvid terv'!$K:$K,'likvid terv'!$A:$A,project_eves_terv!B5,'likvid terv'!$R:$R,project_eves_terv!$E5),AND($B5<>0,$D5=9),SUMIFS('likvid terv'!$L:$L,'likvid terv'!$A:$A,project_eves_terv!B5,'likvid terv'!$R:$R,project_eves_terv!$E5),AND($B5<>0,$D5=10),SUMIFS('likvid terv'!$M:$M,'likvid terv'!$A:$A,project_eves_terv!B5,'likvid terv'!$R:$R,project_eves_terv!$E5),AND($B5<>0,$D5=11),SUMIFS('likvid terv'!$N:$N,'likvid terv'!$A:$A,project_eves_terv!B5,'likvid terv'!$R:$R,project_eves_terv!$E5),AND($B5<>0,$D5=12),SUMIFS('likvid terv'!$O:$O,'likvid terv'!$A:$A,project_eves_terv!B5,'likvid terv'!$R:$R,project_eves_terv!$E5),$B5=0,0)} -> 0 | G5: ='likvid terv'!$B$2 -> 0
A6: ='likvid terv'!$B$1 -> 0 | B6: ='likvid terv'!$B$33 -> 0 | C6: 2027 | D6: 5 | E6: 8 | F6: {=_xlfn.IFS(AND($B6<>0,$D6=1),SUMIFS('likvid terv'!$D:$D,'likvid terv'!$A:$A,project_eves_terv!B6,'likvid terv'!$R:$R,project_eves_terv!$E6),AND($B6<>0,$D6=2),SUMIFS('likvid terv'!$E:$E,'likvid terv'!$A:$A,project_eves_terv!B6,'likvid terv'!$R:$R,project_eves_terv!$E6),AND($B6<>0,$D6=3),SUMIFS('likvid terv'!$F:$F,'likvid terv'!$A:$A,project_eves_terv!B6,'likvid terv'!$R:$R,project_eves_terv!$E6),AND($B6<>0,$D6=4),SUMIFS('likvid terv'!$G:$G,'likvid terv'!$A:$A,project_eves_terv!B6,'likvid terv'!$R:$R,project_eves_terv!$E6),AND($B6<>0,$D6=5),SUMIFS('likvid terv'!$H:$H,'likvid terv'!$A:$A,project_eves_terv!B6,'likvid terv'!$R:$R,project_eves_terv!$E6),AND($B6<>0,$D6=6),SUMIFS('likvid terv'!$I:$I,'likvid terv'!$A:$A,project_eves_terv!B6,'likvid terv'!$R:$R,project_eves_terv!$E6),AND($B6<>0,$D6=7),SUMIFS('likvid terv'!$J:$J,'likvid terv'!$A:$A,project_eves_terv!B6,'likvid terv'!$R:$R,project_eves_terv!$E6),AND($B6<>0,$D6=8),SUMIFS('likvid terv'!$K:$K,'likvid terv'!$A:$A,project_eves_terv!B6,'likvid terv'!$R:$R,project_eves_terv!$E6),AND($B6<>0,$D6=9),SUMIFS('likvid terv'!$L:$L,'likvid terv'!$A:$A,project_eves_terv!B6,'likvid terv'!$R:$R,project_eves_terv!$E6),AND($B6<>0,$D6=10),SUMIFS('likvid terv'!$M:$M,'likvid terv'!$A:$A,project_eves_terv!B6,'likvid terv'!$R:$R,project_eves_terv!$E6),AND($B6<>0,$D6=11),SUMIFS('likvid terv'!$N:$N,'likvid terv'!$A:$A,project_eves_terv!B6,'likvid terv'!$R:$R,project_eves_terv!$E6),AND($B6<>0,$D6=12),SUMIFS('likvid terv'!$O:$O,'likvid terv'!$A:$A,project_eves_terv!B6,'likvid terv'!$R:$R,project_eves_terv!$E6),$B6=0,0)} -> 0 | G6: ='likvid terv'!$B$2 -> 0
A7: ='likvid terv'!$B$1 -> 0 | B7: ='likvid terv'!$B$33 -> 0 | C7: 2027 | D7: 6 | E7: 8 | F7: {=_xlfn.IFS(AND($B7<>0,$D7=1),SUMIFS('likvid terv'!$D:$D,'likvid terv'!$A:$A,project_eves_terv!B7,'likvid terv'!$R:$R,project_eves_terv!$E7),AND($B7<>0,$D7=2),SUMIFS('likvid terv'!$E:$E,'likvid terv'!$A:$A,project_eves_terv!B7,'likvid terv'!$R:$R,project_eves_terv!$E7),AND($B7<>0,$D7=3),SUMIFS('likvid terv'!$F:$F,'likvid terv'!$A:$A,project_eves_terv!B7,'likvid terv'!$R:$R,project_eves_terv!$E7),AND($B7<>0,$D7=4),SUMIFS('likvid terv'!$G:$G,'likvid terv'!$A:$A,project_eves_terv!B7,'likvid terv'!$R:$R,project_eves_terv!$E7),AND($B7<>0,$D7=5),SUMIFS('likvid terv'!$H:$H,'likvid terv'!$A:$A,project_eves_terv!B7,'likvid terv'!$R:$R,project_eves_terv!$E7),AND($B7<>0,$D7=6),SUMIFS('likvid terv'!$I:$I,'likvid terv'!$A:$A,project_eves_terv!B7,'likvid terv'!$R:$R,project_eves_terv!$E7),AND($B7<>0,$D7=7),SUMIFS('likvid terv'!$J:$J,'likvid terv'!$A:$A,project_eves_terv!B7,'likvid terv'!$R:$R,project_eves_terv!$E7),AND($B7<>0,$D7=8),SUMIFS('likvid terv'!$K:$K,'likvid terv'!$A:$A,project_eves_terv!B7,'likvid terv'!$R:$R,project_eves_terv!$E7),AND($B7<>0,$D7=9),SUMIFS('likvid terv'!$L:$L,'likvid terv'!$A:$A,project_eves_terv!B7,'likvid terv'!$R:$R,project_eves_terv!$E7),AND($B7<>0,$D7=10),SUMIFS('likvid terv'!$M:$M,'likvid terv'!$A:$A,project_eves_terv!B7,'likvid terv'!$R:$R,project_eves_terv!$E7),AND($B7<>0,$D7=11),SUMIFS('likvid terv'!$N:$N,'likvid terv'!$A:$A,project_eves_terv!B7,'likvid terv'!$R:$R,project_eves_terv!$E7),AND($B7<>0,$D7=12),SUMIFS('likvid terv'!$O:$O,'likvid terv'!$A:$A,project_eves_terv!B7,'likvid terv'!$R:$R,project_eves_terv!$E7),$B7=0,0)} -> 0 | G7: ='likvid terv'!$B$2 -> 0
A8: ='likvid terv'!$B$1 -> 0 | B8: ='likvid terv'!$B$33 -> 0 | C8: 2027 | D8: 7 | E8: 8 | F8: {=_xlfn.IFS(AND($B8<>0,$D8=1),SUMIFS('likvid terv'!$D:$D,'likvid terv'!$A:$A,project_eves_terv!B8,'likvid terv'!$R:$R,project_eves_terv!$E8),AND($B8<>0,$D8=2),SUMIFS('likvid terv'!$E:$E,'likvid terv'!$A:$A,project_eves_terv!B8,'likvid terv'!$R:$R,project_eves_terv!$E8),AND($B8<>0,$D8=3),SUMIFS('likvid terv'!$F:$F,'likvid terv'!$A:$A,project_eves_terv!B8,'likvid terv'!$R:$R,project_eves_terv!$E8),AND($B8<>0,$D8=4),SUMIFS('likvid terv'!$G:$G,'likvid terv'!$A:$A,project_eves_terv!B8,'likvid terv'!$R:$R,project_eves_terv!$E8),AND($B8<>0,$D8=5),SUMIFS('likvid terv'!$H:$H,'likvid terv'!$A:$A,project_eves_terv!B8,'likvid terv'!$R:$R,project_eves_terv!$E8),AND($B8<>0,$D8=6),SUMIFS('likvid terv'!$I:$I,'likvid terv'!$A:$A,project_eves_terv!B8,'likvid terv'!$R:$R,project_eves_terv!$E8),AND($B8<>0,$D8=7),SUMIFS('likvid terv'!$J:$J,'likvid terv'!$A:$A,project_eves_terv!B8,'likvid terv'!$R:$R,project_eves_terv!$E8),AND($B8<>0,$D8=8),SUMIFS('likvid terv'!$K:$K,'likvid terv'!$A:$A,project_eves_terv!B8,'likvid terv'!$R:$R,project_eves_terv!$E8),AND($B8<>0,$D8=9),SUMIFS('likvid terv'!$L:$L,'likvid terv'!$A:$A,project_eves_terv!B8,'likvid terv'!$R:$R,project_eves_terv!$E8),AND($B8<>0,$D8=10),SUMIFS('likvid terv'!$M:$M,'likvid terv'!$A:$A,project_eves_terv!B8,'likvid terv'!$R:$R,project_eves_terv!$E8),AND($B8<>0,$D8=11),SUMIFS('likvid terv'!$N:$N,'likvid terv'!$A:$A,project_eves_terv!B8,'likvid terv'!$R:$R,project_eves_terv!$E8),AND($B8<>0,$D8=12),SUMIFS('likvid terv'!$O:$O,'likvid terv'!$A:$A,project_eves_terv!B8,'likvid terv'!$R:$R,project_eves_terv!$E8),$B8=0,0)} -> 0 | G8: ='likvid terv'!$B$2 -> 0
A9: ='likvid terv'!$B$1 -> 0 | B9: ='likvid terv'!$B$33 -> 0 | C9: 2027 | D9: 8 | E9: 8 | F9: {=_xlfn.IFS(AND($B9<>0,$D9=1),SUMIFS('likvid terv'!$D:$D,'likvid terv'!$A:$A,project_eves_terv!B9,'likvid terv'!$R:$R,project_eves_terv!$E9),AND($B9<>0,$D9=2),SUMIFS('likvid terv'!$E:$E,'likvid terv'!$A:$A,project_eves_terv!B9,'likvid terv'!$R:$R,project_eves_terv!$E9),AND($B9<>0,$D9=3),SUMIFS('likvid terv'!$F:$F,'likvid terv'!$A:$A,project_eves_terv!B9,'likvid terv'!$R:$R,project_eves_terv!$E9),AND($B9<>0,$D9=4),SUMIFS('likvid terv'!$G:$G,'likvid terv'!$A:$A,project_eves_terv!B9,'likvid terv'!$R:$R,project_eves_terv!$E9),AND($B9<>0,$D9=5),SUMIFS('likvid terv'!$H:$H,'likvid terv'!$A:$A,project_eves_terv!B9,'likvid terv'!$R:$R,project_eves_terv!$E9),AND($B9<>0,$D9=6),SUMIFS('likvid terv'!$I:$I,'likvid terv'!$A:$A,project_eves_terv!B9,'likvid terv'!$R:$R,project_eves_terv!$E9),AND($B9<>0,$D9=7),SUMIFS('likvid terv'!$J:$J,'likvid terv'!$A:$A,project_eves_terv!B9,'likvid terv'!$R:$R,project_eves_terv!$E9),AND($B9<>0,$D9=8),SUMIFS('likvid terv'!$K:$K,'likvid terv'!$A:$A,project_eves_terv!B9,'likvid terv'!$R:$R,project_eves_terv!$E9),AND($B9<>0,$D9=9),SUMIFS('likvid terv'!$L:$L,'likvid terv'!$A:$A,project_eves_terv!B9,'likvid terv'!$R:$R,project_eves_terv!$E9),AND($B9<>0,$D9=10),SUMIFS('likvid terv'!$M:$M,'likvid terv'!$A:$A,project_eves_terv!B9,'likvid terv'!$R:$R,project_eves_terv!$E9),AND($B9<>0,$D9=11),SUMIFS('likvid terv'!$N:$N,'likvid terv'!$A:$A,project_eves_terv!B9,'likvid terv'!$R:$R,project_eves_terv!$E9),AND($B9<>0,$D9=12),SUMIFS('likvid terv'!$O:$O,'likvid terv'!$A:$A,project_eves_terv!B9,'likvid terv'!$R:$R,project_eves_terv!$E9),$B9=0,0)} -> 0 | G9: ='likvid terv'!$B$2 -> 0
A10: ='likvid terv'!$B$1 -> 0 | B10: ='likvid terv'!$B$33 -> 0 | C10: 2027 | D10: 9 | E10: 8 | F10: {=_xlfn.IFS(AND($B10<>0,$D10=1),SUMIFS('likvid terv'!$D:$D,'likvid terv'!$A:$A,project_eves_terv!B10,'likvid terv'!$R:$R,project_eves_terv!$E10),AND($B10<>0,$D10=2),SUMIFS('likvid terv'!$E:$E,'likvid terv'!$A:$A,project_eves_terv!B10,'likvid terv'!$R:$R,project_eves_terv!$E10),AND($B10<>0,$D10=3),SUMIFS('likvid terv'!$F:$F,'likvid terv'!$A:$A,project_eves_terv!B10,'likvid terv'!$R:$R,project_eves_terv!$E10),AND($B10<>0,$D10=4),SUMIFS('likvid terv'!$G:$G,'likvid terv'!$A:$A,project_eves_terv!B10,'likvid terv'!$R:$R,project_eves_terv!$E10),AND($B10<>0,$D10=5),SUMIFS('likvid terv'!$H:$H,'likvid terv'!$A:$A,project_eves_terv!B10,'likvid terv'!$R:$R,project_eves_terv!$E10),AND($B10<>0,$D10=6),SUMIFS('likvid terv'!$I:$I,'likvid terv'!$A:$A,project_eves_terv!B10,'likvid terv'!$R:$R,project_eves_terv!$E10),AND($B10<>0,$D10=7),SUMIFS('likvid terv'!$J:$J,'likvid terv'!$A:$A,project_eves_terv!B10,'likvid terv'!$R:$R,project_eves_terv!$E10),AND($B10<>0,$D10=8),SUMIFS('likvid terv'!$K:$K,'likvid terv'!$A:$A,project_eves_terv!B10,'likvid terv'!$R:$R,project_eves_terv!$E10),AND($B10<>0,$D10=9),SUMIFS('likvid terv'!$L:$L,'likvid terv'!$A:$A,project_eves_terv!B10,'likvid terv'!$R:$R,project_eves_terv!$E10),AND($B10<>0,$D10=10),SUMIFS('likvid terv'!$M:$M,'likvid terv'!$A:$A,project_eves_terv!B10,'likvid terv'!$R:$R,project_eves_terv!$E10),AND($B10<>0,$D10=11),SUMIFS('likvid terv'!$N:$N,'likvid terv'!$A:$A,project_eves_terv!B10,'likvid terv'!$R:$R,project_eves_terv!$E10),AND($B10<>0,$D10=12),SUMIFS('likvid terv'!$O:$O,'likvid terv'!$A:$A,project_eves_terv!B10,'likvid terv'!$R:$R,project_eves_terv!$E10),$B10=0,0)} -> 0 | G10: ='likvid terv'!$B$2 -> 0
A11: ='likvid terv'!$B$1 -> 0 | B11: ='likvid terv'!$B$33 -> 0 | C11: 2027 | D11: 10 | E11: 8 | F11: {=_xlfn.IFS(AND($B11<>0,$D11=1),SUMIFS('likvid terv'!$D:$D,'likvid terv'!$A:$A,project_eves_terv!B11,'likvid terv'!$R:$R,project_eves_terv!$E11),AND($B11<>0,$D11=2),SUMIFS('likvid terv'!$E:$E,'likvid terv'!$A:$A,project_eves_terv!B11,'likvid terv'!$R:$R,project_eves_terv!$E11),AND($B11<>0,$D11=3),SUMIFS('likvid terv'!$F:$F,'likvid terv'!$A:$A,project_eves_terv!B11,'likvid terv'!$R:$R,project_eves_terv!$E11),AND($B11<>0,$D11=4),SUMIFS('likvid terv'!$G:$G,'likvid terv'!$A:$A,project_eves_terv!B11,'likvid terv'!$R:$R,project_eves_terv!$E11),AND($B11<>0,$D11=5),SUMIFS('likvid terv'!$H:$H,'likvid terv'!$A:$A,project_eves_terv!B11,'likvid terv'!$R:$R,project_eves_terv!$E11),AND($B11<>0,$D11=6),SUMIFS('likvid terv'!$I:$I,'likvid terv'!$A:$A,project_eves_terv!B11,'likvid terv'!$R:$R,project_eves_terv!$E11),AND($B11<>0,$D11=7),SUMIFS('likvid terv'!$J:$J,'likvid terv'!$A:$A,project_eves_terv!B11,'likvid terv'!$R:$R,project_eves_terv!$E11),AND($B11<>0,$D11=8),SUMIFS('likvid terv'!$K:$K,'likvid terv'!$A:$A,project_eves_terv!B11,'likvid terv'!$R:$R,project_eves_terv!$E11),AND($B11<>0,$D11=9),SUMIFS('likvid terv'!$L:$L,'likvid terv'!$A:$A,project_eves_terv!B11,'likvid terv'!$R:$R,project_eves_terv!$E11),AND($B11<>0,$D11=10),SUMIFS('likvid terv'!$M:$M,'likvid terv'!$A:$A,project_eves_terv!B11,'likvid terv'!$R:$R,project_eves_terv!$E11),AND($B11<>0,$D11=11),SUMIFS('likvid terv'!$N:$N,'likvid terv'!$A:$A,project_eves_terv!B11,'likvid terv'!$R:$R,project_eves_terv!$E11),AND($B11<>0,$D11=12),SUMIFS('likvid terv'!$O:$O,'likvid terv'!$A:$A,project_eves_terv!B11,'likvid terv'!$R:$R,project_eves_terv!$E11),$B11=0,0)} -> 0 | G11: ='likvid terv'!$B$2 -> 0
A12: ='likvid terv'!$B$1 -> 0 | B12: ='likvid terv'!$B$33 -> 0 | C12: 2027 | D12: 11 | E12: 8 | F12: {=_xlfn.IFS(AND($B12<>0,$D12=1),SUMIFS('likvid terv'!$D:$D,'likvid terv'!$A:$A,project_eves_terv!B12,'likvid terv'!$R:$R,project_eves_terv!$E12),AND($B12<>0,$D12=2),SUMIFS('likvid terv'!$E:$E,'likvid terv'!$A:$A,project_eves_terv!B12,'likvid terv'!$R:$R,project_eves_terv!$E12),AND($B12<>0,$D12=3),SUMIFS('likvid terv'!$F:$F,'likvid terv'!$A:$A,project_eves_terv!B12,'likvid terv'!$R:$R,project_eves_terv!$E12),AND($B12<>0,$D12=4),SUMIFS('likvid terv'!$G:$G,'likvid terv'!$A:$A,project_eves_terv!B12,'likvid terv'!$R:$R,project_eves_terv!$E12),AND($B12<>0,$D12=5),SUMIFS('likvid terv'!$H:$H,'likvid terv'!$A:$A,project_eves_terv!B12,'likvid terv'!$R:$R,project_eves_terv!$E12),AND($B12<>0,$D12=6),SUMIFS('likvid terv'!$I:$I,'likvid terv'!$A:$A,project_eves_terv!B12,'likvid terv'!$R:$R,project_eves_terv!$E12),AND($B12<>0,$D12=7),SUMIFS('likvid terv'!$J:$J,'likvid terv'!$A:$A,project_eves_terv!B12,'likvid terv'!$R:$R,project_eves_terv!$E12),AND($B12<>0,$D12=8),SUMIFS('likvid terv'!$K:$K,'likvid terv'!$A:$A,project_eves_terv!B12,'likvid terv'!$R:$R,project_eves_terv!$E12),AND($B12<>0,$D12=9),SUMIFS('likvid terv'!$L:$L,'likvid terv'!$A:$A,project_eves_terv!B12,'likvid terv'!$R:$R,project_eves_terv!$E12),AND($B12<>0,$D12=10),SUMIFS('likvid terv'!$M:$M,'likvid terv'!$A:$A,project_eves_terv!B12,'likvid terv'!$R:$R,project_eves_terv!$E12),AND($B12<>0,$D12=11),SUMIFS('likvid terv'!$N:$N,'likvid terv'!$A:$A,project_eves_terv!B12,'likvid terv'!$R:$R,project_eves_terv!$E12),AND($B12<>0,$D12=12),SUMIFS('likvid terv'!$O:$O,'likvid terv'!$A:$A,project_eves_terv!B12,'likvid terv'!$R:$R,project_eves_terv!$E12),$B12=0,0)} -> 0 | G12: ='likvid terv'!$B$2 -> 0
A13: ='likvid terv'!$B$1 -> 0 | B13: ='likvid terv'!$B$33 -> 0 | C13: 2027 | D13: 12 | E13: 8 | F13: {=_xlfn.IFS(AND($B13<>0,$D13=1),SUMIFS('likvid terv'!$D:$D,'likvid terv'!$A:$A,project_eves_terv!B13,'likvid terv'!$R:$R,project_eves_terv!$E13),AND($B13<>0,$D13=2),SUMIFS('likvid terv'!$E:$E,'likvid terv'!$A:$A,project_eves_terv!B13,'likvid terv'!$R:$R,project_eves_terv!$E13),AND($B13<>0,$D13=3),SUMIFS('likvid terv'!$F:$F,'likvid terv'!$A:$A,project_eves_terv!B13,'likvid terv'!$R:$R,project_eves_terv!$E13),AND($B13<>0,$D13=4),SUMIFS('likvid terv'!$G:$G,'likvid terv'!$A:$A,project_eves_terv!B13,'likvid terv'!$R:$R,project_eves_terv!$E13),AND($B13<>0,$D13=5),SUMIFS('likvid terv'!$H:$H,'likvid terv'!$A:$A,project_eves_terv!B13,'likvid terv'!$R:$R,project_eves_terv!$E13),AND($B13<>0,$D13=6),SUMIFS('likvid terv'!$I:$I,'likvid terv'!$A:$A,project_eves_terv!B13,'likvid terv'!$R:$R,project_eves_terv!$E13),AND($B13<>0,$D13=7),SUMIFS('likvid terv'!$J:$J,'likvid terv'!$A:$A,project_eves_terv!B13,'likvid terv'!$R:$R,project_eves_terv!$E13),AND($B13<>0,$D13=8),SUMIFS('likvid terv'!$K:$K,'likvid terv'!$A:$A,project_eves_terv!B13,'likvid terv'!$R:$R,project_eves_terv!$E13),AND($B13<>0,$D13=9),SUMIFS('likvid terv'!$L:$L,'likvid terv'!$A:$A,project_eves_terv!B13,'likvid terv'!$R:$R,project_eves_terv!$E13),AND($B13<>0,$D13=10),SUMIFS('likvid terv'!$M:$M,'likvid terv'!$A:$A,project_eves_terv!B13,'likvid terv'!$R:$R,project_eves_terv!$E13),AND($B13<>0,$D13=11),SUMIFS('likvid terv'!$N:$N,'likvid terv'!$A:$A,project_eves_terv!B13,'likvid terv'!$R:$R,project_eves_terv!$E13),AND($B13<>0,$D13=12),SUMIFS('likvid terv'!$O:$O,'likvid terv'!$A:$A,project_eves_terv!B13,'likvid terv'!$R:$R,project_eves_terv!$E13),$B13=0,0)} -> 0 | G13: ='likvid terv'!$B$2 -> 0
... A325: ='likvid terv'!$B$1 -> 0 | B325: ='likvid terv'!$B$33 -> 0 | C325: 2027 | D325: 12 | E325: 27 | F325: {=_xlfn.IFS(AND($B325<>0,$D325=1),SUMIFS('likvid terv'!$D:$D,'likvid terv'!$A:$A,project_eves_terv!B325,'likvid terv'!$R:$R,project_eves_terv!$E325),AND($B325<>0,$D325=2),SUMIFS('likvid terv'!$E:$E,'likvid terv'!$A:$A,project_eves_terv!B325,'likvid terv'!$R:$R,project_eves_terv!$E325),AND($B325<>0,$D325=3),SUMIFS('likvid terv'!$F:$F,'likvid terv'!$A:$A,project_eves_terv!B325,'likvid terv'!$R:$R,project_eves_terv!$E325),AND($B325<>0,$D325=4),SUMIFS('likvid terv'!$G:$G,'likvid terv'!$A:$A,project_eves_terv!B325,'likvid terv'!$R:$R,project_eves_terv!$E325),AND($B325<>0,$D325=5),SUMIFS('likvid terv'!$H:$H,'likvid terv'!$A:$A,project_eves_terv!B325,'likvid terv'!$R:$R,project_eves_terv!$E325),AND($B325<>0,$D325=6),SUMIFS('likvid terv'!$I:$I,'likvid terv'!$A:$A,project_eves_terv!B325,'likvid terv'!$R:$R,project_eves_terv!$E325),AND($B325<>0,$D325=7),SUMIFS('likvid terv'!$J:$J,'likvid terv'!$A:$A,project_eves_terv!B325,'likvid terv'!$R:$R,project_eves_terv!$E325),AND($B325<>0,$D325=8),SUMIFS('likvid terv'!$K:$K,'likvid terv'!$A:$A,project_eves_terv!B325,'likvid terv'!$R:$R,project_eves_terv!$E325),AND($B325<>0,$D325=9),SUMIFS('likvid terv'!$L:$L,'likvid terv'!$A:$A,project_eves_terv!B325,'likvid terv'!$R:$R,project_eves_terv!$E325),AND($B325<>0,$D325=10),SUMIFS('likvid terv'!$M:$M,'likvid terv'!$A:$A,project_eves_terv!B325,'likvid terv'!$R:$R,project_eves_terv!$E325),AND($B325<>0,$D325=11),SUMIFS('likvid terv'!$N:$N,'likvid terv'!$A:$A,project_eves_terv!B325,'likvid terv'!$R:$R,project_eves_terv!$E325),AND($B325<>0,$D325=12),SUMIFS('likvid terv'!$O:$O,'likvid terv'!$A:$A,project_eves_terv!B325,'likvid terv'!$R:$R,project_eves_terv!$E325),$B325=0,0)} -> 0 | G325: ='likvid terv'!$B$2 -> 0
A326: ='likvid terv'!$B$1 -> 0 | B326: ='likvid terv'!$B$62 -> 0 | C326: 2027 | D326: 1 | E326: 8 | F326: {=_xlfn.IFS(AND($B326<>0,$D326=1),SUMIFS('likvid terv'!$D:$D,'likvid terv'!$A:$A,project_eves_terv!B326,'likvid terv'!$R:$R,project_eves_terv!$E326),AND($B326<>0,$D326=2),SUMIFS('likvid terv'!$E:$E,'likvid terv'!$A:$A,project_eves_terv!B326,'likvid terv'!$R:$R,project_eves_terv!$E326),AND($B326<>0,$D326=3),SUMIFS('likvid terv'!$F:$F,'likvid terv'!$A:$A,project_eves_terv!B326,'likvid terv'!$R:$R,project_eves_terv!$E326),AND($B326<>0,$D326=4),SUMIFS('likvid terv'!$G:$G,'likvid terv'!$A:$A,project_eves_terv!B326,'likvid terv'!$R:$R,project_eves_terv!$E326),AND($B326<>0,$D326=5),SUMIFS('likvid terv'!$H:$H,'likvid terv'!$A:$A,project_eves_terv!B326,'likvid terv'!$R:$R,project_eves_terv!$E326),AND($B326<>0,$D326=6),SUMIFS('likvid terv'!$I:$I,'likvid terv'!$A:$A,project_eves_terv!B326,'likvid terv'!$R:$R,project_eves_terv!$E326),AND($B326<>0,$D326=7),SUMIFS('likvid terv'!$J:$J,'likvid terv'!$A:$A,project_eves_terv!B326,'likvid terv'!$R:$R,project_eves_terv!$E326),AND($B326<>0,$D326=8),SUMIFS('likvid terv'!$K:$K,'likvid terv'!$A:$A,project_eves_terv!B326,'likvid terv'!$R:$R,project_eves_terv!$E326),AND($B326<>0,$D326=9),SUMIFS('likvid terv'!$L:$L,'likvid terv'!$A:$A,project_eves_terv!B326,'likvid terv'!$R:$R,project_eves_terv!$E326),AND($B326<>0,$D326=10),SUMIFS('likvid terv'!$M:$M,'likvid terv'!$A:$A,project_eves_terv!B326,'likvid terv'!$R:$R,project_eves_terv!$E326),AND($B326<>0,$D326=11),SUMIFS('likvid terv'!$N:$N,'likvid terv'!$A:$A,project_eves_terv!B326,'likvid terv'!$R:$R,project_eves_terv!$E326),AND($B326<>0,$D326=12),SUMIFS('likvid terv'!$O:$O,'likvid terv'!$A:$A,project_eves_terv!B326,'likvid terv'!$R:$R,project_eves_terv!$E326),$B326=0,0)} -> 0 | G326: ='likvid terv'!$B$2 -> 0
A327: ='likvid terv'!$B$1 -> 0 | B327: ='likvid terv'!$B$62 -> 0 | C327: 2027 | D327: 2 | E327: 8 | F327: {=_xlfn.IFS(AND($B327<>0,$D327=1),SUMIFS('likvid terv'!$D:$D,'likvid terv'!$A:$A,project_eves_terv!B327,'likvid terv'!$R:$R,project_eves_terv!$E327),AND($B327<>0,$D327=2),SUMIFS('likvid terv'!$E:$E,'likvid terv'!$A:$A,project_eves_terv!B327,'likvid terv'!$R:$R,project_eves_terv!$E327),AND($B327<>0,$D327=3),SUMIFS('likvid terv'!$F:$F,'likvid terv'!$A:$A,project_eves_terv!B327,'likvid terv'!$R:$R,project_eves_terv!$E327),AND($B327<>0,$D327=4),SUMIFS('likvid terv'!$G:$G,'likvid terv'!$A:$A,project_eves_terv!B327,'likvid terv'!$R:$R,project_eves_terv!$E327),AND($B327<>0,$D327=5),SUMIFS('likvid terv'!$H:$H,'likvid terv'!$A:$A,project_eves_terv!B327,'likvid terv'!$R:$R,project_eves_terv!$E327),AND($B327<>0,$D327=6),SUMIFS('likvid terv'!$I:$I,'likvid terv'!$A:$A,project_eves_terv!B327,'likvid terv'!$R:$R,project_eves_terv!$E327),AND($B327<>0,$D327=7),SUMIFS('likvid terv'!$J:$J,'likvid terv'!$A:$A,project_eves_terv!B327,'likvid terv'!$R:$R,project_eves_terv!$E327),AND($B327<>0,$D327=8),SUMIFS('likvid terv'!$K:$K,'likvid terv'!$A:$A,project_eves_terv!B327,'likvid terv'!$R:$R,project_eves_terv!$E327),AND($B327<>0,$D327=9),SUMIFS('likvid terv'!$L:$L,'likvid terv'!$A:$A,project_eves_terv!B327,'likvid terv'!$R:$R,project_eves_terv!$E327),AND($B327<>0,$D327=10),SUMIFS('likvid terv'!$M:$M,'likvid terv'!$A:$A,project_eves_terv!B327,'likvid terv'!$R:$R,project_eves_terv!$E327),AND($B327<>0,$D327=11),SUMIFS('likvid terv'!$N:$N,'likvid terv'!$A:$A,project_eves_terv!B327,'likvid terv'!$R:$R,project_eves_terv!$E327),AND($B327<>0,$D327=12),SUMIFS('likvid terv'!$O:$O,'likvid terv'!$A:$A,project_eves_terv!B327,'likvid terv'!$R:$R,project_eves_terv!$E327),$B327=0,0)} -> 0 | G327: ='likvid terv'!$B$2 -> 0
A328: ='likvid terv'!$B$1 -> 0 | B328: ='likvid terv'!$B$62 -> 0 | C328: 2027 | D328: 3 | E328: 8 | F328: {=_xlfn.IFS(AND($B328<>0,$D328=1),SUMIFS('likvid terv'!$D:$D,'likvid terv'!$A:$A,project_eves_terv!B328,'likvid terv'!$R:$R,project_eves_terv!$E328),AND($B328<>0,$D328=2),SUMIFS('likvid terv'!$E:$E,'likvid terv'!$A:$A,project_eves_terv!B328,'likvid terv'!$R:$R,project_eves_terv!$E328),AND($B328<>0,$D328=3),SUMIFS('likvid terv'!$F:$F,'likvid terv'!$A:$A,project_eves_terv!B328,'likvid terv'!$R:$R,project_eves_terv!$E328),AND($B328<>0,$D328=4),SUMIFS('likvid terv'!$G:$G,'likvid terv'!$A:$A,project_eves_terv!B328,'likvid terv'!$R:$R,project_eves_terv!$E328),AND($B328<>0,$D328=5),SUMIFS('likvid terv'!$H:$H,'likvid terv'!$A:$A,project_eves_terv!B328,'likvid terv'!$R:$R,project_eves_terv!$E328),AND($B328<>0,$D328=6),SUMIFS('likvid terv'!$I:$I,'likvid terv'!$A:$A,project_eves_terv!B328,'likvid terv'!$R:$R,project_eves_terv!$E328),AND($B328<>0,$D328=7),SUMIFS('likvid terv'!$J:$J,'likvid terv'!$A:$A,project_eves_terv!B328,'likvid terv'!$R:$R,project_eves_terv!$E328),AND($B328<>0,$D328=8),SUMIFS('likvid terv'!$K:$K,'likvid terv'!$A:$A,project_eves_terv!B328,'likvid terv'!$R:$R,project_eves_terv!$E328),AND($B328<>0,$D328=9),SUMIFS('likvid terv'!$L:$L,'likvid terv'!$A:$A,project_eves_terv!B328,'likvid terv'!$R:$R,project_eves_terv!$E328),AND($B328<>0,$D328=10),SUMIFS('likvid terv'!$M:$M,'likvid terv'!$A:$A,project_eves_terv!B328,'likvid terv'!$R:$R,project_eves_terv!$E328),AND($B328<>0,$D328=11),SUMIFS('likvid terv'!$N:$N,'likvid terv'!$A:$A,project_eves_terv!B328,'likvid terv'!$R:$R,project_eves_terv!$E328),AND($B328<>0,$D328=12),SUMIFS('likvid terv'!$O:$O,'likvid terv'!$A:$A,project_eves_terv!B328,'likvid terv'!$R:$R,project_eves_terv!$E328),$B328=0,0)} -> 0 | G328: ='likvid terv'!$B$2 -> 0
A329: ='likvid terv'!$B$1 -> 0 | B329: ='likvid terv'!$B$62 -> 0 | C329: 2027 | D329: 4 | E329: 8 | F329: {=_xlfn.IFS(AND($B329<>0,$D329=1),SUMIFS('likvid terv'!$D:$D,'likvid terv'!$A:$A,project_eves_terv!B329,'likvid terv'!$R:$R,project_eves_terv!$E329),AND($B329<>0,$D329=2),SUMIFS('likvid terv'!$E:$E,'likvid terv'!$A:$A,project_eves_terv!B329,'likvid terv'!$R:$R,project_eves_terv!$E329),AND($B329<>0,$D329=3),SUMIFS('likvid terv'!$F:$F,'likvid terv'!$A:$A,project_eves_terv!B329,'likvid terv'!$R:$R,project_eves_terv!$E329),AND($B329<>0,$D329=4),SUMIFS('likvid terv'!$G:$G,'likvid terv'!$A:$A,project_eves_terv!B329,'likvid terv'!$R:$R,project_eves_terv!$E329),AND($B329<>0,$D329=5),SUMIFS('likvid terv'!$H:$H,'likvid terv'!$A:$A,project_eves_terv!B329,'likvid terv'!$R:$R,project_eves_terv!$E329),AND($B329<>0,$D329=6),SUMIFS('likvid terv'!$I:$I,'likvid terv'!$A:$A,project_eves_terv!B329,'likvid terv'!$R:$R,project_eves_terv!$E329),AND($B329<>0,$D329=7),SUMIFS('likvid terv'!$J:$J,'likvid terv'!$A:$A,project_eves_terv!B329,'likvid terv'!$R:$R,project_eves_terv!$E329),AND($B329<>0,$D329=8),SUMIFS('likvid terv'!$K:$K,'likvid terv'!$A:$A,project_eves_terv!B329,'likvid terv'!$R:$R,project_eves_terv!$E329),AND($B329<>0,$D329=9),SUMIFS('likvid terv'!$L:$L,'likvid terv'!$A:$A,project_eves_terv!B329,'likvid terv'!$R:$R,project_eves_terv!$E329),AND($B329<>0,$D329=10),SUMIFS('likvid terv'!$M:$M,'likvid terv'!$A:$A,project_eves_terv!B329,'likvid terv'!$R:$R,project_eves_terv!$E329),AND($B329<>0,$D329=11),SUMIFS('likvid terv'!$N:$N,'likvid terv'!$A:$A,project_eves_terv!B329,'likvid terv'!$R:$R,project_eves_terv!$E329),AND($B329<>0,$D329=12),SUMIFS('likvid terv'!$O:$O,'likvid terv'!$A:$A,project_eves_terv!B329,'likvid terv'!$R:$R,project_eves_terv!$E329),$B329=0,0)} -> 0 | G329: ='likvid terv'!$B$2 -> 0
A330: ='likvid terv'!$B$1 -> 0 | B330: ='likvid terv'!$B$62 -> 0 | C330: 2027 | D330: 5 | E330: 8 | F330: {=_xlfn.IFS(AND($B330<>0,$D330=1),SUMIFS('likvid terv'!$D:$D,'likvid terv'!$A:$A,project_eves_terv!B330,'likvid terv'!$R:$R,project_eves_terv!$E330),AND($B330<>0,$D330=2),SUMIFS('likvid terv'!$E:$E,'likvid terv'!$A:$A,project_eves_terv!B330,'likvid terv'!$R:$R,project_eves_terv!$E330),AND($B330<>0,$D330=3),SUMIFS('likvid terv'!$F:$F,'likvid terv'!$A:$A,project_eves_terv!B330,'likvid terv'!$R:$R,project_eves_terv!$E330),AND($B330<>0,$D330=4),SUMIFS('likvid terv'!$G:$G,'likvid terv'!$A:$A,project_eves_terv!B330,'likvid terv'!$R:$R,project_eves_terv!$E330),AND($B330<>0,$D330=5),SUMIFS('likvid terv'!$H:$H,'likvid terv'!$A:$A,project_eves_terv!B330,'likvid terv'!$R:$R,project_eves_terv!$E330),AND($B330<>0,$D330=6),SUMIFS('likvid terv'!$I:$I,'likvid terv'!$A:$A,project_eves_terv!B330,'likvid terv'!$R:$R,project_eves_terv!$E330),AND($B330<>0,$D330=7),SUMIFS('likvid terv'!$J:$J,'likvid terv'!$A:$A,project_eves_terv!B330,'likvid terv'!$R:$R,project_eves_terv!$E330),AND($B330<>0,$D330=8),SUMIFS('likvid terv'!$K:$K,'likvid terv'!$A:$A,project_eves_terv!B330,'likvid terv'!$R:$R,project_eves_terv!$E330),AND($B330<>0,$D330=9),SUMIFS('likvid terv'!$L:$L,'likvid terv'!$A:$A,project_eves_terv!B330,'likvid terv'!$R:$R,project_eves_terv!$E330),AND($B330<>0,$D330=10),SUMIFS('likvid terv'!$M:$M,'likvid terv'!$A:$A,project_eves_terv!B330,'likvid terv'!$R:$R,project_eves_terv!$E330),AND($B330<>0,$D330=11),SUMIFS('likvid terv'!$N:$N,'likvid terv'!$A:$A,project_eves_terv!B330,'likvid terv'!$R:$R,project_eves_terv!$E330),AND($B330<>0,$D330=12),SUMIFS('likvid terv'!$O:$O,'likvid terv'!$A:$A,project_eves_terv!B330,'likvid terv'!$R:$R,project_eves_terv!$E330),$B330=0,0)} -> 0 | G330: ='likvid terv'!$B$2 -> 0
A331: ='likvid terv'!$B$1 -> 0 | B331: ='likvid terv'!$B$62 -> 0 | C331: 2027 | D331: 6 | E331: 8 | F331: {=_xlfn.IFS(AND($B331<>0,$D331=1),SUMIFS('likvid terv'!$D:$D,'likvid terv'!$A:$A,project_eves_terv!B331,'likvid terv'!$R:$R,project_eves_terv!$E331),AND($B331<>0,$D331=2),SUMIFS('likvid terv'!$E:$E,'likvid terv'!$A:$A,project_eves_terv!B331,'likvid terv'!$R:$R,project_eves_terv!$E331),AND($B331<>0,$D331=3),SUMIFS('likvid terv'!$F:$F,'likvid terv'!$A:$A,project_eves_terv!B331,'likvid terv'!$R:$R,project_eves_terv!$E331),AND($B331<>0,$D331=4),SUMIFS('likvid terv'!$G:$G,'likvid terv'!$A:$A,project_eves_terv!B331,'likvid terv'!$R:$R,project_eves_terv!$E331),AND($B331<>0,$D331=5),SUMIFS('likvid terv'!$H:$H,'likvid terv'!$A:$A,project_eves_terv!B331,'likvid terv'!$R:$R,project_eves_terv!$E331),AND($B331<>0,$D331=6),SUMIFS('likvid terv'!$I:$I,'likvid terv'!$A:$A,project_eves_terv!B331,'likvid terv'!$R:$R,project_eves_terv!$E331),AND($B331<>0,$D331=7),SUMIFS('likvid terv'!$J:$J,'likvid terv'!$A:$A,project_eves_terv!B331,'likvid terv'!$R:$R,project_eves_terv!$E331),AND($B331<>0,$D331=8),SUMIFS('likvid terv'!$K:$K,'likvid terv'!$A:$A,project_eves_terv!B331,'likvid terv'!$R:$R,project_eves_terv!$E331),AND($B331<>0,$D331=9),SUMIFS('likvid terv'!$L:$L,'likvid terv'!$A:$A,project_eves_terv!B331,'likvid terv'!$R:$R,project_eves_terv!$E331),AND($B331<>0,$D331=10),SUMIFS('likvid terv'!$M:$M,'likvid terv'!$A:$A,project_eves_terv!B331,'likvid terv'!$R:$R,project_eves_terv!$E331),AND($B331<>0,$D331=11),SUMIFS('likvid terv'!$N:$N,'likvid terv'!$A:$A,project_eves_terv!B331,'likvid terv'!$R:$R,project_eves_terv!$E331),AND($B331<>0,$D331=12),SUMIFS('likvid terv'!$O:$O,'likvid terv'!$A:$A,project_eves_terv!B331,'likvid terv'!$R:$R,project_eves_terv!$E331),$B331=0,0)} -> 0 | G331: ='likvid terv'!$B$2 -> 0
A332: ='likvid terv'!$B$1 -> 0 | B332: ='likvid terv'!$B$62 -> 0 | C332: 2027 | D332: 7 | E332: 8 | F332: {=_xlfn.IFS(AND($B332<>0,$D332=1),SUMIFS('likvid terv'!$D:$D,'likvid terv'!$A:$A,project_eves_terv!B332,'likvid terv'!$R:$R,project_eves_terv!$E332),AND($B332<>0,$D332=2),SUMIFS('likvid terv'!$E:$E,'likvid terv'!$A:$A,project_eves_terv!B332,'likvid terv'!$R:$R,project_eves_terv!$E332),AND($B332<>0,$D332=3),SUMIFS('likvid terv'!$F:$F,'likvid terv'!$A:$A,project_eves_terv!B332,'likvid terv'!$R:$R,project_eves_terv!$E332),AND($B332<>0,$D332=4),SUMIFS('likvid terv'!$G:$G,'likvid terv'!$A:$A,project_eves_terv!B332,'likvid terv'!$R:$R,project_eves_terv!$E332),AND($B332<>0,$D332=5),SUMIFS('likvid terv'!$H:$H,'likvid terv'!$A:$A,project_eves_terv!B332,'likvid terv'!$R:$R,project_eves_terv!$E332),AND($B332<>0,$D332=6),SUMIFS('likvid terv'!$I:$I,'likvid terv'!$A:$A,project_eves_terv!B332,'likvid terv'!$R:$R,project_eves_terv!$E332),AND($B332<>0,$D332=7),SUMIFS('likvid terv'!$J:$J,'likvid terv'!$A:$A,project_eves_terv!B332,'likvid terv'!$R:$R,project_eves_terv!$E332),AND($B332<>0,$D332=8),SUMIFS('likvid terv'!$K:$K,'likvid terv'!$A:$A,project_eves_terv!B332,'likvid terv'!$R:$R,project_eves_terv!$E332),AND($B332<>0,$D332=9),SUMIFS('likvid terv'!$L:$L,'likvid terv'!$A:$A,project_eves_terv!B332,'likvid terv'!$R:$R,project_eves_terv!$E332),AND($B332<>0,$D332=10),SUMIFS('likvid terv'!$M:$M,'likvid terv'!$A:$A,project_eves_terv!B332,'likvid terv'!$R:$R,project_eves_terv!$E332),AND($B332<>0,$D332=11),SUMIFS('likvid terv'!$N:$N,'likvid terv'!$A:$A,project_eves_terv!B332,'likvid terv'!$R:$R,project_eves_terv!$E332),AND($B332<>0,$D332=12),SUMIFS('likvid terv'!$O:$O,'likvid terv'!$A:$A,project_eves_terv!B332,'likvid terv'!$R:$R,project_eves_terv!$E332),$B332=0,0)} -> 0 | G332: ='likvid terv'!$B$2 -> 0
A333: ='likvid terv'!$B$1 -> 0 | B333: ='likvid terv'!$B$62 -> 0 | C333: 2027 | D333: 8 | E333: 8 | F333: {=_xlfn.IFS(AND($B333<>0,$D333=1),SUMIFS('likvid terv'!$D:$D,'likvid terv'!$A:$A,project_eves_terv!B333,'likvid terv'!$R:$R,project_eves_terv!$E333),AND($B333<>0,$D333=2),SUMIFS('likvid terv'!$E:$E,'likvid terv'!$A:$A,project_eves_terv!B333,'likvid terv'!$R:$R,project_eves_terv!$E333),AND($B333<>0,$D333=3),SUMIFS('likvid terv'!$F:$F,'likvid terv'!$A:$A,project_eves_terv!B333,'likvid terv'!$R:$R,project_eves_terv!$E333),AND($B333<>0,$D333=4),SUMIFS('likvid terv'!$G:$G,'likvid terv'!$A:$A,project_eves_terv!B333,'likvid terv'!$R:$R,project_eves_terv!$E333),AND($B333<>0,$D333=5),SUMIFS('likvid terv'!$H:$H,'likvid terv'!$A:$A,project_eves_terv!B333,'likvid terv'!$R:$R,project_eves_terv!$E333),AND($B333<>0,$D333=6),SUMIFS('likvid terv'!$I:$I,'likvid terv'!$A:$A,project_eves_terv!B333,'likvid terv'!$R:$R,project_eves_terv!$E333),AND($B333<>0,$D333=7),SUMIFS('likvid terv'!$J:$J,'likvid terv'!$A:$A,project_eves_terv!B333,'likvid terv'!$R:$R,project_eves_terv!$E333),AND($B333<>0,$D333=8),SUMIFS('likvid terv'!$K:$K,'likvid terv'!$A:$A,project_eves_terv!B333,'likvid terv'!$R:$R,project_eves_terv!$E333),AND($B333<>0,$D333=9),SUMIFS('likvid terv'!$L:$L,'likvid terv'!$A:$A,project_eves_terv!B333,'likvid terv'!$R:$R,project_eves_terv!$E333),AND($B333<>0,$D333=10),SUMIFS('likvid terv'!$M:$M,'likvid terv'!$A:$A,project_eves_terv!B333,'likvid terv'!$R:$R,project_eves_terv!$E333),AND($B333<>0,$D333=11),SUMIFS('likvid terv'!$N:$N,'likvid terv'!$A:$A,project_eves_terv!B333,'likvid terv'!$R:$R,project_eves_terv!$E333),AND($B333<>0,$D333=12),SUMIFS('likvid terv'!$O:$O,'likvid terv'!$A:$A,project_eves_terv!B333,'likvid terv'!$R:$R,project_eves_terv!$E333),$B333=0,0)} -> 0 | G333: ='likvid terv'!$B$2 -> 0
