Workbook

Sheet likvid terv
A1: PNYR azonosító | D1: Overhead alapja: | H1: Overhead mértéke:
A2: Pénznem | C2: Pénzügyi tétel | D2: 2027. | Q2: Tervezett felhasználás összesen
A3: összesítő | D3: január | E3: február | F3: március | G3: április | H3: május | I3: június | J3: július | K3: augusztus | L3: szeptember | M3: október | N3: november | O3: december | P3: összesen
D4: 1 | E4: 2 | F4: 3 | G4: 4 | H4: 5 | I4: 6 | J4: 7 | K4: 8 | L4: 9 | M4: 10 | N4: 11 | O4: 12
A5: =$A$3 -> összesítő | B5: T21 | C5: Munkavállalói alapbér (Rendszeres személyi juttatás ) | D5: =+D34+D63+D92+D121+D150+D179+D208+D237+D266+D295 -> 0 | E5: =+E34+E63+E92+E121+E150+E179+E208+E237+E266+E295 -> 0 | F5: =+F34+F63+F92+F121+F150+F179+F208+F237+F266+F295 -> 0 | G5: =+G34+G63+G92+G121+G150+G179+G208+G237+G266+G295 -> 0 | H5: =+H34+H63+H92+H121+H150+H179+H208+H237+H266+H295 -> 0 | I5: =+I34+I63+I92+I121+I150+I179+I208+I237+I266+I295 -> 0 | J5: =+J34+J63+J92+J121+J150+J179+J208+J237+J266+J295 -> 0 | K5: =+K34+K63+K92+K121+K150+K179+K208+K237+K266+K295 -> 0 | ... P5: =+P34+P63+P92+P121+P150+P179+P208+P237+P266+P295 -> 0 | R5: =VLOOKUP(C5,adatok!$C:$F,3,FALSE) -> 8
A6: =$A$3 -> összesítő | B6: T21 | C6: Munkavállalói többletkifizetés (Időszakos személyi juttatás) | D6: =+D35+D64+D93+D122+D151+D180+D209+D238+D267+D296 -> 0 | E6: =+E35+E64+E93+E122+E151+E180+E209+E238+E267+E296 -> 0 | F6: =+F35+F64+F93+F122+F151+F180+F209+F238+F267+F296 -> 0 | G6: =+G35+G64+G93+G122+G151+G180+G209+G238+G267+G296 -> 0 | H6: =+H35+H64+H93+H122+H151+H180+H209+H238+H267+H296 -> 0 | I6: =+I35+I64+I93+I122+I151+I180+I209+I238+I267+I296 -> 0 | J6: =+J35+J64+J93+J122+J151+J180+J209+J238+J267+J296 -> 0 | K6: =+K35+K64+K93+K122+K151+K180+K209+K238+K267+K296 -> 0 | ... P6: =+P35+P64+P93+P122+P151+P180+P209+P238+P267+P296 -> 0 | R6: =VLOOKUP(C6,adatok!$C:$F,3,FALSE) -> 9
A7: =$A$3 -> összesítő | B7: T21 | C7: Külső személyi juttatás | D7: =+D36+D65+D94+D123+D152+D181+D210+D239+D268+D297 -> 0 | E7: =+E36+E65+E94+E123+E152+E181+E210+E239+E268+E297 -> 0 | F7: =+F36+F65+F94+F123+F152+F181+F210+F239+F268+F297 -> 0 | G7: =+G36+G65+G94+G123+G152+G181+G210+G239+G268+G297 -> 0 | H7: =+H36+H65+H94+H123+H152+H181+H210+H239+H268+H297 -> 0 | I7: =+I36+I65+I94+I123+I152+I181+I210+I239+I268+I297 -> 0 | J7: =+J36+J65+J94+J123+J152+J181+J210+J239+J268+J297 -> 0 | K7: =+K36+K65+K94+K123+K152+K181+K210+K239+K268+K297 -> 0 | ... P7: =+P36+P65+P94+P123+P152+P181+P210+P239+P268+P297 -> 0 | R7: =VLOOKUP(C7,adatok!$C:$F,3,FALSE) -> 10
A8: =$A$3 -> összesítő | B8: T21 | C8: Személyi költségek | D8: =+D37+D66+D95+D124+D153+D182+D211+D240+D269+D298 -> 0 | E8: =+E37+E66+E95+E124+E153+E182+E211+E240+E269+E298 -> 0 | F8: =+F37+F66+F95+F124+F153+F182+F211+F240+F269+F298 -> 0 | G8: =+G37+G66+G95+G124+G153+G182+G211+G240+G269+G298 -> 0 | H8: =+H37+H66+H95+H124+H153+H182+H211+H240+H269+H298 -> 0 | I8: =+I37+I66+I95+I124+I153+I182+I211+I240+I269+I298 -> 0 | J8: =+J37+J66+J95+J124+J153+J182+J211+J240+J269+J298 -> 0 | K8: =+K37+K66+K95+K124+K153+K182+K211+K240+K269+K298 -> 0 | ... P8: =+P37+P66+P95+P124+P153+P182+P211+P240+P269+P298 -> 0 | R8: =VLOOKUP(C8,adatok!$C:$F,3,FALSE) -> 1
A9: =$A$3 -> összesítő | B9: T23 | C9: Járulékok | D9: =+D38+D67+D96+D125+D154+D183+D212+D241+D270+D299 -> 0 | E9: =+E38+E67+E96+E125+E154+E183+E212+E241+E270+E299 -> 0 | F9: =+F38+F67+F96+F125+F154+F183+F212+F241+F270+F299 -> 0 | G9: =+G38+G67+G96+G125+G154+G183+G212+G241+G270+G299 -> 0 | H9: =+H38+H67+H96+H125+H154+H183+H212+H241+H270+H299 -> 0 | I9: =+I38+I67+I96+I125+I154+I183+I212+I241+I270+I299 -> 0 | J9: =+J38+J67+J96+J125+J154+J183+J212+J241+J270+J299 -> 0 | K9: =+K38+K67+K96+K125+K154+K183+K212+K241+K270+K299 -> 0 | ... P9: =+P38+P67+P96+P125+P154+P183+P212+P241+P270+P299 -> 0 | R9: =VLOOKUP(C9,adatok!$C:$F,3,FALSE) -> 2
A10: =$A$3 -> összesítő | B10: T41 | C10: Overhead - általános költségek | D10: =+D39+D68+D97+D126+D155+D184+D213+D242+D271+D300 -> 0 | E10: =+E39+E68+E97+E126+E155+E184+E213+E242+E271+E300 -> 0 | F10: =+F39+F68+F97+F126+F155+F184+F213+F242+F271+F300 -> 0 | G10: =+G39+G68+G97+G126+G155+G184+G213+G242+G271+G300 -> 0 | H10: =+H39+H68+H97+H126+H155+H184+H213+H242+H271+H300 -> 0 | I10: =+I39+I68+I97+I126+I155+I184+I213+I242+I271+I300 -> 0 | J10: =+J39+J68+J97+J126+J155+J184+J213+J242+J271+J300 -> 0 | K10: =+K39+K68+K97+K126+K155+K184+K213+K242+K271+K300 -> 0 | ... P10: =+P39+P68+P97+P126+P155+P184+P213+P242+P271+P300 -> 0 | R10: =VLOOKUP(C10,adatok!$C:$F,3,FALSE) -> 3
A11: =$A$3 -> összesítő | B11: T27 | C11: Vegyszerek költségei | D11: =+D40+D69+D98+D127+D156+D185+D214+D243+D272+D301 -> 0 | E11: =+E40+E69+E98+E127+E156+E185+E214+E243+E272+E301 -> 0 | F11: =+F40+F69+F98+F127+F156+F185+F214+F243+F272+F301 -> 0 | G11: =+G40+G69+G98+G127+G156+G185+G214+G243+G272+G301 -> 0 | H11: =+H40+H69+H98+H127+H156+H185+H214+H243+H272+H301 -> 0 | I11: =+I40+I69+I98+I127+I156+I185+I214+I243+I272+I301 -> 0 | J11: =+J40+J69+J98+J127+J156+J185+J214+J243+J272+J301 -> 0 | K11: =+K40+K69+K98+K127+K156+K185+K214+K243+K272+K301 -> 0 | ... P11: =+P40+P69+P98+P127+P156+P185+P214+P243+P272+P301 -> 0 | R11: =VLOOKUP(C11,adatok!$C:$F,3,FALSE) -> 20
A12: =$A$3 -> összesítő | B12: T27 | C12: Szakmai anyagok költségei | D12: =+D41+D70+D99+D128+D157+D186+D215+D244+D273+D302 -> 0 | E12: =+E41+E70+E99+E128+E157+E186+E215+E244+E273+E302 -> 0 | F12: =+F41+F70+F99+F128+F157+F186+F215+F244+F273+F302 -> 0 | G12: =+G41+G70+G99+G128+G157+G186+G215+G244+G273+G302 -> 0 | H12: =+H41+H70+H99+H128+H157+H186+H215+H244+H273+H302 -> 0 | I12: =+I41+I70+I99+I128+I157+I186+I215+I244+I273+I302 -> 0 | J12: =+J41+J70+J99+J128+J157+J186+J215+J244+J273+J302 -> 0 | K12: =+K41+K70+K99+K128+K157+K186+K215+K244+K273+K302 -> 0 | ... P12: =+P41+P70+P99+P128+P157+P186+P215+P244+P273+P302 -> 0 | R12: =VLOOKUP(C12,adatok!$C:$F,3,FALSE) -> 21
A13: =$A$3 -> összesítő | B13: T27 | C13: Egyéb anyagok | D13: =+D42+D71+D100+D129+D158+D187+D216+D245+D274+D303 -> 0 | E13: =+E42+E71+E100+E129+E158+E187+E216+E245+E274+E303 -> 0 | F13: =+F42+F71+F100+F129+F158+F187+F216+F245+F274+F303 -> 0 | G13: =+G42+G71+G100+G129+G158+G187+G216+G245+G274+G303 -> 0 | H13: =+H42+H71+H100+H129+H158+H187+H216+H245+H274+H303 -> 0 | I13: =+I42+I71+I100+I129+I158+I187+I216+I245+I274+I303 -> 0 | J13: =+J42+J71+J100+J129+J158+J187+J216+J245+J274+J303 -> 0 | K13: =+K42+K71+K100+K129+K158+K187+K216+K245+K274+K303 -> 0 | ... P13: =+P42+P71+P100+P129+P158+P187+P216+P245+P274+P303 -> 0 | R13: =VLOOKUP(C13,adatok!$C:$F,3,FALSE) -> 22
A14: =$A$3 -> összesítő | B14: T27 | C14: Terápiás - szakmai anyagköltség | D14: =+D43+D72+D101+D130+D159+D188+D217+D246+D275+D304 -> 0 | E14: =+E43+E72+E101+E130+E159+E188+E217+E246+E275+E304 -> 0 | F14: =+F43+F72+F101+F130+F159+F188+F217+F246+F275+F304 -> 0 | G14: =+G43+G72+G101+G130+G159+G188+G217+G246+G275+G304 -> 0 | H14: =+H43+H72+H101+H130+H159+H188+H217+H246+H275+H304 -> 0 | I14: =+I43+I72+I101+I130+I159+I188+I217+I246+I275+I304 -> 0 | J14: =+J43+J72+J101+J130+J159+J188+J217+J246+J275+J304 -> 0 | K14: =+K43+K72+K101+K130+K159+K188+K217+K246+K275+K304 -> 0 | ... P14: =+P43+P72+P101+P130+P159+P188+P217+P246+P275+P304 -> 0 | R14: =VLOOKUP(C14,adatok!$C:$F,3,FALSE) -> 4
A15: =$A$3 -> összesítő | B15: T28 | C15: Számlás megbízási költségek | D15: =+D44+D73+D102+D131+D160+D189+D218+D247+D276+D305 -> 0 | E15: =+E44+E73+E102+E131+E160+E189+E218+E247+E276+E305 -> 0 | F15: =+F44+F73+F102+F131+F160+F189+F218+F247+F276+F305 -> 0 | G15: =+G44+G73+G102+G131+G160+G189+G218+G247+G276+G305 -> 0 | H15: =+H44+H73+H102+H131+H160+H189+H218+H247+H276+H305 -> 0 | I15: =+I44+I73+I102+I131+I160+I189+I218+I247+I276+I305 -> 0 | J15: =+J44+J73+J102+J131+J160+J189+J218+J247+J276+J305 -> 0 | K15: =+K44+K73+K102+K131+K160+K189+K218+K247+K276+K305 -> 0 | ... P15: =+P44+P73+P102+P131+P160+P189+P218+P247+P276+P305 -> 0 | R15: =VLOOKUP(C15,adatok!$C:$F,3,FALSE) -> 23
A16: =$A$3 -> összesítő | B16: T28 | C16: Javítás, karbantartás költsége | D16: =+D45+D74+D103+D132+D161+D190+D219+D248+D277+D306 -> 0 | E16: =+E45+E74+E103+E132+E161+E190+E219+E248+E277+E306 -> 0 | F16: =+F45+F74+F103+F132+F161+F190+F219+F248+F277+F306 -> 0 | G16: =+G45+G74+G103+G132+G161+G190+G219+G248+G277+G306 -> 0 | H16: =+H45+H74+H103+H132+H161+H190+H219+H248+H277+H306 -> 0 | I16: =+I45+I74+I103+I132+I161+I190+I219+I248+I277+I306 -> 0 | J16: =+J45+J74+J103+J132+J161+J190+J219+J248+J277+J306 -> 0 | K16: =+K45+K74+K103+K132+K161+K190+K219+K248+K277+K306 -> 0 | ... P16: =+P45+P74+P103+P132+P161+P190+P219+P248+P277+P306 -> 0 | R16: =VLOOKUP(C16,adatok!$C:$F,3,FALSE) -> 24
... A29: =$A$3 -> összesítő | B29: T31 | C29: Jármuvek | D29: =+D58+D87+D116+D145+D174+D203+D232+D261+D290+D319 -> 0 | E29: =+E58+E87+E116+E145+E174+E203+E232+E261+E290+E319 -> 0 | F29: =+F58+F87+F116+F145+F174+F203+F232+F261+F290+F319 -> 0 | G29: =+G58+G87+G116+G145+G174+G203+G232+G261+G290+G319 -> 0 | H29: =+H58+H87+H116+H145+H174+H203+H232+H261+H290+H319 -> 0 | I29: =+I58+I87+I116+I145+I174+I203+I232+I261+I290+I319 -> 0 | J29: =+J58+J87+J116+J145+J174+J203+J232+J261+J290+J319 -> 0 | K29: =+K58+K87+K116+K145+K174+K203+K232+K261+K290+K319 -> 0 | ... P29: =+P58+P87+P116+P145+P174+P203+P232+P261+P290+P319 -> 0 | R29: =VLOOKUP(C29,adatok!$C:$F,3,FALSE) -> 19
A30: =$A$3 -> összesítő | B30: T31 | C30: Felhalmozási kiadások | D30: =+D59+D88+D117+D146+D175+D204+D233+D262+D291+D320 -> 0 | E30: =+E59+E88+E117+E146+E175+E204+E233+E262+E291+E320 -> 0 | F30: =+F59+F88+F117+F146+F175+F204+F233+F262+F291+F320 -> 0 | G30: =+G59+G88+G117+G146+G175+G204+G233+G262+G291+G320 -> 0 | H30: =+H59+H88+H117+H146+H175+H204+H233+H262+H291+H320 -> 0 | I30: =+I59+I88+I117+I146+I175+I204+I233+I262+I291+I320 -> 0 | J30: =+J59+J88+J117+J146+J175+J204+J233+J262+J291+J320 -> 0 | K30: =+K59+K88+K117+K146+K175+K204+K233+K262+K291+K320 -> 0 | ... P30: =+P59+P88+P117+P146+P175+P204+P233+P262+P291+P320 -> 0 | Q30: =+P8+P9+P10+P14+P20+P21+P30 -> 0 | R30: =VLOOKUP(C30,adatok!$C:$F,3,FALSE) -> 6
A31: =$A$3 -> összesítő | B31: Bevétel | C31: Bevétel (pénzforgalmi előleg/támogatás) | D31: =+D60+D89+D118+D147+D176+D205+D234+D263+D292+D321 -> 0 | E31: =+E60+E89+E118+E147+E176+E205+E234+E263+E292+E321 -> 0 | F31: =+F60+F89+F118+F147+F176+F205+F234+F263+F292+F321 -> 0 | G31: =+G60+G89+G118+G147+G176+G205+G234+G263+G292+G321 -> 0 | H31: =+H60+H89+H118+H147+H176+H205+H234+H263+H292+H321 -> 0 | I31: =+I60+I89+I118+I147+I176+I205+I234+I263+I292+I321 -> 0 | J31: =+J60+J89+J118+J147+J176+J205+J234+J263+J292+J321 -> 0 | K31: =+K60+K89+K118+K147+K176+K205+K234+K263+K292+K321 -> 0 | ... P31: =+P60+P89+P118+P147+P176+P205+P234+P263+P292+P321 -> 0 | R31: =VLOOKUP(C31,adatok!$C:$F,3,FALSE) -> #N/A
C32: Pénzügyi tétel | D32: 2027. | R32: =VLOOKUP(C32,adatok!$C:$F,3,FALSE) -> #N/A
A33: PST | D33: január | E33: február | F33: március | G33: április | H33: május | I33: június | J33: július | K33: augusztus | L33: szeptember | M33: október | N33: november | O33: december | P33: összesen | R33: =VLOOKUP(C33,adatok!$C:$F,3,FALSE) -> #N/A
A34: =$B$33 -> 0 | B34: =B5 -> T21 | C34: =C5 -> Munkavállalói alapbér (Rendszeres személyi juttatás ) | P34: =SUM(D34:O34) -> 0 | R34: =VLOOKUP(C34,adatok!$C:$F,3,FALSE) -> 8
A35: =$B$33 -> 0 | B35: =B6 -> T21 | C35: =C6 -> Munkavállalói többletkifizetés (Időszakos személyi juttatás) | P35: =SUM(D35:O35) -> 0 | R35: =VLOOKUP(C35,adatok!$C:$F,3,FALSE) -> 9
A36: =$B$33 -> 0 | B36: =B7 -> T21 | C36: =C7 -> Külső személyi juttatás | P36: =SUM(D36:O36) -> 0 | R36: =VLOOKUP(C36,adatok!$C:$F,3,FALSE) -> 10
A37: =$B$33 -> 0 | B37: =B8 -> T21 | C37: =C8 -> Személyi költségek | D37: =+D34+D35+D36 -> 0 | E37: =+E34+E35+E36 -> 0 | F37: =+F34+F35+F36 -> 0 | G37: =+G34+G35+G36 -> 0 | H37: =+H34+H35+H36 -> 0 | I37: =+I34+I35+I36 -> 0 | J37: =+J34+J35+J36 -> 0 | K37: =+K34+K35+K36 -> 0 | ... O37: =+O34+O35+O36 -> 0 | P37: =SUM(D37:O37) -> 0 | R37: =VLOOKUP(C37,adatok!$C:$F,3,FALSE) -> 1
A38: =$B$33 -> 0 | B38: =B9 -> T23 | C38: =C9 -> Járulékok | D38: =+IF($B$2="Magyar forint",ROUND((D34+D35)*0.13+D36*0.9*0.13,0),ROUND((D34+D35)*0.13+D36*0.9*0.13,2)) -> 0 | E38: =+IF($B$2="Magyar forint",ROUND((E34+E35)*0.13+E36*0.9*0.13,0),ROUND((E34+E35)*0.13+E36*0.9*0.13,2)) -> 0 | F38: =+IF($B$2="Magyar forint",ROUND((F34+F35)*0.13+F36*0.9*0.13,0),ROUND((F34+F35)*0.13+F36*0.9*0.13,2)) -> 0 | G38: =+IF($B$2="Magyar forint",ROUND((G34+G35)*0.13+G36*0.9*0.13,0),ROUND((G34+G35)*0.13+G36*0.9*0.13,2)) -> 0 | H38: =+IF($B$2="Magyar forint",ROUND((H34+H35)*0.13+H36*0.9*0.13,0),ROUND((H34+H35)*0.13+H36*0.9*0.13,2)) -> 0 | I38: =+IF($B$2="Magyar forint",ROUND((I34+I35)*0.13+I36*0.9*0.13,0),ROUND((I34+I35)*0.13+I36*0.9*0.13,2)) -> 0 | J38: =+IF($B$2="Magyar forint",ROUND((J34+J35)*0.13+J36*0.9*0.13,0),ROUND((J34+J35)*0.13+J36*0.9*0.13,2)) -> 0 | K38: =+IF($B$2="Magyar forint",ROUND((K34+K35)*0.13+K36*0.9*0.13,0),ROUND((K34+K35)*0.13+K36*0.9*0.13,2)) -> 0 | ... O38: =+IF($B$2="Magyar forint",ROUND((O34+O35)*0.13+O36*0.9*0.13,0),ROUND((O34+O35)*0.13+O36*0.9*0.13,2)) -> 0 | P38: =SUM(D38:O38) -> 0 | R38: =VLOOKUP(C38,adatok!$C:$F,3,FALSE) -> 2
A39: =$B$33 -> 0 | B39: =B10 -> T41 | C39: =C10 -> Overhead - általános költségek | D39: {=IF($B$2="Magyar forint",ROUND(IFERROR(_xlfn.IFS($F$1="a pályázat összköltsége",((+D37+D38+D43+D49+D50+D59)/(1-$J$1))*$J$1,$F$1="a pályázat közvetlen költsége",(+D37+D38+D43+D49+D50+D59)*$J$1,$F$1="személyi költségek",(+D37+D38)*$J$1,$F$1="közvetlen költség Szolgáltatás (52) nélkül",(+D37+D38+#REF!+D50+D59)*$J$1),0),0),ROUND(IFERROR(_xlfn.IFS($F$1="a pályázat összköltsége",((+D37+D38+D43+D49+D50+D59)/(1-$J$1))*$J$1,$F$1="a pályázat közvetlen költsége",(+D37+D38+D43+D49+D50+D59)*$J$1,$F$1="személyi költségek",(+D37+D38)*$J$1,$F$1="közvetlen költség Szolgáltatás (52) nélkül",(+D37+D38+D43+D50+D59)*$J$1),0),2))} -> 0 | E39: {=IF($B$2="Magyar forint",ROUND(IFERROR(_xlfn.IFS($F$1="a pályázat összköltsége",((+E37+E38+E43+E49+E50+E59)/(1-$J$1))*$J$1,$F$1="a pályázat közvetlen költsége",(+E37+E38+E43+E49+E50+E59)*$J$1,$F$1="személyi költségek",(+E37+E38)*$J$1,$F$1="közvetlen költség Szolgáltatás (52) nélkül",(+E37+E38+#REF!+E50+E59)*$J$1),0),0),ROUND(IFERROR(_xlfn.IFS($F$1="a pályázat összköltsége",((+E37+E38+E43+E49+E50+E59)/(1-$J$1))*$J$1,$F$1="a pályázat közvetlen költsége",(+E37+E38+E43+E49+E50+E59)*$J$1,$F$1="személyi költségek",(+E37+E38)*$J$1,$F$1="közvetlen költség Szolgáltatás (52) nélkül",(+E37+E38+E43+E50+E59)*$J$1),0),2))} -> 0 | F39: {=IF($B$2="Magyar forint",ROUND(IFERROR(_xlfn.IFS($F$1="a pályázat összköltsége",((+F37+F38+F43+F49+F50+F59)/(1-$J$1))*$J$1,$F$1="a pályázat közvetlen költsége",(+F37+F38+F43+F49+F50+F59)*$J$1,$F$1="személyi költségek",(+F37+F38)*$J$1,$F$1="közvetlen költség Szolgáltatás (52) nélkül",(+F37+F38+#REF!+F50+F59)*$J$1),0),0),ROUND(IFERROR(_xlfn.IFS($F$1="a pályázat összköltsége",((+F37+F38+F43+F49+F50+F59)/(1-$J$1))*$J$1,$F$1="a pályázat közvetlen költsége",(+F37+F38+F43+F49+F50+F59)*$J$1,$F$1="személyi költségek",(+F37+F38)*$J$1,$F$1="közvetlen költség Szolgáltatás (52) nélkül",(+F37+F38+F43+F50+F59)*$J$1),0),2))} -> 0 | G39: {=IF($B$2="Magyar forint",ROUND(IFERROR(_xlfn.IFS($F$1="a pályázat összköltsége",((+G37+G38+G43+G49+G50+G59)/(1-$J$1))*$J$1,$F$1="a pályázat közvetlen költsége",(+G37+G38+G43+G49+G50+G59)*$J$1,$F$1="személyi költségek",(+G37+G38)*$J$1,$F$1="közvetlen költség Szolgáltatás (52) nélkül",(+G37+G38+#REF!+G50+G59)*$J$1),0),0),ROUND(IFERROR(_xlfn.IFS($F$1="a pályázat összköltsége",((+G37+G38+G43+G49+G50+G59)/(1-$J$1))*$J$1,$F$1="a pályázat közvetlen költsége",(+G37+G38+G43+G49+G50+G59)*$J$1,$F$1="személyi költségek",(+G37+G38)*$J$1,$F$1="közvetlen költség Szolgáltatás (52) nélkül",(+G37+G38+G43+G50+G59)*$J$1),0),2))} -> 0 | H39: {=IF($B$2="Magyar forint",ROUND(IFERROR(_xlfn.IFS($F$1="a pályázat összköltsége",((+H37+H38+H43+H49+H50+H59)/(1-$J$1))*$J$1,$F$1="a pályázat közvetlen költsége",(+H37+H38+H43+H49+H50+H59)*$J$1,$F$1="személyi költségek",(+H37+H38)*$J$1,$F$1="közvetlen költség Szolgáltatás (52) nélkül",(+H37+H38+#REF!+H50+H59)*$J$1),0),0),ROUND(IFERROR(_xlfn.IFS($F$1="a pályázat összköltsége",((+H37+H38+H43+H49+H50+H59)/(1-$J$1))*$J$1,$F$1="a pályázat közvetlen költsége",(+H37+H38+H43+H49+H50+H59)*$J$1,$F$1="személyi költségek",(+H37+H38)*$J$1,$F$1="közvetlen költség Szolgáltatás (52) nélkül",(+H37+H38+H43+H50+H59)*$J$1),0),2))} -> 0 | I39: {=IF($B$2="Magyar forint",ROUND(IFERROR(_xlfn.IFS($F$1="a pályázat összköltsége",((+I37+I38+I43+I49+I50+I59)/(1-$J$1))*$J$1,$F$1="a pályázat közvetlen költsége",(+I37+I38+I43+I49+I50+I59)*$J$1,$F$1="személyi költségek",(+I37+I38)*$J$1,$F$1="közvetlen költség Szolgáltatás (52) nélkül",(+I37+I38+#REF!+I50+I59)*$J$1),0),0),ROUND(IFERROR(_xlfn.IFS($F$1="a pályázat összköltsége",((+I37+I38+I43+I49+I50+I59)/(1-$J$1))*$J$1,$F$1="a pályázat közvetlen költsége",(+I37+I38+I43+I49+I50+I59)*$J$1,$F$1="személyi költségek",(+I37+I38)*$J$1,$F$1="közvetlen költség Szolgáltatás (52) nélkül",(+I37+I38+I43+I50+I59)*$J$1),0),2))} -> 0 | J39: {=IF($B$2="Magyar forint",ROUND(IFERROR(_xlfn.IFS($F$1="a pályázat összköltsége",((+J37+J38+J43+J49+J50+J59)/(1-$J$1))*$J$1,$F$1="a pályázat közvetlen költsége",(+J37+J38+J43+J49+J50+J59)*$J$1,$F$1="személyi költségek",(+J37+J38)*$J$1,$F$1="közvetlen költség Szolgáltatás (52) nélkül",(+J37+J38+#REF!+J50+J59)*$J$1),0),0),ROUND(IFERROR(_xlfn.IFS($F$1="a pályázat összköltsége",((+J37+J38+J43+J49+J50+J59)/(1-$J$1))*$J$1,$F$1="a pályázat közvetlen költsége",(+J37+J38+J43+J49+J50+J59)*$J$1,$F$1="személyi költségek",(+J37+J38)*$J$1,$F$1="közvetlen költség Szolgáltatás (52) nélkül",(+J37+J38+J43+J50+J59)*$J$1),0),2))} -> 0 | K39: {=IF($B$2="Magyar forint",ROUND(IFERROR(_xlfn.IFS($F$1="a pályázat összköltsége",((+K37+K38+K43+K49+K50+K59)/(1-$J$1))*$J$1,$F$1="a pályázat közvetlen költsége",(+K37+K38+K43+K49+K50+K59)*$J$1,$F$1="személyi költségek",(+K37+K38)*$J$1,$F$1="közvetlen költség Szolgáltatás (52) nélkül",(+K37+K38+#REF!+K50+K59)*$J$1),0),0),ROUND(IFERROR(_xlfn.IFS($F$1="a pályázat összköltsége",((+K37+K38+K43+K49+K50+K59)/(1-$J$1))*$J$1,$F$1="a pályázat közvetlen költsége",(+K37+K38+K43+K49+K50+K59)*$J$1,$F$1="személyi költségek",(+K37+K38)*$J$1,$F$1="közvetlen költség Szolgáltatás (52) nélkül",(+K37+K38+K43+K50+K59)*$J$1),0),2))} -> 0 | ... O39: {=IF($B$2="Magyar forint",ROUND(IFERROR(_xlfn.IFS($F$1="a pályázat összköltsége",((+O37+O38+O43+O49+O50+O59)/(1-$J$1))*$J$1,$F$1="a pályázat közvetlen költsége",(+O37+O38+O43+O49+O50+O59)*$J$1,$F$1="személyi költségek",(+O37+O38)*$J$1,$F$1="közvetlen költség Szolgáltatás (52) nélkül",(+O37+O38+#REF!+O50+O59)*$J$1),0),0),ROUND(IFERROR(_xlfn.IFS($F$1="a pályázat összköltsége",((+O37+O38+O43+O49+O50+O59)/(1-$J$1))*$J$1,$F$1="a pályázat közvetlen költsége",(+O37+O38+O43+O49+O50+O59)*$J$1,$F$1="személyi költségek",(+O37+O38)*$J$1,$F$1="közvetlen költség Szolgáltatás (52) nélkül",(+O37+O38+O43+O50+O59)*$J$1),0),2))} -> 0 | P39: =SUM(D39:O39) -> 0 | R39: =VLOOKUP(C39,adatok!$C:$F,3,FALSE) -> 3
A40: =$B$33 -> 0 | B40: =B11 -> T27 | C40: =C11 -> Vegyszerek költségei | P40: =SUM(D40:O40) -> 0 | R40: =VLOOKUP(C40,adatok!$C:$F,3,FALSE) -> 20
A41: =$B$33 -> 0 | B41: =B12 -> T27 | C41: =C12 -> Szakmai anyagok költségei | P41: =SUM(D41:O41) -> 0 | R41: =VLOOKUP(C41,adatok!$C:$F,3,FALSE) -> 21
A42: =$B$33 -> 0 | B42: =B13 -> T27 | C42: =C13 -> Egyéb anyagok | P42: =SUM(D42:O42) -> 0 | R42: =VLOOKUP(C42,adatok!$C:$F,3,FALSE) -> 22
A43: =$B$33 -> 0 | B43: =B14 -> T27 | C43: =C14 -> Terápiás - szakmai anyagköltség | D43: =+D40+D41+D42 -> 0 | E43: =+E40+E41+E42 -> 0 | F43: =+F40+F41+F42 -> 0 | G43: =+G40+G41+G42 -> 0 | H43: =+H40+H41+H42 -> 0 | I43: =+I40+I41+I42 -> 0 | J43: =+J40+J41+J42 -> 0 | K43: =+K40+K41+K42 -> 0 | ... O43: =+O40+O41+O42 -> 0 | P43: =SUM(D43:O43) -> 0 | R43: =VLOOKUP(C43,adatok!$C:$F,3,FALSE) -> 4
A44: =$B$33 -> 0 | B44: =B15 -> T28 | C44: =C15 -> Számlás megbízási költségek | P44: =SUM(D44:O44) -> 0 | R44: =VLOOKUP(C44,adatok!$C:$F,3,FALSE) -> 23
A45: =$B$33 -> 0 | B45: =B16 -> T28 | C45: =C16 -> Javítás, karbantartás költsége | P45: =SUM(D45:O45) -> 0 | R45: =VLOOKUP(C45,adatok!$C:$F,3,FALSE) -> 24
A46: =$B$33 -> 0 | B46: =B17 -> T28 | C46: =C17 -> Informatikai szolgáltatás igénybevétele | P46: =SUM(D46:O46) -> 0 | R46: =VLOOKUP(C46,adatok!$C:$F,3,FALSE) -> 25
A47: =$B$33 -> 0 | B47: =B18 -> T28 | C47: =C18 -> Utazási és küldetési költségei ók | P47: =SUM(D47:O47) -> 0 | R47: =VLOOKUP(C47,adatok!$C:$F,3,FALSE) -> 26
A48: =$B$33 -> 0 | B48: =B19 -> T28 | C48: =C19 -> Egyéb szolgáltatások | P48: =SUM(D48:O48) -> 0 | R48: =VLOOKUP(C48,adatok!$C:$F,3,FALSE) -> 27
A49: =$B$33 -> 0 | B49: =B20 -> T28 | C49: =C20 -> Dologi kiadások | D49: =+D44+D45+D46+D47+D48 -> 0 | E49: =+E44+E45+E46+E47+E48 -> 0 | F49: =+F44+F45+F46+F47+F48 -> 0 | G49: =+G44+G45+G46+G47+G48 -> 0 | H49: =+H44+H45+H46+H47+H48 -> 0 | I49: =+I44+I45+I46+I47+I48 -> 0 | J49: =+J44+J45+J46+J47+J48 -> 0 | K49: =+K44+K45+K46+K47+K48 -> 0 | ... O49: =+O44+O45+O46+O47+O48 -> 0 | P49: =SUM(D49:O49) -> 0 | R49: =VLOOKUP(C49,adatok!$C:$F,3,FALSE) -> 5
A50: =$B$33 -> 0 | B50: =B21 -> T29 | C50: =C21 -> Ellátottak pénzbeli juttatásai (Ösztöndíjak 8641300) | P50: =SUM(D50:O50) -> 0 | R50: =VLOOKUP(C50,adatok!$C:$F,3,FALSE) -> 11
A51: =$B$33 -> 0 | B51: =B22 -> T31 | C51: =C22 -> Vagyoni értéku jogok | P51: =SUM(D51:O51) -> 0 | R51: =VLOOKUP(C51,adatok!$C:$F,3,FALSE) -> 12
A52: =$B$33 -> 0 | B52: =B23 -> T31 | C52: =C23 -> Szellemi termékek | P52: =SUM(D52:O52) -> 0 | R52: =VLOOKUP(C52,adatok!$C:$F,3,FALSE) -> 13
A53: =$B$33 -> 0 | B53: =B24 -> T31 | C53: =C24 -> Épületek | P53: =SUM(D53:O53) -> 0 | R53: =VLOOKUP(C53,adatok!$C:$F,3,FALSE) -> 14
A54: =$B$33 -> 0 | B54: =B25 -> T31 | C54: =C25 -> Egyéb építmények | P54: =SUM(D54:O54) -> 0 | R54: =VLOOKUP(C54,adatok!$C:$F,3,FALSE) -> 15
A55: =$B$33 -> 0 | B55: =B26 -> T31 | C55: =C26 -> Orvosi gépek és berendezések | P55: =SUM(D55:O55) -> 0 | R55: =VLOOKUP(C55,adatok!$C:$F,3,FALSE) -> 16
A56: =$B$33 -> 0 | B56: =B27 -> T31 | C56: =C27 -> Irodai és számítástechnikai eszközök | P56: =SUM(D56:O56) -> 0 | R56: =VLOOKUP(C56,adatok!$C:$F,3,FALSE) -> 17
A57: =$B$33 -> 0 | B57: =B28 -> T31 | C57: =C28 -> Egyéb gépek és berendezések | P57: =SUM(D57:O57) -> 0 | R57: =VLOOKUP(C57,adatok!$C:$F,3,FALSE) -> 18
A58: =$B$33 -> 0 | B58: =B29 -> T31 | C58: =C29 -> Jármuvek | P58: =SUM(D58:O58) -> 0 | R58: =VLOOKUP(C58,adatok!$C:$F,3,FALSE) -> 19
A59: =$B$33 -> 0 | B59: =B30 -> T31 | C59: =C30 -> Felhalmozási kiadások | D59: =+D51+D52+D53+D54+D55+D56+D57+D58 -> 0 | E59: =+E51+E52+E53+E54+E55+E56+E57+E58 -> 0 | F59: =+F51+F52+F53+F54+F55+F56+F57+F58 -> 0 | G59: =+G51+G52+G53+G54+G55+G56+G57+G58 -> 0 | H59: =+H51+H52+H53+H54+H55+H56+H57+H58 -> 0 | I59: =+I51+I52+I53+I54+I55+I56+I57+I58 -> 0 | J59: =+J51+J52+J53+J54+J55+J56+J57+J58 -> 0 | K59: =+K51+K52+K53+K54+K55+K56+K57+K58 -> 0 | ... O59: =+O51+O52+O53+O54+O55+O56+O57+O58 -> 0 | P59: =SUM(D59:O59) -> 0 | R59: =VLOOKUP(C59,adatok!$C:$F,3,FALSE) -> 6
A60: =$B$33 -> 0 | B60: =B31 -> Bevétel | C60: =C31 -> Bevétel (pénzforgalmi előleg/támogatás) | P60: =SUM(D60:O60) -> 0 | R60: =VLOOKUP(C60,adatok!$C:$F,3,FALSE) -> #N/A
C61: Pénzügyi tétel | D61: 2027. | R61: =VLOOKUP(C61,adatok!$C:$F,3,FALSE) -> #N/A
A62: PST | D62: január | E62: február | F62: március | G62: április | H62: május | I62: június | J62: július | K62: augusztus | L62: szeptember | M62: október | N62: november | O62: december | P62: összesen | R62: =VLOOKUP(C62,adatok!$C:$F,3,FALSE) -> #N/A
A63: =$B$62 -> 0 | B63: =B34 -> T21 | C63: =C34 -> Munkavállalói alapbér (Rendszeres személyi juttatás ) | E63: 0 | F63: 0 | G63: 0 | H63: 0 | I63: 0 | J63: 0 | K63: 0 | L63: 0 | M63: 0 | N63: 0 | O63: 0 | P63: =SUM(D63:O63) -> 0 | R63: =VLOOKUP(C63,adatok!$C:$F,3,FALSE) -> 8
A64: =$B$62 -> 0 | B64: =B35 -> T21 | C64: =C35 -> Munkavállalói többletkifizetés (Időszakos személyi juttatás) | P64: =SUM(D64:O64) -> 0 | R64: =VLOOKUP(C64,adatok!$C:$F,3,FALSE) -> 9
A65: =$B$62 -> 0 | B65: =B36 -> T21 | C65: =C36 -> Külső személyi juttatás | P65: =SUM(D65:O65) -> 0 | R65: =VLOOKUP(C65,adatok!$C:$F,3,FALSE) -> 10
A66: =$B$62 -> 0 | B66: =B37 -> T21 | C66: =C37 -> Személyi költségek | D66: =+D63+D64+D65 -> 0 | E66: =+E63+E64+E65 -> 0 | F66: =+F63+F64+F65 -> 0 | G66: =+G63+G64+G65 -> 0 | H66: =+H63+H64+H65 -> 0 | I66: =+I63+I64+I65 -> 0 | J66: =+J63+J64+J65 -> 0 | K66: =+K63+K64+K65 -> 0 | ... O66: =+O63+O64+O65 -> 0 | P66: =SUM(D66:O66) -> 0 | R66: =VLOOKUP(C66,adatok!$C:$F,3,FALSE) -> 1
A67: =$B$62 -> 0 | B67: =B38 -> T23 | C67: =C38 -> Járulékok | D67: =+IF($B$2="Magyar forint",ROUND((D63+D64)*0.13+D65*0.9*0.13,0),ROUND((D63+D64)*0.13+D65*0.9*0.13,2)) -> 0 | E67: =+IF($B$2="Magyar forint",ROUND((E63+E64)*0.13+E65*0.9*0.13,0),ROUND((E63+E64)*0.13+E65*0.9*0.13,2)) -> 0 | F67: =+IF($B$2="Magyar forint",ROUND((F63+F64)*0.13+F65*0.9*0.13,0),ROUND((F63+F64)*0.13+F65*0.9*0.13,2)) -> 0 | G67: =+IF($B$2="Magyar forint",ROUND((G63+G64)*0.13+G65*0.9*0.13,0),ROUND((G63+G64)*0.13+G65*0.9*0.13,2)) -> 0 | H67: =+IF($B$2="Magyar forint",ROUND((H63+H64)*0.13+H65*0.9*0.13,0),ROUND((H63+H64)*0.13+H65*0.9*0.13,2)) -> 0 | I67: =+IF($B$2="Magyar forint",ROUND((I63+I64)*0.13+I65*0.9*0.13,0),ROUND((I63+I64)*0.13+I65*0.9*0.13,2)) -> 0 | J67: =+IF($B$2="Magyar forint",ROUND((J63+J64)*0.13+J65*0.9*0.13,0),ROUND((J63+J64)*0.13+J65*0.9*0.13,2)) -> 0 | K67: =+IF($B$2="Magyar forint",ROUND((K63+K64)*0.13+K65*0.9*0.13,0),ROUND((K63+K64)*0.13+K65*0.9*0.13,2)) -> 0 | ... O67: =+IF($B$2="Magyar forint",ROUND((O63+O64)*0.13+O65*0.9*0.13,0),ROUND((O63+O64)*0.13+O65*0.9*0.13,2)) -> 0 | P67: =SUM(D67:O67) -> 0 | R67: =VLOOKUP(C67,adatok!$C:$F,3,FALSE) -> 2
A68: =$B$62 -> 0 | B68: =B39 -> T41 | C68: =C39 -> Overhead - általános költségek | D68: {=IF($B$2="Magyar forint",ROUND(IFERROR(_xlfn.IFS($F$1="a pályázat összköltsége",((+D66+D67+D72+D78+D79+D88)/(1-$J$1))*$J$1,$F$1="a pályázat közvetlen költsége",(+D66+D67+D72+D78+D79+D88)*$J$1,$F$1="személyi költségek",(+D66+D67)*$J$1,$F$1="közvetlen költség Szolgáltatás (52) nélkül",(+D66+D67+#REF!+D79+D88)*$J$1),0),0),ROUND(IFERROR(_xlfn.IFS($F$1="a pályázat összköltsége",((+D66+D67+D72+D78+D79+D88)/(1-$J$1))*$J$1,$F$1="a pályázat közvetlen költsége",(+D66+D67+D72+D78+D79+D88)*$J$1,$F$1="személyi költségek",(+D66+D67)*$J$1,$F$1="közvetlen költség Szolgáltatás (52) nélkül",(+D66+D67+D72+D79+D88)*$J$1),0),2))} -> 0 | E68: {=IF($B$2="Magyar forint",ROUND(IFERROR(_xlfn.IFS($F$1="a pályázat összköltsége",((+E66+E67+E72+E78+E79+E88)/(1-$J$1))*$J$1,$F$1="a pályázat közvetlen költsége",(+E66+E67+E72+E78+E79+E88)*$J$1,$F$1="személyi költségek",(+E66+E67)*$J$1,$F$1="közvetlen költség Szolgáltatás (52) nélkül",(+E66+E67+#REF!+E79+E88)*$J$1),0),0),ROUND(IFERROR(_xlfn.IFS($F$1="a pályázat összköltsége",((+E66+E67+E72+E78+E79+E88)/(1-$J$1))*$J$1,$F$1="a pályázat közvetlen költsége",(+E66+E67+E72+E78+E79+E88)*$J$1,$F$1="személyi költségek",(+E66+E67)*$J$1,$F$1="közvetlen költség Szolgáltatás (52) nélkül",(+E66+E67+E72+E79+E88)*$J$1),0),2))} -> 0 | F68: {=IF($B$2="Magyar forint",ROUND(IFERROR(_xlfn.IFS($F$1="a pályázat összköltsége",((+F66+F67+F72+F78+F79+F88)/(1-$J$1))*$J$1,$F$1="a pályázat közvetlen költsége",(+F66+F67+F72+F78+F79+F88)*$J$1,$F$1="személyi költségek",(+F66+F67)*$J$1,$F$1="közvetlen költség Szolgáltatás (52) nélkül",(+F66+F67+#REF!+F79+F88)*$J$1),0),0),ROUND(IFERROR(_xlfn.IFS($F$1="a pályázat összköltsége",((+F66+F67+F72+F78+F79+F88)/(1-$J$1))*$J$1,$F$1="a pályázat közvetlen költsége",(+F66+F67+F72+F78+F79+F88)*$J$1,$F$1="személyi költségek",(+F66+F67)*$J$1,$F$1="közvetlen költség Szolgáltatás (52) nélkül",(+F66+F67+F72+F79+F88)*$J$1),0),2))} -> 0 | G68: {=IF($B$2="Magyar forint",ROUND(IFERROR(_xlfn.IFS($F$1="a pályázat összköltsége",((+G66+G67+G72+G78+G79+G88)/(1-$J$1))*$J$1,$F$1="a pályázat közvetlen költsége",(+G66+G67+G72+G78+G79+G88)*$J$1,$F$1="személyi költségek",(+G66+G67)*$J$1,$F$1="közvetlen költség Szolgáltatás (52) nélkül",(+G66+G67+#REF!+G79+G88)*$J$1),0),0),ROUND(IFERROR(_xlfn.IFS($F$1="a pályázat összköltsége",((+G66+G67+G72+G78+G79+G88)/(1-$J$1))*$J$1,$F$1="a pályázat közvetlen költsége",(+G66+G67+G72+G78+G79+G88)*$J$1,$F$1="személyi költségek",(+G66+G67)*$J$1,$F$1="közvetlen költség Szolgáltatás (52) nélkül",(+G66+G67+G72+G79+G88)*$J$1),0),2))} -> 0 | H68: {=IF($B$2="Magyar forint",ROUND(IFERROR(_xlfn.IFS($F$1="a pályázat összköltsége",((+H66+H67+H72+H78+H79+H88)/(1-$J$1))*$J$1,$F$1="a pályázat közvetlen költsége",(+H66+H67+H72+H78+H79+H88)*$J$1,$F$1="személyi költségek",(+H66+H67)*$J$1,$F$1="közvetlen költség Szolgáltatás (52) nélkül",(+H66+H67+#REF!+H79+H88)*$J$1),0),0),ROUND(IFERROR(_xlfn.IFS($F$1="a pályázat összköltsége",((+H66+H67+H72+H78+H79+H88)/(1-$J$1))*$J$1,$F$1="a pályázat közvetlen költsége",(+H66+H67+H72+H78+H79+H88)*$J$1,$F$1="személyi költségek",(+H66+H67)*$J$1,$F$1="közvetlen költség Szolgáltatás (52) nélkül",(+H66+H67+H72+H79+H88)*$J$1),0),2))} -> 0 | I68: {=IF($B$2="Magyar forint",ROUND(IFERROR(_xlfn.IFS($F$1="a pályázat összköltsége",((+I66+I67+I72+I78+I79+I88)/(1-$J$1))*$J$1,$F$1="a pályázat közvetlen költsége",(+I66+I67+I72+I78+I79+I88)*$J$1,$F$1="személyi költségek",(+I66+I67)*$J$1,$F$1="közvetlen költség Szolgáltatás (52) nélkül",(+I66+I67+#REF!+I79+I88)*$J$1),0),0),ROUND(IFERROR(_xlfn.IFS($F$1="a pályázat összköltsége",((+I66+I67+I72+I78+I79+I88)/(1-$J$1))*$J$1,$F$1="a pályázat közvetlen költsége",(+I66+I67+I72+I78+I79+I88)*$J$1,$F$1="személyi költségek",(+I66+I67)*$J$1,$F$1="közvetlen költség Szolgáltatás (52) nélkül",(+I66+I67+I72+I79+I88)*$J$1),0),2))} -> 0 | J68: {=IF($B$2="Magyar forint",ROUND(IFERROR(_xlfn.IFS($F$1="a pályázat összköltsége",((+J66+J67+J72+J78+J79+J88)/(1-$J$1))*$J$1,$F$1="a pályázat közvetlen költsége",(+J66+J67+J72+J78+J79+J88)*$J$1,$F$1="személyi költségek",(+J66+J67)*$J$1,$F$1="közvetlen költség Szolgáltatás (52) nélkül",(+J66+J67+#REF!+J79+J88)*$J$1),0),0),ROUND(IFERROR(_xlfn.IFS($F$1="a pályázat összköltsége",((+J66+J67+J72+J78+J79+J88)/(1-$J$1))*$J$1,$F$1="a pályázat közvetlen költsége",(+J66+J67+J72+J78+J79+J88)*$J$1,$F$1="személyi költségek",(+J66+J67)*$J$1,$F$1="közvetlen költség Szolgáltatás (52) nélkül",(+J66+J67+J72+J79+J88)*$J$1),0),2))} -> 0 | K68: {=IF($B$2="Magyar forint",ROUND(IFERROR(_xlfn.IFS($F$1="a pályázat összköltsége",((+K66+K67+K72+K78+K79+K88)/(1-$J$1))*$J$1,$F$1="a pályázat közvetlen költsége",(+K66+K67+K72+K78+K79+K88)*$J$1,$F$1="személyi költségek",(+K66+K67)*$J$1,$F$1="közvetlen költség Szolgáltatás (52) nélkül",(+K66+K67+#REF!+K79+K88)*$J$1),0),0),ROUND(IFERROR(_xlfn.IFS($F$1="a pályázat összköltsége",((+K66+K67+K72+K78+K79+K88)/(1-$J$1))*$J$1,$F$1="a pályázat közvetlen költsége",(+K66+K67+K72+K78+K79+K88)*$J$1,$F$1="személyi költségek",(+K66+K67)*$J$1,$F$1="közvetlen költség Szolgáltatás (52) nélkül",(+K66+K67+K72+K79+K88)*$J$1),0),2))} -> 0 | ... O68: {=IF($B$2="Magyar forint",ROUND(IFERROR(_xlfn.IFS($F$1="a pályázat összköltsége",((+O66+O67+O72+O78+O79+O88)/(1-$J$1))*$J$1,$F$1="a pályázat közvetlen költsége",(+O66+O67+O72+O78+O79+O88)*$J$1,$F$1="személyi költségek",(+O66+O67)*$J$1,$F$1="közvetlen költség Szolgáltatás (52) nélkül",(+O66+O67+#REF!+O79+O88)*$J$1),0),0),ROUND(IFERROR(_xlfn.IFS($F$1="a pályázat összköltsége",((+O66+O67+O72+O78+O79+O88)/(1-$J$1))*$J$1,$F$1="a pályázat közvetlen költsége",(+O66+O67+O72+O78+O79+O88)*$J$1,$F$1="személyi költségek",(+O66+O67)*$J$1,$F$1="közvetlen költség Szolgáltatás (52) nélkül",(+O66+O67+O72+O79+O88)*$J$1),0),2))} -> 0 | P68: =SUM(D68:O68) -> 0 | R68: =VLOOKUP(C68,adatok!$C:$F,3,FALSE) -> 3
A69: =$B$62 -> 0 | B69: =B40 -> T27 | C69: =C40 -> Vegyszerek költségei | P69: =SUM(D69:O69) -> 0 | R69: =VLOOKUP(C69,adatok!$C:$F,3,FALSE) -> 20
A70: =$B$62 -> 0 | B70: =B41 -> T27 | C70: =C41 -> Szakmai anyagok költségei | P70: =SUM(D70:O70) -> 0 | R70: =VLOOKUP(C70,adatok!$C:$F,3,FALSE) -> 21
A71: =$B$62 -> 0 | B71: =B42 -> T27 | C71: =C42 -> Egyéb anyagok | P71: =SUM(D71:O71) -> 0 | R71: =VLOOKUP(C71,adatok!$C:$F,3,FALSE) -> 22
A72: =$B$62 -> 0 | B72: =B43 -> T27 | C72: =C43 -> Terápiás - szakmai anyagköltség | D72: =+D69+D70+D71 -> 0 | E72: =+E69+E70+E71 -> 0 | F72: =+F69+F70+F71 -> 0 | G72: =+G69+G70+G71 -> 0 | H72: =+H69+H70+H71 -> 0 | I72: =+I69+I70+I71 -> 0 | J72: =+J69+J70+J71 -> 0 | K72: =+K69+K70+K71 -> 0 | ... O72: =+O69+O70+O71 -> 0 | P72: =SUM(D72:O72) -> 0 | R72: =VLOOKUP(C72,adatok!$C:$F,3,FALSE) -> 4
A73: =$B$62 -> 0 | B73: =B44 -> T28 | C73: =C44 -> Számlás megbízási költségek | P73: =SUM(D73:O73) -> 0 | R73: =VLOOKUP(C73,adatok!$C:$F,3,FALSE) -> 23
A74: =$B$62 -> 0 | B74: =B45 -> T28 | C74: =C45 -> Javítás, karbantartás költsége | P74: =SUM(D74:O74) -> 0 | R74: =VLOOKUP(C74,adatok!$C:$F,3,FALSE) -> 24
A75: =$B$62 -> 0 | B75: =B46 -> T28 | C75: =C46 -> Informatikai szolgáltatás igénybevétele | P75: =SUM(D75:O75) -> 0 | R75: =VLOOKUP(C75,adatok!$C:$F,3,FALSE) -> 25
A76: =$B$62 -> 0 | B76: =B47 -> T28 | C76: =C47 -> Utazási és küldetési költségei ók | P76: =SUM(D76:O76) -> 0 | R76: =VLOOKUP(C76,adatok!$C:$F,3,FALSE) -> 26
A77: =$B$62 -> 0 | B77: =B48 -> T28 | C77: =C48 -> Egyéb szolgáltatások | P77: =SUM(D77:O77) -> 0 | R77: =VLOOKUP(C77,adatok!$C:$F,3,FALSE) -> 27
A78: =$B$62 -> 0 | B78: =B49 -> T28 | C78: =C49 -> Dologi kiadások | D78: =+D73+D74+D75+D76+D77 -> 0 | E78: =+E73+E74+E75+E76+E77 -> 0 | F78: =+F73+F74+F75+F76+F77 -> 0 | G78: =+G73+G74+G75+G76+G77 -> 0 | H78: =+H73+H74+H75+H76+H77 -> 0 | I78: =+I73+I74+I75+I76+I77 -> 0 | J78: =+J73+J74+J75+J76+J77 -> 0 | K78: =+K73+K74+K75+K76+K77 -> 0 | ... O78: =+O73+O74+O75+O76+O77 -> 0 | P78: =SUM(D78:O78) -> 0 | R78: =VLOOKUP(C78,adatok!$C:$F,3,FALSE) -> 5
A79: =$B$62 -> 0 | B79: =B50 -> T29 | C79: =C50 -> Ellátottak pénzbeli juttatásai (Ösztöndíjak 8641300) | P79: =SUM(D79:O79) -> 0 | R79: =VLOOKUP(C79,adatok!$C:$F,3,FALSE) -> 11
A80: =$B$62 -> 0 | B80: =B51 -> T31 | C80: =C51 -> Vagyoni értéku jogok | P80: =SUM(D80:O80) -> 0 | R80: =VLOOKUP(C80,adatok!$C:$F,3,FALSE) -> 12
A81: =$B$62 -> 0 | B81: =B52 -> T31 | C81: =C52 -> Szellemi termékek | P81: =SUM(D81:O81) -> 0 | R81: =VLOOKUP(C81,adatok!$C:$F,3,FALSE) -> 13
A82: =$B$62 -> 0 | B82: =B53 -> T31 | C82: =C53 -> Épületek | P82: =SUM(D82:O82) -> 0 | R82: =VLOOKUP(C82,adatok!$C:$F,3,FALSE) -> 14
A83: =$B$62 -> 0 | B83: =B54 -> T31 | C83: =C54 -> Egyéb építmények | P83: =SUM(D83:O83) -> 0 | R83: =VLOOKUP(C83,adatok!$C:$F,3,FALSE) -> 15
A84: =$B$62 -> 0 | B84: =B55 -> T31 | C84: =C55 -> Orvosi gépek és berendezések | P84: =SUM(D84:O84) -> 0 | R84: =VLOOKUP(C84,adatok!$C:$F,3,FALSE) -> 16
A85: =$B$62 -> 0 | B85: =B56 -> T31 | C85: =C56 -> Irodai és számítástechnikai eszközök | P85: =SUM(D85:O85) -> 0 | R85: =VLOOKUP(C85,adatok!$C:$F,3,FALSE) -> 17
A86: =$B$62 -> 0 | B86: =B57 -> T31 | C86: =C57 -> Egyéb gépek és berendezések | P86: =SUM(D86:O86) -> 0 | R86: =VLOOKUP(C86,adatok!$C:$F,3,FALSE) -> 18
A87: =$B$62 -> 0 | B87: =B58 -> T31 | C87: =C58 -> Jármuvek | P87: =SUM(D87:O87) -> 0 | R87: =VLOOKUP(C87,adatok!$C:$F,3,FALSE) -> 19
A88: =$B$62 -> 0 | B88: =B59 -> T31 | C88: =C59 -> Felhalmozási kiadások | D88: =+D80+D81+D82+D83+D84+D85+D86+D87 -> 0 | E88: =+E80+E81+E82+E83+E84+E85+E86+E87 -> 0 | F88: =+F80+F81+F82+F83+F84+F85+F86+F87 -> 0 | G88: =+G80+G81+G82+G83+G84+G85+G86+G87 -> 0 | H88: =+H80+H81+H82+H83+H84+H85+H86+H87 -> 0 | I88: =+I80+I81+I82+I83+I84+I85+I86+I87 -> 0 | J88: =+J80+J81+J82+J83+J84+J85+J86+J87 -> 0 | K88: =+K80+K81+K82+K83+K84+K85+K86+K87 -> 0 | ... O88: =+O80+O81+O82+O83+O84+O85+O86+O87 -> 0 | P88: =SUM(D88:O88) -> 0 | R88: =VLOOKUP(C88,adatok!$C:$F,3,FALSE) -> 6
A89: =$B$62 -> 0 | B89: =B60 -> Bevétel | C89: =C60 -> Bevétel (pénzforgalmi előleg/támogatás) | P89: =SUM(D89:O89) -> 0 | R89: =VLOOKUP(C89,adatok!$C:$F,3,FALSE) -> #N/A
C90: Pénzügyi tétel | D90: 2027. | R90: =VLOOKUP(C90,adatok!$C:$F,3,FALSE) -> #N/A
A91: PST | D91: január | E91: február | F91: március | G91: április | H91: május | I91: június | J91: július | K91: augusztus | L91: szeptember | M91: október | N91: november | O91: december | P91: összesen | R91: =VLOOKUP(C91,adatok!$C:$F,3,FALSE) -> #N/A
A92: =$B$91 -> 0 | B92: =B63 -> T21 | C92: =C63 -> Munkavállalói alapbér (Rendszeres személyi juttatás ) | E92: 0 | F92: 0 | G92: 0 | H92: 0 | I92: 0 | J92: 0 | K92: 0 | L92: 0 | M92: 0 | N92: 0 | O92: 0 | P92: =SUM(D92:O92) -> 0 | R92: =VLOOKUP(C92,adatok!$C:$F,3,FALSE) -> 8
A93: =$B$91 -> 0 | B93: =B64 -> T21 | C93: =C64 -> Munkavállalói többletkifizetés (Időszakos személyi juttatás) | P93: =SUM(D93:O93) -> 0 | R93: =VLOOKUP(C93,adatok!$C:$F,3,FALSE) -> 9
A94: =$B$91 -> 0 | B94: =B65 -> T21 | C94: =C65 -> Külső személyi juttatás | P94: =SUM(D94:O94) -> 0 | R94: =VLOOKUP(C94,adatok!$C:$F,3,FALSE) -> 10
A95: =$B$91 -> 0 | B95: =B66 -> T21 | C95: =C66 -> Személyi költségek | D95: =+D92+D93+D94 -> 0 | E95: =+E92+E93+E94 -> 0 | F95: =+F92+F93+F94 -> 0 | G95: =+G92+G93+G94 -> 0 | H95: =+H92+H93+H94 -> 0 | I95: =+I92+I93+I94 -> 0 | J95: =+J92+J93+J94 -> 0 | K95: =+K92+K93+K94 -> 0 | ... O95: =+O92+O93+O94 -> 0 | P95: =SUM(D95:O95) -> 0 | R95: =VLOOKUP(C95,adatok!$C:$F,3,FALSE) -> 1
A96: =$B$91 -> 0 | B96: =B67 -> T23 | C96: =C67 -> Járulékok | D96: =+IF($B$2="Magyar forint",ROUND((D92+D93)*0.13+D94*0.9*0.13,0),ROUND((D92+D93)*0.13+D94*0.9*0.13,2)) -> 0 | E96: =+IF($B$2="Magyar forint",ROUND((E92+E93)*0.13+E94*0.9*0.13,0),ROUND((E92+E93)*0.13+E94*0.9*0.13,2)) -> 0 | F96: =+IF($B$2="Magyar forint",ROUND((F92+F93)*0.13+F94*0.9*0.13,0),ROUND((F92+F93)*0.13+F94*0.9*0.13,2)) -> 0 | G96: =+IF($B$2="Magyar forint",ROUND((G92+G93)*0.13+G94*0.9*0.13,0),ROUND((G92+G93)*0.13+G94*0.9*0.13,2)) -> 0 | H96: =+IF($B$2="Magyar forint",ROUND((H92+H93)*0.13+H94*0.9*0.13,0),ROUND((H92+H93)*0.13+H94*0.9*0.13,2)) -> 0 | I96: =+IF($B$2="Magyar forint",ROUND((I92+I93)*0.13+I94*0.9*0.13,0),ROUND((I92+I93)*0.13+I94*0.9*0.13,2)) -> 0 | J96: =+IF($B$2="Magyar forint",ROUND((J92+J93)*0.13+J94*0.9*0.13,0),ROUND((J92+J93)*0.13+J94*0.9*0.13,2)) -> 0 | K96: =+IF($B$2="Magyar forint",ROUND((K92+K93)*0.13+K94*0.9*0.13,0),ROUND((K92+K93)*0.13+K94*0.9*0.13,2)) -> 0 | ... O96: =+IF($B$2="Magyar forint",ROUND((O92+O93)*0.13+O94*0.9*0.13,0),ROUND((O92+O93)*0.13+O94*0.9*0.13,2)) -> 0 | P96: =SUM(D96:O96) -> 0 | R96: =VLOOKUP(C96,adatok!$C:$F,3,FALSE) -> 2
A97: =$B$91 -> 0 | B97: =B68 -> T41 | C97: =C68 -> Overhead - általános költségek | D97: {=IF($B$2="Magyar forint",ROUND(IFERROR(_xlfn.IFS($F$1="a pályázat összköltsége",((+D95+D96+D101+D107+D108+D117)/(1-$J$1))*$J$1,$F$1="a pályázat közvetlen költsége",(+D95+D96+D101+D107+D108+D117)*$J$1,$F$1="személyi költségek",(+D95+D96)*$J$1,$F$1="közvetlen költség Szolgáltatás (52) nélkül",(+D95+D96+#REF!+D108+D117)*$J$1),0),0),ROUND(IFERROR(_xlfn.IFS($F$1="a pályázat összköltsége",((+D95+D96+D101+D107+D108+D117)/(1-$J$1))*$J$1,$F$1="a pályázat közvetlen költsége",(+D95+D96+D101+D107+D108+D117)*$J$1,$F$1="személyi költségek",(+D95+D96)*$J$1,$F$1="közvetlen költség Szolgáltatás (52) nélkül",(+D95+D96+D101+D108+D117)*$J$1),0),2))} -> 0 | E97: {=IF($B$2="Magyar forint",ROUND(IFERROR(_xlfn.IFS($F$1="a pályázat összköltsége",((+E95+E96+E101+E107+E108+E117)/(1-$J$1))*$J$1,$F$1="a pályázat közvetlen költsége",(+E95+E96+E101+E107+E108+E117)*$J$1,$F$1="személyi költségek",(+E95+E96)*$J$1,$F$1="közvetlen költség Szolgáltatás (52) nélkül",(+E95+E96+#REF!+E108+E117)*$J$1),0),0),ROUND(IFERROR(_xlfn.IFS($F$1="a pályázat összköltsége",((+E95+E96+E101+E107+E108+E117)/(1-$J$1))*$J$1,$F$1="a pályázat közvetlen költsége",(+E95+E96+E101+E107+E108+E117)*$J$1,$F$1="személyi költségek",(+E95+E96)*$J$1,$F$1="közvetlen költség Szolgáltatás (52) nélkül",(+E95+E96+E101+E108+E117)*$J$1),0),2))} -> 0 | F97: {=IF($B$2="Magyar forint",ROUND(IFERROR(_xlfn.IFS($F$1="a pályázat összköltsége",((+F95+F96+F101+F107+F108+F117)/(1-$J$1))*$J$1,$F$1="a pályázat közvetlen költsége",(+F95+F96+F101+F107+F108+F117)*$J$1,$F$1="személyi költségek",(+F95+F96)*$J$1,$F$1="közvetlen költség Szolgáltatás (52) nélkül",(+F95+F96+#REF!+F108+F117)*$J$1),0),0),ROUND(IFERROR(_xlfn.IFS($F$1="a pályázat összköltsége",((+F95+F96+F101+F107+F108+F117)/(1-$J$1))*$J$1,$F$1="a pályázat közvetlen költsége",(+F95+F96+F101+F107+F108+F117)*$J$1,$F$1="személyi költségek",(+F95+F96)*$J$1,$F$1="közvetlen költség Szolgáltatás (52) nélkül",(+F95+F96+F101+F108+F117)*$J$1),0),2))} -> 0 | G97: {=IF($B$2="Magyar forint",ROUND(IFERROR(_xlfn.IFS($F$1="a pályázat összköltsége",((+G95+G96+G101+G107+G108+G117)/(1-$J$1))*$J$1,$F$1="a pályázat közvetlen költsége",(+G95+G96+G101+G107+G108+G117)*$J$1,$F$1="személyi költségek",(+G95+G96)*$J$1,$F$1="közvetlen költség Szolgáltatás (52) nélkül",(+G95+G96+#REF!+G108+G117)*$J$1),0),0),ROUND(IFERROR(_xlfn.IFS($F$1="a pályázat összköltsége",((+G95+G96+G101+G107+G108+G117)/(1-$J$1))*$J$1,$F$1="a pályázat közvetlen költsége",(+G95+G96+G101+G107+G108+G117)*$J$1,$F$1="személyi költségek",(+G95+G96)*$J$1,$F$1="közvetlen költség Szolgáltatás (52) nélkül",(+G95+G96+G101+G108+G117)*$J$1),0),2))} -> 0 | H97: {=IF($B$2="Magyar forint",ROUND(IFERROR(_xlfn.IFS($F$1="a pályázat összköltsége",((+H95+H96+H101+H107+H108+H117)/(1-$J$1))*$J$1,$F$1="a pályázat közvetlen költsége",(+H95+H96+H101+H107+H108+H117)*$J$1,$F$1="személyi költségek",(+H95+H96)*$J$1,$F$1="közvetlen költség Szolgáltatás (52) nélkül",(+H95+H96+#REF!+H108+H117)*$J$1),0),0),ROUND(IFERROR(_xlfn.IFS($F$1="a pályázat összköltsége",((+H95+H96+H101+H107+H108+H117)/(1-$J$1))*$J$1,$F$1="a pályázat közvetlen költsége",(+H95+H96+H101+H107+H108+H117)*$J$1,$F$1="személyi költségek",(+H95+H96)*$J$1,$F$1="közvetlen költség Szolgáltatás (52) nélkül",(+H95+H96+H101+H108+H117)*$J$1),0),2))} -> 0 | I97: {=IF($B$2="Magyar forint",ROUND(IFERROR(_xlfn.IFS($F$1="a pályázat összköltsége",((+I95+I96+I101+I107+I108+I117)/(1-$J$1))*$J$1,$F$1="a pályázat közvetlen költsége",(+I95+I96+I101+I107+I108+I117)*$J$1,$F$1="személyi költségek",(+I95+I96)*$J$1,$F$1="közvetlen költség Szolgáltatás (52) nélkül",(+I95+I96+#REF!+I108+I117)*$J$1),0),0),ROUND(IFERROR(_xlfn.IFS($F$1="a pályázat összköltsége",((+I95+I96+I101+I107+I108+I117)/(1-$J$1))*$J$1,$F$1="a pályázat közvetlen költsége",(+I95+I96+I101+I107+I108+I117)*$J$1,$F$1="személyi költségek",(+I95+I96)*$J$1,$F$1="közvetlen költség Szolgáltatás (52) nélkül",(+I95+I96+I101+I108+I117)*$J$1),0),2))} -> 0 | J97: {=IF($B$2="Magyar forint",ROUND(IFERROR(_xlfn.IFS($F$1="a pályázat összköltsége",((+J95+J96+J101+J107+J108+J117)/(1-$J$1))*$J$1,$F$1="a pályázat közvetlen költsége",(+J95+J96+J101+J107+J108+J117)*$J$1,$F$1="személyi költségek",(+J95+J96)*$J$1,$F$1="közvetlen költség Szolgáltatás (52) nélkül",(+J95+J96+#REF!+J108+J117)*$J$1),0),0),ROUND(IFERROR(_xlfn.IFS($F$1="a pályázat összköltsége",((+J95+J96+J101+J107+J108+J117)/(1-$J$1))*$J$1,$F$1="a pályázat közvetlen költsége",(+J95+J96+J101+J107+J108+J117)*$J$1,$F$1="személyi költségek",(+J95+J96)*$J$1,$F$1="közvetlen költség Szolgáltatás (52) nélkül",(+J95+J96+J101+J108+J117)*$J$1),0),2))} -> 0 | K97: {=IF($B$2="Magyar forint",ROUND(IFERROR(_xlfn.IFS($F$1="a pályázat összköltsége",((+K95+K96+K101+K107+K108+K117)/(1-$J$1))*$J$1,$F$1="a pályázat közvetlen költsége",(+K95+K96+K101+K107+K108+K117)*$J$1,$F$1="személyi költségek",(+K95+K96)*$J$1,$F$1="közvetlen költség Szolgáltatás (52) nélkül",(+K95+K96+#REF!+K108+K117)*$J$1),0),0),ROUND(IFERROR(_xlfn.IFS($F$1="a pályázat összköltsége",((+K95+K96+K101+K107+K108+K117)/(1-$J$1))*$J$1,$F$1="a pályázat közvetlen költsége",(+K95+K96+K101+K107+K108+K117)*$J$1,$F$1="személyi költségek",(+K95+K96)*$J$1,$F$1="közvetlen költség Szolgáltatás (52) nélkül",(+K95+K96+K101+K108+K117)*$J$1),0),2))} -> 0 | ... O97: {=IF($B$2="Magyar forint",ROUND(IFERROR(_xlfn.IFS($F$1="a pályázat összköltsége",((+O95+O96+O101+O107+O108+O117)/(1-$J$1))*$J$1,$F$1="a pályázat közvetlen költsége",(+O95+O96+O101+O107+O108+O117)*$J$1,$F$1="személyi költségek",(+O95+O96)*$J$1,$F$1="közvetlen költség Szolgáltatás (52) nélkül",(+O95+O96+#REF!+O108+O117)*$J$1),0),0),ROUND(IFERROR(_xlfn.IFS($F$1="a pályázat összköltsége",((+O95+O96+O101+O107+O108+O117)/(1-$J$1))*$J$1,$F$1="a pályázat közvetlen költsége",(+O95+O96+O101+O107+O108+O117)*$J$1,$F$1="személyi költségek",(+O95+O96)*$J$1,$F$1="közvetlen költség Szolgáltatás (52) nélkül",(+O95+O96+O101+O108+O117)*$J$1),0),2))} -> 0 | P97: =SUM(D97:O97) -> 0 | R97: =VLOOKUP(C97,adatok!$C:$F,3,FALSE) -> 3
A98: =$B$91 -> 0 | B98: =B69 -> T27 | C98: =C69 -> Vegyszerek költségei | P98: =SUM(D98:O98) -> 0 | R98: =VLOOKUP(C98,adatok!$C:$F,3,FALSE) -> 20
A99: =$B$91 -> 0 | B99: =B70 -> T27 | C99: =C70 -> Szakmai anyagok költségei | P99: =SUM(D99:O99) -> 0 | R99: =VLOOKUP(C99,adatok!$C:$F,3,FALSE) -> 21
A100: =$B$91 -> 0 | B100: =B71 -> T27 | C100: =C71 -> Egyéb anyagok | P100: =SUM(D100:O100) -> 0 | R100: =VLOOKUP(C100,adatok!$C:$F,3,FALSE) -> 22
A101: =$B$91 -> 0 | B101: =B72 -> T27 | C101: =C72 -> Terápiás - szakmai anyagköltség | D101: =+D98+D99+D100 -> 0 | E101: =+E98+E99+E100 -> 0 | F101: =+F98+F99+F100 -> 0 | G101: =+G98+G99+G100 -> 0 | H101: =+H98+H99+H100 -> 0 | I101: =+I98+I99+I100 -> 0 | J101: =+J98+J99+J100 -> 0 | K101: =+K98+K99+K100 -> 0 | ... O101: =+O98+O99+O100 -> 0 | P101: =SUM(D101:O101) -> 0 | R101: =VLOOKUP(C101,adatok!$C:$F,3,FALSE) -> 4
A102: =$B$91 -> 0 | B102: =B73 -> T28 | C102: =C73 -> Számlás megbízási költségek | P102: =SUM(D102:O102) -> 0 | R102: =VLOOKUP(C102,adatok!$C:$F,3,FALSE) -> 23
A103: =$B$91 -> 0 | B103: =B74 -> T28 | C103: =C74 -> Javítás, karbantartás költsége | P103: =SUM(D103:O103) -> 0 | R103: =VLOOKUP(C103,adatok!$C:$F,3,FALSE) -> 24
A104: =$B$91 -> 0 | B104: =B75 -> T28 | C104: =C75 -> Informatikai szolgáltatás igénybevétele | P104: =SUM(D104:O104) -> 0 | R104: =VLOOKUP(C104,adatok!$C:$F,3,FALSE) -> 25
A105: =$B$91 -> 0 | B105: =B76 -> T28 | C105: =C76 -> Utazási és küldetési költségei ók | P105: =SUM(D105:O105) -> 0 | R105: =VLOOKUP(C105,adatok!$C:$F,3,FALSE) -> 26
A106: =$B$91 -> 0 | B106: =B77 -> T28 | C106: =C77 -> Egyéb szolgáltatások | P106: =SUM(D106:O106) -> 0 | R106: =VLOOKUP(C106,adatok!$C:$F,3,FALSE) -> 27
A107: =$B$91 -> 0 | B107: =B78 -> T28 | C107: =C78 -> Dologi kiadások | D107: =+D102+D103+D104+D105+D106 -> 0 | E107: =+E102+E103+E104+E105+E106 -> 0 | F107: =+F102+F103+F104+F105+F106 -> 0 | G107: =+G102+G103+G104+G105+G106 -> 0 | H107: =+H102+H103+H104+H105+H106 -> 0 | I107: =+I102+I103+I104+I105+I106 -> 0 | J107: =+J102+J103+J104+J105+J106 -> 0 | K107: =+K102+K103+K104+K105+K106 -> 0 | ... O107: =+O102+O103+O104+O105+O106 -> 0 | P107: =SUM(D107:O107) -> 0 | R107: =VLOOKUP(C107,adatok!$C:$F,3,FALSE) -> 5
A108: =$B$91 -> 0 | B108: =B79 -> T29 | C108: =C79 -> Ellátottak pénzbeli juttatásai (Ösztöndíjak 8641300) | P108: =SUM(D108:O108) -> 0 | R108: =VLOOKUP(C108,adatok!$C:$F,3,FALSE) -> 11
A109: =$B$91 -> 0 | B109: =B80 -> T31 | C109: =C80 -> Vagyoni értéku jogok | P109: =SUM(D109:O109) -> 0 | R109: =VLOOKUP(C109,adatok!$C:$F,3,FALSE) -> 12
A110: =$B$91 -> 0 | B110: =B81 -> T31 | C110: =C81 -> Szellemi termékek | P110: =SUM(D110:O110) -> 0 | R110: =VLOOKUP(C110,adatok!$C:$F,3,FALSE) -> 13
A111: =$B$91 -> 0 | B111: =B82 -> T31 | C111: =C82 -> Épületek | P111: =SUM(D111:O111) -> 0 | R111: =VLOOKUP(C111,adatok!$C:$F,3,FALSE) -> 14
A112: =$B$91 -> 0 | B112: =B83 -> T31 | C112: =C83 -> Egyéb építmények | P112: =SUM(D112:O112) -> 0 | R112: =VLOOKUP(C112,adatok!$C:$F,3,FALSE) -> 15
...

Sheet project_eves_terv
A1: project | B1: budget | C1: year | D1: month | E1: type | F1: price | G1: devizaId
A2: ='likvid terv'!$B$1 -> 0 | B2: ='likvid terv'!$B$33 -> 0 | C2: 2027 | D2: 1 | E2: 8 | F2: {=_xlfn.IFS(AND($B2<>0,$D2=1),SUMIFS('likvid terv'!$D:$D,'likvid terv'!$A:$A,project_eves_terv!B2,'likvid terv'!$R:$R,project_eves_terv!$E2),AND($B2<>0,$D2=2),SUMIFS('likvid terv'!$E:$E,'likvid terv'!$A:$A,project_eves_terv!B2,'likvid terv'!$R:$R,project_eves_terv!$E2),AND($B2<>0,$D2=3),SUMIFS('likvid terv'!$F:$F,'likvid terv'!$A:$A,project_eves_terv!B2,'likvid terv'!$R:$R,project_eves_terv!$E2),AND($B2<>0,$D2=4),SUMIFS('likvid terv'!$G:$G,'likvid terv'!$A:$A,project_eves_terv!B2,'likvid terv'!$R:$R,project_eves_terv!$E2),AND($B2<>0,$D2=5),SUMIFS('likvid terv'!$H:$H,'likvid terv'!$A:$A,project_eves_terv!B2,'likvid terv'!$R:$R,project_eves_terv!$E2),AND($B2<>0,$D2=6),SUMIFS('likvid terv'!$I:$I,'likvid terv'!$A:$A,project_eves_terv!B2,'likvid terv'!$R:$R,project_eves_terv!$E2),AND($B2<>0,$D2=7),SUMIFS('likvid terv'!$J:$J,'likvid terv'!$A:$A,project_eves_terv!B2,'likvid terv'!$R:$R,project_eves_terv!$E2),AND($B2<>0,$D2=8),SUMIFS('likvid terv'!$K:$K,'likvid terv'!$A:$A,project_eves_terv!B2,'likvid terv'!$R:$R,project_eves_terv!$E2),AND($B2<>0,$D2=9),SUMIFS('likvid terv'!$L:$L,'likvid terv'!$A:$A,project_eves_terv!B2,'likvid terv'!$R:$R,project_eves_terv!$E2),AND($B2<>0,$D2=10),SUMIFS('likvid terv'!$M:$M,'likvid terv'!$A:$A,project_eves_terv!B2,'likvid terv'!$R:$R,project_eves_terv!$E2),AND($B2<>0,$D2=11),SUMIFS('likvid terv'!$N:$N,'likvid terv'!$A:$A,project_eves_terv!B2,'likvid terv'!$R:$R,project_eves_terv!$E2),AND($B2<>0,$D2=12),SUMIFS('likvid terv'!$O:$O,'likvid terv'!$A:$A,project_eves_terv!B2,'likvid terv'!$R:$R,project_eves_terv!$E2),$B2=0,0)} -> 0 | G2: ='likvid terv'!$B$2 -> 0
A3: ='likvid terv'!$B$1 -> 0 | B3: ='likvid terv'!$B$33 -> 0 | C3: 2027 | D3: 2 | E3: 8 | F3: {=_xlfn.IFS(AND($B3<>0,$D3=1),SUMIFS('likvid terv'!$D:$D,'likvid terv'!$A:$A,project_eves_terv!B3,'likvid terv'!$R:$R,project_eves_terv!$E3),AND($B3<>0,$D3=2),SUMIFS('likvid terv'!$E:$E,'likvid terv'!$A:$A,project_eves_terv!B3,'likvid terv'!$R:$R,project_eves_terv!$E3),AND($B3<>0,$D3=3),SUMIFS('likvid terv'!$F:$F,'likvid terv'!$A:$A,project_eves_terv!B3,'likvid terv'!$R:$R,project_eves_terv!$E3),AND($B3<>0,$D3=4),SUMIFS('likvid terv'!$G:$G,'likvid terv'!$A:$A,project_eves_terv!B3,'likvid terv'!$R:$R,project_eves_terv!$E3),AND($B3<>0,$D3=5),SUMIFS('likvid terv'!$H:$H,'likvid terv'!$A:$A,project_eves_terv!B3,'likvid terv'!$R:$R,project_eves_terv!$E3),AND($B3<>0,$D3=6),SUMIFS('likvid terv'!$I:$I,'likvid terv'!$A:$A,project_eves_terv!B3,'likvid terv'!$R:$R,project_eves_terv!$E3),AND($B3<>0,$D3=7),SUMIFS('likvid terv'!$J:$J,'likvid terv'!$A:$A,project_eves_terv!B3,'likvid terv'!$R:$R,project_eves_terv!$E3),AND($B3<>0,$D3=8),SUMIFS('likvid terv'!$K:$K,'likvid terv'!$A:$A,project_eves_terv!B3,'likvid terv'!$R:$R,project_eves_terv!$E3),AND($B3<>0,$D3=9),SUMIFS('likvid terv'!$L:$L,'likvid terv'!$A:$A,project_eves_terv!B3,'likvid terv'!$R:$R,project_eves_terv!$E3),AND($B3<>0,$D3=10),SUMIFS('likvid terv'!$M:$M,'likvid terv'!$A:$A,project_eves_terv!B3,'likvid terv'!$R:$R,project_eves_terv!$E3),AND($B3<>0,$D3=11),SUMIFS('likvid terv'!$N:$N,'likvid terv'!$A:$A,project_eves_terv!B3,'likvid terv'!$R:$R,project_eves_terv!$E3),AND($B3<>0,$D3=12),SUMIFS('likvid terv'!$O:$O,'likvid terv'!$A:$A,project_eves_terv!B3,'likvid terv'!$R:$R,project_eves_terv!$E3),$B3=0,0)} -> 0 | G3: ='likvid terv'!$B$2 -> 0
A4: ='likvid terv'!$B$1 -> 0 | B4: ='likvid terv'!$B$33 -> 0 | C4: 2027 | D4: 3 | E4: 8 | F4: {=_xlfn.IFS(AND($B4<>0,$D4=1),SUMIFS('likvid terv'!$D:$D,'likvid terv'!$A:$A,project_eves_terv!B4,'likvid terv'!$R:$R,project_eves_terv!$E4),AND($B4<>0,$D4=2),SUMIFS('likvid terv'!$E:$E,'likvid terv'!$A:$A,project_eves_terv!B4,'likvid terv'!$R:$R,project_eves_terv!$E4),AND($B4<>0,$D4=3),SUMIFS('likvid terv'!$F:$F,'likvid terv'!$A:$A,project_eves_terv!B4,'likvid terv'!$R:$R,project_eves_terv!$E4),AND($B4<>0,$D4=4),SUMIFS('likvid terv'!$G:$G,'likvid terv'!$A:$A,project_eves_terv!B4,'likvid terv'!$R:$R,project_eves_terv!$E4),AND($B4<>0,$D4=5),SUMIFS('likvid terv'!$H:$H,'likvid terv'!$A:$A,project_eves_terv!B4,'likvid terv'!$R:$R,project_eves_terv!$E4),AND($B4<>0,$D4=6),SUMIFS('likvid terv'!$I:$I,'likvid terv'!$A:$A,project_eves_terv!B4,'likvid terv'!$R:$R,project_eves_terv!$E4),AND($B4<>0,$D4=7),SUMIFS('likvid terv'!$J:$J,'likvid terv'!$A:$A,project_eves_terv!B4,'likvid terv'!$R:$R,project_eves_terv!$E4),AND($B4<>0,$D4=8),SUMIFS('likvid terv'!$K:$K,'likvid terv'!$A:$A,project_eves_terv!B4,'likvid terv'!$R:$R,project_eves_terv!$E4),AND($B4<>0,$D4=9),SUMIFS('likvid terv'!$L:$L,'likvid terv'!$A:$A,project_eves_terv!B4,'likvid terv'!$R:$R,project_eves_terv!$E4),AND($B4<>0,$D4=10),SUMIFS('likvid terv'!$M:$M,'likvid terv'!$A:$A,project_eves_terv!B4,'likvid terv'!$R:$R,project_eves_terv!$E4),AND($B4<>0,$D4=11),SUMIFS('likvid terv'!$N:$N,'likvid terv'!$A:$A,project_eves_terv!B4,'likvid terv'!$R:$R,project_eves_terv!$E4),AND($B4<>0,$D4=12),SUMIFS('likvid terv'!$O:$O,'likvid terv'!$A:$A,project_eves_terv!B4,'likvid terv'!$R:$R,project_eves_terv!$E4),$B4=0,0)} -> 0 | G4: ='likvid terv'!$B$2 -> 0
A5: ='likvid terv'!$B$1 -> 0 | B5: ='likvid terv'!$B$33 -> 0 | C5: 2027 | D5: 4 | E5: 8 | F5: {=_xlfn.IFS(AND($B5<>0,$D5=1),SUMIFS('likvid terv'!$D:$D,'likvid terv'!$A:$A,project_eves_terv!B5,'likvid terv'!$R:$R,project_eves_terv!$E5),AND($B5<>0,$D5=2),SUMIFS('likvid terv'!$E:$E,'likvid terv'!$A:$A,project_eves_terv!B5,'likvid terv'!$R:$R,project_eves_terv!$E5),AND($B5<>0,$D5=3),SUMIFS('likvid terv'!$F:$F,'likvid terv'!$A:$A,project_eves_terv!B5,'likvid terv'!$R:$R,project_eves_terv!$E5),AND($B5<>0,$D5=4),SUMIFS('likvid terv'!$G:$G,'likvid terv'!$A:$A,project_eves_terv!B5,'likvid terv'!$R:$R,project_eves_terv!$E5),AND($B5<>0,$D5=5),SUMIFS('likvid terv'!$H:$H,'likvid terv'!$A:$A,project_eves_terv!B5,'likvid terv'!$R:$R,project_eves_terv!$E5),AND($B5<>0,$D5=6),SUMIFS('likvid terv'!$I:$I,'likvid terv'!$A:$A,project_eves_terv!B5,'likvid terv'!$R:$R,project_eves_terv!$E5),AND($B5<>0,$D5=7),SUMIFS('likvid terv'!$J:$J,'likvid terv'!$A:$A,project_eves_terv!B5,'likvid terv'!$R:$R,project_eves_terv!$E5),AND($B5<>0,$D5=8),SUMIFS('likvid terv'!$K:$K,'likvid terv'!$A:$A,project_eves_terv!B5,'likvid terv'!$R:$R,project_eves_terv!$E5),AND($B5<>0,$D5=9),SUMIFS('likvid terv'!$L:$L,'likvid terv'!$A:$A,project_eves_terv!B5,'likvid terv'!$R:$R,project_eves_terv!$E5),AND($B5<>0,$D5=10),SUMIFS('likvid terv'!$M:$M,'likvid terv'!$A:$A,project_eves_terv!B5,'likvid terv'!$R:$R,project_eves_terv!$E5),AND($B5<>0,$D5=11),SUMIFS('likvid terv'!$N:$N,'likvid terv'!$A:$A,project_eves_terv!B5,'likvid terv'!$R:$R,project_eves_terv!$E5),AND($B5<>0,$D5=12),SUMIFS('likvid terv'!$O:$O,'likvid terv'!$A:$A,project_eves_terv!B5,'likvid terv'!$R:$R,project_eves_terv!$E5),$B5=0,0)} -> 0 | G5: ='likvid terv'!$B$2 -> 0
A6: ='likvid terv'!$B$1 -> 0 | B6: ='likvid terv'!$B$33 -> 0 | C6: 2027 | D6: 5 | E6: 8 | F6: {=_xlfn.IFS(AND($B6<>0,$D6=1),SUMIFS('likvid terv'!$D:$D,'likvid terv'!$A:$A,project_eves_terv!B6,'likvid terv'!$R:$R,project_eves_terv!$E6),AND($B6<>0,$D6=2),SUMIFS('likvid terv'!$E:$E,'likvid terv'!$A:$A,project_eves_terv!B6,'likvid terv'!$R:$R,project_eves_terv!$E6),AND($B6<>0,$D6=3),SUMIFS('likvid terv'!$F:$F,'likvid terv'!$A:$A,project_eves_terv!B6,'likvid terv'!$R:$R,project_eves_terv!$E6),AND($B6<>0,$D6=4),SUMIFS('likvid terv'!$G:$G,'likvid terv'!$A:$A,project_eves_terv!B6,'likvid terv'!$R:$R,project_eves_terv!$E6),AND($B6<>0,$D6=5),SUMIFS('likvid terv'!$H:$H,'likvid terv'!$A:$A,project_eves_terv!B6,'likvid terv'!$R:$R,project_eves_terv!$E6),AND($B6<>0,$D6=6),SUMIFS('likvid terv'!$I:$I,'likvid terv'!$A:$A,project_eves_terv!B6,'likvid terv'!$R:$R,project_eves_terv!$E6),AND($B6<>0,$D6=7),SUMIFS('likvid terv'!$J:$J,'likvid terv'!$A:$A,project_eves_terv!B6,'likvid terv'!$R:$R,project_eves_terv!$E6),AND($B6<>0,$D6=8),SUMIFS('likvid terv'!$K:$K,'likvid terv'!$A:$A,project_eves_terv!B6,'likvid terv'!$R:$R,project_eves_terv!$E6),AND($B6<>0,$D6=9),SUMIFS('likvid terv'!$L:$L,'likvid terv'!$A:$A,project_eves_terv!B6,'likvid terv'!$R:$R,project_eves_terv!$E6),AND($B6<>0,$D6=10),SUMIFS('likvid terv'!$M:$M,'likvid terv'!$A:$A,project_eves_terv!B6,'likvid terv'!$R:$R,project_eves_terv!$E6),AND($B6<>0,$D6=11),SUMIFS('likvid terv'!$N:$N,'likvid terv'!$A:$A,project_eves_terv!B6,'likvid terv'!$R:$R,project_eves_terv!$E6),AND($B6<>0,$D6=12),SUMIFS('likvid terv'!$O:$O,'likvid terv'!$A:$A,project_eves_terv!B6,'likvid terv'!$R:$R,project_eves_terv!$E6),$B6=0,0)} -> 0 | G6: ='likvid terv'!$B$2 -> 0
A7: ='likvid terv'!$B$1 -> 0 | B7: ='likvid terv'!$B$33 -> 0 | C7: 2027 | D7: 6 | E7: 8 | F7: {=_xlfn.IFS(AND($B7<>0,$D7=1),SUMIFS('likvid terv'!$D:$D,'likvid terv'!$A:$A,project_eves_terv!B7,'likvid terv'!$R:$R,project_eves_terv!$E7),AND($B7<>0,$D7=2),SUMIFS('likvid terv'!$E:$E,'likvid terv'!$A:$A,project_eves_terv!B7,'likvid terv'!$R:$R,project_eves_terv!$E7),AND($B7<>0,$D7=3),SUMIFS('likvid terv'!$F:$F,'likvid terv'!$A:$A,project_eves_terv!B7,'likvid terv'!$R:$R,project_eves_terv!$E7),AND($B7<>0,$D7=4),SUMIFS('likvid terv'!$G:$G,'likvid terv'!$A:$A,project_eves_terv!B7,'likvid terv'!$R:$R,project_eves_terv!$E7),AND($B7<>0,$D7=5),SUMIFS('likvid terv'!$H:$H,'likvid terv'!$A:$A,project_eves_terv!B7,'likvid terv'!$R:$R,project_eves_terv!$E7),AND($B7<>0,$D7=6),SUMIFS('likvid terv'!$I:$I,'likvid terv'!$A:$A,project_eves_terv!B7,'likvid terv'!$R:$R,project_eves_terv!$E7),AND($B7<>0,$D7=7),SUMIFS('likvid terv'!$J:$J,'likvid terv'!$A:$A,project_eves_terv!B7,'likvid terv'!$R:$R,project_eves_terv!$E7),AND($B7<>0,$D7=8),SUMIFS('likvid terv'!$K:$K,'likvid terv'!$A:$A,project_eves_terv!B7,'likvid terv'!$R:$R,project_eves_terv!$E7),AND($B7<>0,$D7=9),SUMIFS('likvid terv'!$L:$L,'likvid terv'!$A:$A,project_eves_terv!B7,'likvid terv'!$R:$R,project_eves_terv!$E7),AND($B7<>0,$D7=10),SUMIFS('likvid terv'!$M:$M,'likvid terv'!$A:$A,project_eves_terv!B7,'likvid terv'!$R:$R,project_eves_terv!$E7),AND($B7<>0,$D7=11),SUMIFS('likvid terv'!$N:$N,'likvid terv'!$A:$A,project_eves_terv!B7,'likvid terv'!$R:$R,project_eves_terv!$E7),AND($B7<>0,$D7=12),SUMIFS('likvid terv'!$O:$O,'likvid terv'!$A:$A,project_eves_terv!B7,'likvid terv'!$R:$R,project_eves_terv!$E7),$B7=0,0)} -> 0 | G7: ='likvid terv'!$B$2 -> 0
A8: ='likvid terv'!$B$1 -> 0 | B8: ='likvid terv'!$B$33 -> 0 | C8: 2027 | D8: 7 | E8: 8 | F8: {=_xlfn.IFS(AND($B8<>0,$D8=1),SUMIFS('likvid terv'!$D:$D,'likvid terv'!$A:$A,project_eves_terv!B8,'likvid terv'!$R:$R,project_eves_terv!$E8),AND($B8<>0,$D8=2),SUMIFS('likvid terv'!$E:$E,'likvid terv'!$A:$A,project_eves_terv!B8,'likvid terv'!$R:$R,project_eves_terv!$E8),AND($B8<>0,$D8=3),SUMIFS('likvid terv'!$F:$F,'likvid terv'!$A:$A,project_eves_terv!B8,'likvid terv'!$R:$R,project_eves_terv!$E8),AND($B8<>0,$D8=4),SUMIFS('likvid terv'!$G:$G,'likvid terv'!$A:$A,project_eves_terv!B8,'likvid terv'!$R:$R,project_eves_terv!$E8),AND($B8<>0,$D8=5),SUMIFS('likvid terv'!$H:$H,'likvid terv'!$A:$A,project_eves_terv!B8,'likvid terv'!$R:$R,project_eves_terv!$E8),AND($B8<>0,$D8=6),SUMIFS('likvid terv'!$I:$I,'likvid terv'!$A:$A,project_eves_terv!B8,'likvid terv'!$R:$R,project_eves_terv!$E8),AND($B8<>0,$D8=7),SUMIFS('likvid terv'!$J:$J,'likvid terv'!$A:$A,project_eves_terv!B8,'likvid terv'!$R:$R,project_eves_terv!$E8),AND($B8<>0,$D8=8),SUMIFS('likvid terv'!$K:$K,'likvid terv'!$A:$A,project_eves_terv!B8,'likvid terv'!$R:$R,project_eves_terv!$E8),AND($B8<>0,$D8=9),SUMIFS('likvid terv'!$L:$L,'likvid terv'!$A:$A,project_eves_terv!B8,'likvid terv'!$R:$R,project_eves_terv!$E8),AND($B8<>0,$D8=10),SUMIFS('likvid terv'!$M:$M,'likvid terv'!$A:$A,project_eves_terv!B8,'likvid terv'!$R:$R,project_eves_terv!$E8),AND($B8<>0,$D8=11),SUMIFS('likvid terv'!$N:$N,'likvid terv'!$A:$A,project_eves_terv!B8,'likvid terv'!$R:$R,project_eves_terv!$E8),AND($B8<>0,$D8=12),SUMIFS('likvid terv'!$O:$O,'likvid terv'!$A:$A,project_eves_terv!B8,'likvid terv'!$R:$R,project_eves_terv!$E8),$B8=0,0)} -> 0 | G8: ='likvid terv'!$B$2 -> 0
A9: ='likvid terv'!$B$1 -> 0 | B9: ='likvid terv'!$B$33 -> 0 | C9: 2027 | D9: 8 | E9: 8 | F9: {=_xlfn.IFS(AND($B9<>0,$D9=1),SUMIFS('likvid terv'!$D:$D,'likvid terv'!$A:$A,project_eves_terv!B9,'likvid terv'!$R:$R,project_eves_terv!$E9),AND($B9<>0,$D9=2),SUMIFS('likvid terv'!$E:$E,'likvid terv'!$A:$A,project_eves_terv!B9,'likvid terv'!$R:$R,project_eves_terv!$E9),AND($B9<>0,$D9=3),SUMIFS('likvid terv'!$F:$F,'likvid terv'!$A:$A,project_eves_terv!B9,'likvid terv'!$R:$R,project_eves_terv!$E9),AND($B9<>0,$D9=4),SUMIFS('likvid terv'!$G:$G,'likvid terv'!$A:$A,project_eves_terv!B9,'likvid terv'!$R:$R,project_eves_terv!$E9),AND($B9<>0,$D9=5),SUMIFS('likvid terv'!$H:$H,'likvid terv'!$A:$A,project_eves_terv!B9,'likvid terv'!$R:$R,project_eves_terv!$E9),AND($B9<>0,$D9=6),SUMIFS('likvid terv'!$I:$I,'likvid terv'!$A:$A,project_eves_terv!B9,'likvid terv'!$R:$R,project_eves_terv!$E9),AND($B9<>0,$D9=7),SUMIFS('likvid terv'!$J:$J,'likvid terv'!$A:$A,project_eves_terv!B9,'likvid terv'!$R:$R,project_eves_terv!$E9),AND($B9<>0,$D9=8),SUMIFS('likvid terv'!$K:$K,'likvid terv'!$A:$A,project_eves_terv!B9,'likvid terv'!$R:$R,project_eves_terv!$E9),AND($B9<>0,$D9=9),SUMIFS('likvid terv'!$L:$L,'likvid terv'!$A:$A,project_eves_terv!B9,'likvid terv'!$R:$R,project_eves_terv!$E9),AND($B9<>0,$D9=10),SUMIFS('likvid terv'!$M:$M,'likvid terv'!$A:$A,project_eves_terv!B9,'likvid terv'!$R:$R,project_eves_terv!$E9),AND($B9<>0,$D9=11),SUMIFS('likvid terv'!$N:$N,'likvid terv'!$A:$A,project_eves_terv!B9,'likvid terv'!$R:$R,project_eves_terv!$E9),AND($B9<>0,$D9=12),SUMIFS('likvid terv'!$O:$O,'likvid terv'!$A:$A,project_eves_terv!B9,'likvid terv'!$R:$R,project_eves_terv!$E9),$B9=0,0)} -> 0 | G9: ='likvid terv'!$B$2 -> 0
A10: ='likvid terv'!$B$1 -> 0 | B10: ='likvid terv'!$B$33 -> 0 | C10: 2027 | D10: 9 | E10: 8 | F10: {=_xlfn.IFS(AND($B10<>0,$D10=1),SUMIFS('likvid terv'!$D:$D,'likvid terv'!$A:$A,project_eves_terv!B10,'likvid terv'!$R:$R,project_eves_terv!$E10),AND($B10<>0,$D10=2),SUMIFS('likvid terv'!$E:$E,'likvid terv'!$A:$A,project_eves_terv!B10,'likvid terv'!$R:$R,project_eves_terv!$E10),AND($B10<>0,$D10=3),SUMIFS('likvid terv'!$F:$F,'likvid terv'!$A:$A,project_eves_terv!B10,'likvid terv'!$R:$R,project_eves_terv!$E10),AND($B10<>0,$D10=4),SUMIFS('likvid terv'!$G:$G,'likvid terv'!$A:$A,project_eves_terv!B10,'likvid terv'!$R:$R,project_eves_terv!$E10),AND($B10<>0,$D10=5),SUMIFS('likvid terv'!$H:$H,'likvid terv'!$A:$A,project_eves_terv!B10,'likvid terv'!$R:$R,project_eves_terv!$E10),AND($B10<>0,$D10=6),SUMIFS('likvid terv'!$I:$I,'likvid terv'!$A:$A,project_eves_terv!B10,'likvid terv'!$R:$R,project_eves_terv!$E10),AND($B10<>0,$D10=7),SUMIFS('likvid terv'!$J:$J,'likvid terv'!$A:$A,project_eves_terv!B10,'likvid terv'!$R:$R,project_eves_terv!$E10),AND($B10<>0,$D10=8),SUMIFS('likvid terv'!$K:$K,'likvid terv'!$A:$A,project_eves_terv!B10,'likvid terv'!$R:$R,project_eves_terv!$E10),AND($B10<>0,$D10=9),SUMIFS('likvid terv'!$L:$L,'likvid terv'!$A:$A,project_eves_terv!B10,'likvid terv'!$R:$R,project_eves_terv!$E10),AND($B10<>0,$D10=10),SUMIFS('likvid terv'!$M:$M,'likvid terv'!$A:$A,project_eves_terv!B10,'likvid terv'!$R:$R,project_eves_terv!$E10),AND($B10<>0,$D10=11),SUMIFS('likvid terv'!$N:$N,'likvid terv'!$A:$A,project_eves_terv!B10,'likvid terv'!$R:$R,project_eves_terv!$E10),AND($B10<>0,$D10=12),SUMIFS('likvid terv'!$O:$O,'likvid terv'!$A:$A,project_eves_terv!B10,'likvid terv'!$R:$R,project_eves_terv!$E10),$B10=0,0)} -> 0 | G10: ='likvid terv'!$B$2 -> 0
A11: ='likvid terv'!$B$1 -> 0 | B11: ='likvid terv'!$B$33 -> 0 | C11: 2027 | D11: 10 | E11: 8 | F11: {=_xlfn.IFS(AND($B11<>0,$D11=1),SUMIFS('likvid terv'!$D:$D,'likvid terv'!$A:$A,project_eves_terv!B11,'likvid terv'!$R:$R,project_eves_terv!$E11),AND($B11<>0,$D11=2),SUMIFS('likvid terv'!$E:$E,'likvid terv'!$A:$A,project_eves_terv!B11,'likvid terv'!$R:$R,project_eves_terv!$E11),AND($B11<>0,$D11=3),SUMIFS('likvid terv'!$F:$F,'likvid terv'!$A:$A,project_eves_terv!B11,'likvid terv'!$R:$R,project_eves_terv!$E11),AND($B11<>0,$D11=4),SUMIFS('likvid terv'!$G:$G,'likvid terv'!$A:$A,project_eves_terv!B11,'likvid terv'!$R:$R,project_eves_terv!$E11),AND($B11<>0,$D11=5),SUMIFS('likvid terv'!$H:$H,'likvid terv'!$A:$A,project_eves_terv!B11,'likvid terv'!$R:$R,project_eves_terv!$E11),AND($B11<>0,$D11=6),SUMIFS('likvid terv'!$I:$I,'likvid terv'!$A:$A,project_eves_terv!B11,'likvid terv'!$R:$R,project_eves_terv!$E11),AND($B11<>0,$D11=7),SUMIFS('likvid terv'!$J:$J,'likvid terv'!$A:$A,project_eves_terv!B11,'likvid terv'!$R:$R,project_eves_terv!$E11),AND($B11<>0,$D11=8),SUMIFS('likvid terv'!$K:$K,'likvid terv'!$A:$A,project_eves_terv!B11,'likvid terv'!$R:$R,project_eves_terv!$E11),AND($B11<>0,$D11=9),SUMIFS('likvid terv'!$L:$L,'likvid terv'!$A:$A,project_eves_terv!B11,'likvid terv'!$R:$R,project_eves_terv!$E11),AND($B11<>0,$D11=10),SUMIFS('likvid terv'!$M:$M,'likvid terv'!$A:$A,project_eves_terv!B11,'likvid terv'!$R:$R,project_eves_terv!$E11),AND($B11<>0,$D11=11),SUMIFS('likvid terv'!$N:$N,'likvid terv'!$A:$A,project_eves_terv!B11,'likvid terv'!$R:$R,project_eves_terv!$E11),AND($B11<>0,$D11=12),SUMIFS('likvid terv'!$O:$O,'likvid terv'!$A:$A,project_eves_terv!B11,'likvid terv'!$R:$R,project_eves_terv!$E11),$B11=0,0)} -> 0 | G11: ='likvid terv'!$B$2 -> 0
A12: ='likvid terv'!$B$1 -> 0 | B12: ='likvid terv'!$B$33 -> 0 | C12: 2027 | D12: 11 | E12: 8 | F12: {=_xlfn.IFS(AND($B12<>0,$D12=1),SUMIFS('likvid terv'!$D:$D,'likvid terv'!$A:$A,project_eves_terv!B12,'likvid terv'!$R:$R,project_eves_terv!$E12),AND($B12<>0,$D12=2),SUMIFS('likvid terv'!$E:$E,'likvid terv'!$A:$A,project_eves_terv!B12,'likvid terv'!$R:$R,project_eves_terv!$E12),AND($B12<>0,$D12=3),SUMIFS('likvid terv'!$F:$F,'likvid terv'!$A:$A,project_eves_terv!B12,'likvid terv'!$R:$R,project_eves_terv!$E12),AND($B12<>0,$D12=4),SUMIFS('likvid terv'!$G:$G,'likvid terv'!$A:$A,project_eves_terv!B12,'likvid terv'!$R:$R,project_eves_terv!$E12),AND($B12<>0,$D12=5),SUMIFS('likvid terv'!$H:$H,'likvid terv'!$A:$A,project_eves_terv!B12,'likvid terv'!$R:$R,project_eves_terv!$E12),AND($B12<>0,$D12=6),SUMIFS('likvid terv'!$I:$I,'likvid terv'!$A:$A,project_eves_terv!B12,'likvid terv'!$R:$R,project_eves_terv!$E12),AND($B12<>0,$D12=7),SUMIFS('likvid terv'!$J:$J,'likvid terv'!$A:$A,project_eves_terv!B12,'likvid terv'!$R:$R,project_eves_terv!$E12),AND($B12<>0,$D12=8),SUMIFS('likvid terv'!$K:$K,'likvid terv'!$A:$A,project_eves_terv!B12,'likvid terv'!$R:$R,project_eves_terv!$E12),AND($B12<>0,$D12=9),SUMIFS('likvid terv'!$L:$L,'likvid terv'!$A:$A,project_eves_terv!B12,'likvid terv'!$R:$R,project_eves_terv!$E12),AND($B12<>0,$D12=10),SUMIFS('likvid terv'!$M:$M,'likvid terv'!$A:$A,project_eves_terv!B12,'likvid terv'!$R:$R,project_eves_terv!$E12),AND($B12<>0,$D12=11),SUMIFS('likvid terv'!$N:$N,'likvid terv'!$A:$A,project_eves_terv!B12,'likvid terv'!$R:$R,project_eves_terv!$E12),AND($B12<>0,$D12=12),SUMIFS('likvid terv'!$O:$O,'likvid terv'!$A:$A,project_eves_terv!B12,'likvid terv'!$R:$R,project_eves_terv!$E12),$B12=0,0)} -> 0 | G12: ='likvid terv'!$B$2 -> 0
A13: ='likvid terv'!$B$1 -> 0 | B13: ='likvid terv'!$B$33 -> 0 | C13: 2027 | D13: 12 | E13: 8 | F13: {=_xlfn.IFS(AND($B13<>0,$D13=1),SUMIFS('likvid terv'!$D:$D,'likvid terv'!$A:$A,project_eves_terv!B13,'likvid terv'!$R:$R,project_eves_terv!$E13),AND($B13<>0,$D13=2),SUMIFS('likvid terv'!$E:$E,'likvid terv'!$A:$A,project_eves_terv!B13,'likvid terv'!$R:$R,project_eves_terv!$E13),AND($B13<>0,$D13=3),SUMIFS('likvid terv'!$F:$F,'likvid terv'!$A:$A,project_eves_terv!B13,'likvid terv'!$R:$R,project_eves_terv!$E13),AND($B13<>0,$D13=4),SUMIFS('likvid terv'!$G:$G,'likvid terv'!$A:$A,project_eves_terv!B13,'likvid terv'!$R:$R,project_eves_terv!$E13),AND($B13<>0,$D13=5),SUMIFS('likvid terv'!$H:$H,'likvid terv'!$A:$A,project_eves_terv!B13,'likvid terv'!$R:$R,project_eves_terv!$E13),AND($B13<>0,$D13=6),SUMIFS('likvid terv'!$I:$I,'likvid terv'!$A:$A,project_eves_terv!B13,'likvid terv'!$R:$R,project_eves_terv!$E13),AND($B13<>0,$D13=7),SUMIFS('likvid terv'!$J:$J,'likvid terv'!$A:$A,project_eves_terv!B13,'likvid terv'!$R:$R,project_eves_terv!$E13),AND($B13<>0,$D13=8),SUMIFS('likvid terv'!$K:$K,'likvid terv'!$A:$A,project_eves_terv!B13,'likvid terv'!$R:$R,project_eves_terv!$E13),AND($B13<>0,$D13=9),SUMIFS('likvid terv'!$L:$L,'likvid terv'!$A:$A,project_eves_terv!B13,'likvid terv'!$R:$R,project_eves_terv!$E13),AND($B13<>0,$D13=10),SUMIFS('likvid terv'!$M:$M,'likvid terv'!$A:$A,project_eves_terv!B13,'likvid terv'!$R:$R,project_eves_terv!$E13),AND($B13<>0,$D13=11),SUMIFS('likvid terv'!$N:$N,'likvid terv'!$A:$A,project_eves_terv!B13,'likvid terv'!$R:$R,project_eves_terv!$E13),AND($B13<>0,$D13=12),SUMIFS('likvid terv'!$O:$O,'likvid terv'!$A:$A,project_eves_terv!B13,'likvid terv'!$R:$R,project_eves_terv!$E13),$B13=0,0)} -> 0 | G13: ='likvid terv'!$B$2 -> 0
... A325: ='likvid terv'!$B$1 -> 0 | B325: ='likvid terv'!$B$33 -> 0 | C325: 2027 | D325: 12 | E325: 27 | F325: {=_xlfn.IFS(AND($B325<>0,$D325=1),SUMIFS('likvid terv'!$D:$D,'likvid terv'!$A:$A,project_eves_terv!B325,'likvid terv'!$R:$R,project_eves_terv!$E325),AND($B325<>0,$D325=2),SUMIFS('likvid terv'!$E:$E,'likvid terv'!$A:$A,project_eves_terv!B325,'likvid terv'!$R:$R,project_eves_terv!$E325),AND($B325<>0,$D325=3),SUMIFS('likvid terv'!$F:$F,'likvid terv'!$A:$A,project_eves_terv!B325,'likvid terv'!$R:$R,project_eves_terv!$E325),AND($B325<>0,$D325=4),SUMIFS('likvid terv'!$G:$G,'likvid terv'!$A:$A,project_eves_terv!B325,'likvid terv'!$R:$R,project_eves_terv!$E325),AND($B325<>0,$D325=5),SUMIFS('likvid terv'!$H:$H,'likvid terv'!$A:$A,project_eves_terv!B325,'likvid terv'!$R:$R,project_eves_terv!$E325),AND($B325<>0,$D325=6),SUMIFS('likvid terv'!$I:$I,'likvid terv'!$A:$A,project_eves_terv!B325,'likvid terv'!$R:$R,project_eves_terv!$E325),AND($B325<>0,$D325=7),SUMIFS('likvid terv'!$J:$J,'likvid terv'!$A:$A,project_eves_terv!B325,'likvid terv'!$R:$R,project_eves_terv!$E325),AND($B325<>0,$D325=8),SUMIFS('likvid terv'!$K:$K,'likvid terv'!$A:$A,project_eves_terv!B325,'likvid terv'!$R:$R,project_eves_terv!$E325),AND($B325<>0,$D325=9),SUMIFS('likvid terv'!$L:$L,'likvid terv'!$A:$A,project_eves_terv!B325,'likvid terv'!$R:$R,project_eves_terv!$E325),AND($B325<>0,$D325=10),SUMIFS('likvid terv'!$M:$M,'likvid terv'!$A:$A,project_eves_terv!B325,'likvid terv'!$R:$R,project_eves_terv!$E325),AND($B325<>0,$D325=11),SUMIFS('likvid terv'!$N:$N,'likvid terv'!$A:$A,project_eves_terv!B325,'likvid terv'!$R:$R,project_eves_terv!$E325),AND($B325<>0,$D325=12),SUMIFS('likvid terv'!$O:$O,'likvid terv'!$A:$A,project_eves_terv!B325,'likvid terv'!$R:$R,project_eves_terv!$E325),$B325=0,0)} -> 0 | G325: ='likvid terv'!$B$2 -> 0
A326: ='likvid terv'!$B$1 -> 0 | B326: ='likvid terv'!$B$62 -> 0 | C326: 2027 | D326: 1 | E326: 8 | F326: {=_xlfn.IFS(AND($B326<>0,$D326=1),SUMIFS('likvid terv'!$D:$D,'likvid terv'!$A:$A,project_eves_terv!B326,'likvid terv'!$R:$R,project_eves_terv!$E326),AND($B326<>0,$D326=2),SUMIFS('likvid terv'!$E:$E,'likvid terv'!$A:$A,project_eves_terv!B326,'likvid terv'!$R:$R,project_eves_terv!$E326),AND($B326<>0,$D326=3),SUMIFS('likvid terv'!$F:$F,'likvid terv'!$A:$A,project_eves_terv!B326,'likvid terv'!$R:$R,project_eves_terv!$E326),AND($B326<>0,$D326=4),SUMIFS('likvid terv'!$G:$G,'likvid terv'!$A:$A,project_eves_terv!B326,'likvid terv'!$R:$R,project_eves_terv!$E326),AND($B326<>0,$D326=5),SUMIFS('likvid terv'!$H:$H,'likvid terv'!$A:$A,project_eves_terv!B326,'likvid terv'!$R:$R,project_eves_terv!$E326),AND($B326<>0,$D326=6),SUMIFS('likvid terv'!$I:$I,'likvid terv'!$A:$A,project_eves_terv!B326,'likvid terv'!$R:$R,project_eves_terv!$E326),AND($B326<>0,$D326=7),SUMIFS('likvid terv'!$J:$J,'likvid terv'!$A:$A,project_eves_terv!B326,'likvid terv'!$R:$R,project_eves_terv!$E326),AND($B326<>0,$D326=8),SUMIFS('likvid terv'!$K:$K,'likvid terv'!$A:$A,project_eves_terv!B326,'likvid terv'!$R:$R,project_eves_terv!$E326),AND($B326<>0,$D326=9),SUMIFS('likvid terv'!$L:$L,'likvid terv'!$A:$A,project_eves_terv!B326,'likvid terv'!$R:$R,project_eves_terv!$E326),AND($B326<>0,$D326=10),SUMIFS('likvid terv'!$M:$M,'likvid terv'!$A:$A,project_eves_terv!B326,'likvid terv'!$R:$R,project_eves_terv!$E326),AND($B326<>0,$D326=11),SUMIFS('likvid terv'!$N:$N,'likvid terv'!$A:$A,project_eves_terv!B326,'likvid terv'!$R:$R,project_eves_terv!$E326),AND($B326<>0,$D326=12),SUMIFS('likvid terv'!$O:$O,'likvid terv'!$A:$A,project_eves_terv!B326,'likvid terv'!$R:$R,project_eves_terv!$E326),$B326=0,0)} -> 0 | G326: ='likvid terv'!$B$2 -> 0
A327: ='likvid terv'!$B$1 -> 0 | B327: ='likvid terv'!$B$62 -> 0 | C327: 2027 | D327: 2 | E327: 8 | F327: {=_xlfn.IFS(AND($B327<>0,$D327=1),SUMIFS('likvid terv'!$D:$D,'likvid terv'!$A:$A,project_eves_terv!B327,'likvid terv'!$R:$R,project_eves_terv!$E327),AND($B327<>0,$D327=2),SUMIFS('likvid terv'!$E:$E,'likvid terv'!$A:$A,project_eves_terv!B327,'likvid terv'!$R:$R,project_eves_terv!$E327),AND($B327<>0,$D327=3),SUMIFS('likvid terv'!$F:$F,'likvid terv'!$A:$A,project_eves_terv!B327,'likvid terv'!$R:$R,project_eves_terv!$E327),AND($B327<>0,$D327=4),SUMIFS('likvid terv'!$G:$G,'likvid terv'!$A:$A,project_eves_terv!B327,'likvid terv'!$R:$R,project_eves_terv!$E327),AND($B327<>0,$D327=5),SUMIFS('likvid terv'!$H:$H,'likvid terv'!$A:$A,project_eves_terv!B327,'likvid terv'!$R:$R,project_eves_terv!$E327),AND($B327<>0,$D327=6),SUMIFS('likvid terv'!$I:$I,'likvid terv'!$A:$A,project_eves_terv!B327,'likvid terv'!$R:$R,project_eves_terv!$E327),AND($B327<>0,$D327=7),SUMIFS('likvid terv'!$J:$J,'likvid terv'!$A:$A,project_eves_terv!B327,'likvid terv'!$R:$R,project_eves_terv!$E327),AND($B327<>0,$D327=8),SUMIFS('likvid terv'!$K:$K,'likvid terv'!$A:$A,project_eves_terv!B327,'likvid terv'!$R:$R,project_eves_terv!$E327),AND($B327<>0,$D327=9),SUMIFS('likvid terv'!$L:$L,'likvid terv'!$A:$A,project_eves_terv!B327,'likvid terv'!$R:$R,project_eves_terv!$E327),AND($B327<>0,$D327=10),SUMIFS('likvid terv'!$M:$M,'likvid terv'!$A:$A,project_eves_terv!B327,'likvid terv'!$R:$R,project_eves_terv!$E327),AND($B327<>0,$D327=11),SUMIFS('likvid terv'!$N:$N,'likvid terv'!$A:$A,project_eves_terv!B327,'likvid terv'!$R:$R,project_eves_terv!$E327),AND($B327<>0,$D327=12),SUMIFS('likvid terv'!$O:$O,'likvid terv'!$A:$A,project_eves_terv!B327,'likvid terv'!$R:$R,project_eves_terv!$E327),$B327=0,0)} -> 0 | G327: ='likvid terv'!$B$2 -> 0
A328: ='likvid terv'!$B$1 -> 0 | B328: ='likvid terv'!$B$62 -> 0 | C328: 2027 | D328: 3 | E328: 8 | F328: {=_xlfn.IFS(AND($B328<>0,$D328=1),SUMIFS('likvid terv'!$D:$D,'likvid terv'!$A:$A,project_eves_terv!B328,'likvid terv'!$R:$R,project_eves_terv!$E328),AND($B328<>0,$D328=2),SUMIFS('likvid terv'!$E:$E,'likvid terv'!$A:$A,project_eves_terv!B328,'likvid terv'!$R:$R,project_eves_terv!$E328),AND($B328<>0,$D328=3),SUMIFS('likvid terv'!$F:$F,'likvid terv'!$A:$A,project_eves_terv!B328,'likvid terv'!$R:$R,project_eves_terv!$E328),AND($B328<>0,$D328=4),SUMIFS('likvid terv'!$G:$G,'likvid terv'!$A:$A,project_eves_terv!B328,'likvid terv'!$R:$R,project_eves_terv!$E328),AND($B328<>0,$D328=5),SUMIFS('likvid terv'!$H:$H,'likvid terv'!$A:$A,project_eves_terv!B328,'likvid terv'!$R:$R,project_eves_terv!$E328),AND($B328<>0,$D328=6),SUMIFS('likvid terv'!$I:$I,'likvid terv'!$A:$A,project_eves_terv!B328,'likvid terv'!$R:$R,project_eves_terv!$E328),AND($B328<>0,$D328=7),SUMIFS('likvid terv'!$J:$J,'likvid terv'!$A:$A,project_eves_terv!B328,'likvid terv'!$R:$R,project_eves_terv!$E328),AND($B328<>0,$D328=8),SUMIFS('likvid terv'!$K:$K,'likvid terv'!$A:$A,project_eves_terv!B328,'likvid terv'!$R:$R,project_eves_terv!$E328),AND($B328<>0,$D328=9),SUMIFS('likvid terv'!$L:$L,'likvid terv'!$A:$A,project_eves_terv!B328,'likvid terv'!$R:$R,project_eves_terv!$E328),AND($B328<>0,$D328=10),SUMIFS('likvid terv'!$M:$M,'likvid terv'!$A:$A,project_eves_terv!B328,'likvid terv'!$R:$R,project_eves_terv!$E328),AND($B328<>0,$D328=11),SUMIFS('likvid terv'!$N:$N,'likvid terv'!$A:$A,project_eves_terv!B328,'likvid terv'!$R:$R,project_eves_terv!$E328),AND($B328<>0,$D328=12),SUMIFS('likvid terv'!$O:$O,'likvid terv'!$A:$A,project_eves_terv!B328,'likvid terv'!$R:$R,project_eves_terv!$E328),$B328=0,0)} -> 0 | G328: ='likvid terv'!$B$2 -> 0
A329: ='likvid terv'!$B$1 -> 0 | B329: ='likvid terv'!$B$62 -> 0 | C329: 2027 | D329: 4 | E329: 8 | F329: {=_xlfn.IFS(AND($B329<>0,$D329=1),SUMIFS('likvid terv'!$D:$D,'likvid terv'!$A:$A,project_eves_terv!B329,'likvid terv'!$R:$R,project_eves_terv!$E329),AND($B329<>0,$D329=2),SUMIFS('likvid terv'!$E:$E,'likvid terv'!$A:$A,project_eves_terv!B329,'likvid terv'!$R:$R,project_eves_terv!$E329),AND($B329<>0,$D329=3),SUMIFS('likvid terv'!$F:$F,'likvid terv'!$A:$A,project_eves_terv!B329,'likvid terv'!$R:$R,project_eves_terv!$E329),AND($B329<>0,$D329=4),SUMIFS('likvid terv'!$G:$G,'likvid terv'!$A:$A,project_eves_terv!B329,'likvid terv'!$R:$R,project_eves_terv!$E329),AND($B329<>0,$D329=5),SUMIFS('likvid terv'!$H:$H,'likvid terv'!$A:$A,project_eves_terv!B329,'likvid terv'!$R:$R,project_eves_terv!$E329),AND($B329<>0,$D329=6),SUMIFS('likvid terv'!$I:$I,'likvid terv'!$A:$A,project_eves_terv!B329,'likvid terv'!$R:$R,project_eves_terv!$E329),AND($B329<>0,$D329=7),SUMIFS('likvid terv'!$J:$J,'likvid terv'!$A:$A,project_eves_terv!B329,'likvid terv'!$R:$R,project_eves_terv!$E329),AND($B329<>0,$D329=8),SUMIFS('likvid terv'!$K:$K,'likvid terv'!$A:$A,project_eves_terv!B329,'likvid terv'!$R:$R,project_eves_terv!$E329),AND($B329<>0,$D329=9),SUMIFS('likvid terv'!$L:$L,'likvid terv'!$A:$A,project_eves_terv!B329,'likvid terv'!$R:$R,project_eves_terv!$E329),AND($B329<>0,$D329=10),SUMIFS('likvid terv'!$M:$M,'likvid terv'!$A:$A,project_eves_terv!B329,'likvid terv'!$R:$R,project_eves_terv!$E329),AND($B329<>0,$D329=11),SUMIFS('likvid terv'!$N:$N,'likvid terv'!$A:$A,project_eves_terv!B329,'likvid terv'!$R:$R,project_eves_terv!$E329),AND($B329<>0,$D329=12),SUMIFS('likvid terv'!$O:$O,'likvid terv'!$A:$A,project_eves_terv!B329,'likvid terv'!$R:$R,project_eves_terv!$E329),$B329=0,0)} -> 0 | G329: ='likvid terv'!$B$2 -> 0
A330: ='likvid terv'!$B$1 -> 0 | B330: ='likvid terv'!$B$62 -> 0 | C330: 2027 | D330: 5 | E330: 8 | F330: {=_xlfn.IFS(AND($B330<>0,$D330=1),SUMIFS('likvid terv'!$D:$D,'likvid terv'!$A:$A,project_eves_terv!B330,'likvid terv'!$R:$R,project_eves_terv!$E330),AND($B330<>0,$D330=2),SUMIFS('likvid terv'!$E:$E,'likvid terv'!$A:$A,project_eves_terv!B330,'likvid terv'!$R:$R,project_eves_terv!$E330),AND($B330<>0,$D330=3),SUMIFS('likvid terv'!$F:$F,'likvid terv'!$A:$A,project_eves_terv!B330,'likvid terv'!$R:$R,project_eves_terv!$E330),AND($B330<>0,$D330=4),SUMIFS('likvid terv'!$G:$G,'likvid terv'!$A:$A,project_eves_terv!B330,'likvid terv'!$R:$R,project_eves_terv!$E330),AND($B330<>0,$D330=5),SUMIFS('likvid terv'!$H:$H,'likvid terv'!$A:$A,project_eves_terv!B330,'likvid terv'!$R:$R,project_eves_terv!$E330),AND($B330<>0,$D330=6),SUMIFS('likvid terv'!$I:$I,'likvid terv'!$A:$A,project_eves_terv!B330,'likvid terv'!$R:$R,project_eves_terv!$E330),AND($B330<>0,$D330=7),SUMIFS('likvid terv'!$J:$J,'likvid terv'!$A:$A,project_eves_terv!B330,'likvid terv'!$R:$R,project_eves_terv!$E330),AND($B330<>0,$D330=8),SUMIFS('likvid terv'!$K:$K,'likvid terv'!$A:$A,project_eves_terv!B330,'likvid terv'!$R:$R,project_eves_terv!$E330),AND($B330<>0,$D330=9),SUMIFS('likvid terv'!$L:$L,'likvid terv'!$A:$A,project_eves_terv!B330,'likvid terv'!$R:$R,project_eves_terv!$E330),AND($B330<>0,$D330=10),SUMIFS('likvid terv'!$M:$M,'likvid terv'!$A:$A,project_eves_terv!B330,'likvid terv'!$R:$R,project_eves_terv!$E330),AND($B330<>0,$D330=11),SUMIFS('likvid terv'!$N:$N,'likvid terv'!$A:$A,project_eves_terv!B330,'likvid terv'!$R:$R,project_eves_terv!$E330),AND($B330<>0,$D330=12),SUMIFS('likvid terv'!$O:$O,'likvid terv'!$A:$A,project_eves_terv!B330,'likvid terv'!$R:$R,project_eves_terv!$E330),$B330=0,0)} -> 0 | G330: ='likvid terv'!$B$2 -> 0
A331: ='likvid terv'!$B$1 -> 0 | B331: ='likvid terv'!$B$62 -> 0 | C331: 2027 | D331: 6 | E331: 8 | F331: {=_xlfn.IFS(AND($B331<>0,$D331=1),SUMIFS('likvid terv'!$D:$D,'likvid terv'!$A:$A,project_eves_terv!B331,'likvid terv'!$R:$R,project_eves_terv!$E331),AND($B331<>0,$D331=2),SUMIFS('likvid terv'!$E:$E,'likvid terv'!$A:$A,project_eves_terv!B331,'likvid terv'!$R:$R,project_eves_terv!$E331),AND($B331<>0,$D331=3),SUMIFS('likvid terv'!$F:$F,'likvid terv'!$A:$A,project_eves_terv!B331,'likvid terv'!$R:$R,project_eves_terv!$E331),AND($B331<>0,$D331=4),SUMIFS('likvid terv'!$G:$G,'likvid terv'!$A:$A,project_eves_terv!B331,'likvid terv'!$R:$R,project_eves_terv!$E331),AND($B331<>0,$D331=5),SUMIFS('likvid terv'!$H:$H,'likvid terv'!$A:$A,project_eves_terv!B331,'likvid terv'!$R:$R,project_eves_terv!$E331),AND($B331<>0,$D331=6),SUMIFS('likvid terv'!$I:$I,'likvid terv'!$A:$A,project_eves_terv!B331,'likvid terv'!$R:$R,project_eves_terv!$E331),AND($B331<>0,$D331=7),SUMIFS('likvid terv'!$J:$J,'likvid terv'!$A:$A,project_eves_terv!B331,'likvid terv'!$R:$R,project_eves_terv!$E331),AND($B331<>0,$D331=8),SUMIFS('likvid terv'!$K:$K,'likvid terv'!$A:$A,project_eves_terv!B331,'likvid terv'!$R:$R,project_eves_terv!$E331),AND($B331<>0,$D331=9),SUMIFS('likvid terv'!$L:$L,'likvid terv'!$A:$A,project_eves_terv!B331,'likvid terv'!$R:$R,project_eves_terv!$E331),AND($B331<>0,$D331=10),SUMIFS('likvid terv'!$M:$M,'likvid terv'!$A:$A,project_eves_terv!B331,'likvid terv'!$R:$R,project_eves_terv!$E331),AND($B331<>0,$D331=11),SUMIFS('likvid terv'!$N:$N,'likvid terv'!$A:$A,project_eves_terv!B331,'likvid terv'!$R:$R,project_eves_terv!$E331),AND($B331<>0,$D331=12),SUMIFS('likvid terv'!$O:$O,'likvid terv'!$A:$A,project_eves_terv!B331,'likvid terv'!$R:$R,project_eves_terv!$E331),$B331=0,0)} -> 0 | G331: ='likvid terv'!$B$2 -> 0
A332: ='likvid terv'!$B$1 -> 0 | B332: ='likvid terv'!$B$62 -> 0 | C332: 2027 | D332: 7 | E332: 8 | F332: {=_xlfn.IFS(AND($B332<>0,$D332=1),SUMIFS('likvid terv'!$D:$D,'likvid terv'!$A:$A,project_eves_terv!B332,'likvid terv'!$R:$R,project_eves_terv!$E332),AND($B332<>0,$D332=2),SUMIFS('likvid terv'!$E:$E,'likvid terv'!$A:$A,project_eves_terv!B332,'likvid terv'!$R:$R,project_eves_terv!$E332),AND($B332<>0,$D332=3),SUMIFS('likvid terv'!$F:$F,'likvid terv'!$A:$A,project_eves_terv!B332,'likvid terv'!$R:$R,project_eves_terv!$E332),AND($B332<>0,$D332=4),SUMIFS('likvid terv'!$G:$G,'likvid terv'!$A:$A,project_eves_terv!B332,'likvid terv'!$R:$R,project_eves_terv!$E332),AND($B332<>0,$D332=5),SUMIFS('likvid terv'!$H:$H,'likvid terv'!$A:$A,project_eves_terv!B332,'likvid terv'!$R:$R,project_eves_terv!$E332),AND($B332<>0,$D332=6),SUMIFS('likvid terv'!$I:$I,'likvid terv'!$A:$A,project_eves_terv!B332,'likvid terv'!$R:$R,project_eves_terv!$E332),AND($B332<>0,$D332=7),SUMIFS('likvid terv'!$J:$J,'likvid terv'!$A:$A,project_eves_terv!B332,'likvid terv'!$R:$R,project_eves_terv!$E332),AND($B332<>0,$D332=8),SUMIFS('likvid terv'!$K:$K,'likvid terv'!$A:$A,project_eves_terv!B332,'likvid terv'!$R:$R,project_eves_terv!$E332),AND($B332<>0,$D332=9),SUMIFS('likvid terv'!$L:$L,'likvid terv'!$A:$A,project_eves_terv!B332,'likvid terv'!$R:$R,project_eves_terv!$E332),AND($B332<>0,$D332=10),SUMIFS('likvid terv'!$M:$M,'likvid terv'!$A:$A,project_eves_terv!B332,'likvid terv'!$R:$R,project_eves_terv!$E332),AND($B332<>0,$D332=11),SUMIFS('likvid terv'!$N:$N,'likvid terv'!$A:$A,project_eves_terv!B332,'likvid terv'!$R:$R,project_eves_terv!$E332),AND($B332<>0,$D332=12),SUMIFS('likvid terv'!$O:$O,'likvid terv'!$A:$A,project_eves_terv!B332,'likvid terv'!$R:$R,project_eves_terv!$E332),$B332=0,0)} -> 0 | G332: ='likvid terv'!$B$2 -> 0
A333: ='likvid terv'!$B$1 -> 0 | B333: ='likvid terv'!$B$62 -> 0 | C333: 2027 | D333: 8 | E333: 8 | F333: {=_xlfn.IFS(AND($B333<>0,$D333=1),SUMIFS('likvid terv'!$D:$D,'likvid terv'!$A:$A,project_eves_terv!B333,'likvid terv'!$R:$R,project_eves_terv!$E333),AND($B333<>0,$D333=2),SUMIFS('likvid terv'!$E:$E,'likvid terv'!$A:$A,project_eves_terv!B333,'likvid terv'!$R:$R,project_eves_terv!$E333),AND($B333<>0,$D333=3),SUMIFS('likvid terv'!$F:$F,'likvid terv'!$A:$A,project_eves_terv!B333,'likvid terv'!$R:$R,project_eves_terv!$E333),AND($B333<>0,$D333=4),SUMIFS('likvid terv'!$G:$G,'likvid terv'!$A:$A,project_eves_terv!B333,'likvid terv'!$R:$R,project_eves_terv!$E333),AND($B333<>0,$D333=5),SUMIFS('likvid terv'!$H:$H,'likvid terv'!$A:$A,project_eves_terv!B333,'likvid terv'!$R:$R,project_eves_terv!$E333),AND($B333<>0,$D333=6),SUMIFS('likvid terv'!$I:$I,'likvid terv'!$A:$A,project_eves_terv!B333,'likvid terv'!$R:$R,project_eves_terv!$E333),AND($B333<>0,$D333=7),SUMIFS('likvid terv'!$J:$J,'likvid terv'!$A:$A,project_eves_terv!B333,'likvid terv'!$R:$R,project_eves_terv!$E333),AND($B333<>0,$D333=8),SUMIFS('likvid terv'!$K:$K,'likvid terv'!$A:$A,project_eves_terv!B333,'likvid terv'!$R:$R,project_eves_terv!$E333),AND($B333<>0,$D333=9),SUMIFS('likvid terv'!$L:$L,'likvid terv'!$A:$A,project_eves_terv!B333,'likvid terv'!$R:$R,project_eves_terv!$E333),AND($B333<>0,$D333=10),SUMIFS('likvid terv'!$M:$M,'likvid terv'!$A:$A,project_eves_terv!B333,'likvid terv'!$R:$R,project_eves_terv!$E333),AND($B333<>0,$D333=11),SUMIFS('likvid terv'!$N:$N,'likvid terv'!$A:$A,project_eves_terv!B333,'likvid terv'!$R:$R,project_eves_terv!$E333),AND($B333<>0,$D333=12),SUMIFS('likvid terv'!$O:$O,'likvid terv'!$A:$A,project_eves_terv!B333,'likvid terv'!$R:$R,project_eves_terv!$E333),$B333=0,0)} -> 0 | G333: ='likvid terv'!$B$2 -> 0
A334: ='likvid terv'!$B$1 -> 0 | B334: ='likvid terv'!$B$62 -> 0 | C334: 2027 | D334: 9 | E334: 8 | F334: {=_xlfn.IFS(AND($B334<>0,$D334=1),SUMIFS('likvid terv'!$D:$D,'likvid terv'!$A:$A,project_eves_terv!B334,'likvid terv'!$R:$R,project_eves_terv!$E334),AND($B334<>0,$D334=2),SUMIFS('likvid terv'!$E:$E,'likvid terv'!$A:$A,project_eves_terv!B334,'likvid terv'!$R:$R,project_eves_terv!$E334),AND($B334<>0,$D334=3),SUMIFS('likvid terv'!$F:$F,'likvid terv'!$A:$A,project_eves_terv!B334,'likvid terv'!$R:$R,project_eves_terv!$E334),AND($B334<>0,$D334=4),SUMIFS('likvid terv'!$G:$G,'likvid terv'!$A:$A,project_eves_terv!B334,'likvid terv'!$R:$R,project_eves_terv!$E334),AND($B334<>0,$D334=5),SUMIFS('likvid terv'!$H:$H,'likvid terv'!$A:$A,project_eves_terv!B334,'likvid terv'!$R:$R,project_eves_terv!$E334),AND($B334<>0,$D334=6),SUMIFS('likvid terv'!$I:$I,'likvid terv'!$A:$A,project_eves_terv!B334,'likvid terv'!$R:$R,project_eves_terv!$E334),AND($B334<>0,$D334=7),SUMIFS('likvid terv'!$J:$J,'likvid terv'!$A:$A,project_eves_terv!B334,'likvid terv'!$R:$R,project_eves_terv!$E334),AND($B334<>0,$D334=8),SUMIFS('likvid terv'!$K:$K,'likvid terv'!$A:$A,project_eves_terv!B334,'likvid terv'!$R:$R,project_eves_terv!$E334),AND($B334<>0,$D334=9),SUMIFS('likvid terv'!$L:$L,'likvid terv'!$A:$A,project_eves_terv!B334,'likvid terv'!$R:$R,project_eves_terv!$E334),AND($B334<>0,$D334=10),SUMIFS('likvid terv'!$M:$M,'likvid terv'!$A:$A,project_eves_terv!B334,'likvid terv'!$R:$R,project_eves_terv!$E334),AND($B334<>0,$D334=11),SUMIFS('likvid terv'!$N:$N,'likvid terv'!$A:$A,project_eves_terv!B334,'likvid terv'!$R:$R,project_eves_terv!$E334),AND($B334<>0,$D334=12),SUMIFS('likvid terv'!$O:$O,'likvid terv'!$A:$A,project_eves_terv!B334,'likvid terv'!$R:$R,project_eves_terv!$E334),$B334=0,0)} -> 0 | G334: ='likvid terv'!$B$2 -> 0
A335: ='likvid terv'!$B$1 -> 0 | B335: ='likvid terv'!$B$62 -> 0 | C335: 2027 | D335: 10 | E335: 8 | F335: {=_xlfn.IFS(AND($B335<>0,$D335=1),SUMIFS('likvid terv'!$D:$D,'likvid terv'!$A:$A,project_eves_terv!B335,'likvid terv'!$R:$R,project_eves_terv!$E335),AND($B335<>0,$D335=2),SUMIFS('likvid terv'!$E:$E,'likvid terv'!$A:$A,project_eves_terv!B335,'likvid terv'!$R:$R,project_eves_terv!$E335),AND($B335<>0,$D335=3),SUMIFS('likvid terv'!$F:$F,'likvid terv'!$A:$A,project_eves_terv!B335,'likvid terv'!$R:$R,project_eves_terv!$E335),AND($B335<>0,$D335=4),SUMIFS('likvid terv'!$G:$G,'likvid terv'!$A:$A,project_eves_terv!B335,'likvid terv'!$R:$R,project_eves_terv!$E335),AND($B335<>0,$D335=5),SUMIFS('likvid terv'!$H:$H,'likvid terv'!$A:$A,project_eves_terv!B335,'likvid terv'!$R:$R,project_eves_terv!$E335),AND($B335<>0,$D335=6),SUMIFS('likvid terv'!$I:$I,'likvid terv'!$A:$A,project_eves_terv!B335,'likvid terv'!$R:$R,project_eves_terv!$E335),AND($B335<>0,$D335=7),SUMIFS('likvid terv'!$J:$J,'likvid terv'!$A:$A,project_eves_terv!B335,'likvid terv'!$R:$R,project_eves_terv!$E335),AND($B335<>0,$D335=8),SUMIFS('likvid terv'!$K:$K,'likvid terv'!$A:$A,project_eves_terv!B335,'likvid terv'!$R:$R,project_eves_terv!$E335),AND($B335<>0,$D335=9),SUMIFS('likvid terv'!$L:$L,'likvid terv'!$A:$A,project_eves_terv!B335,'likvid terv'!$R:$R,project_eves_terv!$E335),AND($B335<>0,$D335=10),SUMIFS('likvid terv'!$M:$M,'likvid terv'!$A:$A,project_eves_terv!B335,'likvid terv'!$R:$R,project_eves_terv!$E335),AND($B335<>0,$D335=11),SUMIFS('likvid terv'!$N:$N,'likvid terv'!$A:$A,project_eves_terv!B335,'likvid terv'!$R:$R,project_eves_terv!$E335),AND($B335<>0,$D335=12),SUMIFS('likvid terv'!$O:$O,'likvid terv'!$A:$A,project_eves_terv!B335,'likvid terv'!$R:$R,project_eves_terv!$E335),$B335=0,0)} -> 0 | G335: ='likvid terv'!$B$2 -> 0
A336: ='likvid terv'!$B$1 -> 0 | B336: ='likvid terv'!$B$62 -> 0 | C336: 2027 | D336: 11 | E336: 8 | F336: {=_xlfn.IFS(AND($B336<>0,$D336=1),SUMIFS('likvid terv'!$D:$D,'likvid terv'!$A:$A,project_eves_terv!B336,'likvid terv'!$R:$R,project_eves_terv!$E336),AND($B336<>0,$D336=2),SUMIFS('likvid terv'!$E:$E,'likvid terv'!$A:$A,project_eves_terv!B336,'likvid terv'!$R:$R,project_eves_terv!$E336),AND($B336<>0,$D336=3),SUMIFS('likvid terv'!$F:$F,'likvid terv'!$A:$A,project_eves_terv!B336,'likvid terv'!$R:$R,project_eves_terv!$E336),AND($B336<>0,$D336=4),SUMIFS('likvid terv'!$G:$G,'likvid terv'!$A:$A,project_eves_terv!B336,'likvid terv'!$R:$R,project_eves_terv!$E336),AND($B336<>0,$D336=5),SUMIFS('likvid terv'!$H:$H,'likvid terv'!$A:$A,project_eves_terv!B336,'likvid terv'!$R:$R,project_eves_terv!$E336),AND($B336<>0,$D336=6),SUMIFS('likvid terv'!$I:$I,'likvid terv'!$A:$A,project_eves_terv!B336,'likvid terv'!$R:$R,project_eves_terv!$E336),AND($B336<>0,$D336=7),SUMIFS('likvid terv'!$J:$J,'likvid terv'!$A:$A,project_eves_terv!B336,'likvid terv'!$R:$R,project_eves_terv!$E336),AND($B336<>0,$D336=8),SUMIFS('likvid terv'!$K:$K,'likvid terv'!$A:$A,project_eves_terv!B336,'likvid terv'!$R:$R,project_eves_terv!$E336),AND($B336<>0,$D336=9),SUMIFS('likvid terv'!$L:$L,'likvid terv'!$A:$A,project_eves_terv!B336,'likvid terv'!$R:$R,project_eves_terv!$E336),AND($B336<>0,$D336=10),SUMIFS('likvid terv'!$M:$M,'likvid terv'!$A:$A,project_eves_terv!B336,'likvid terv'!$R:$R,project_eves_terv!$E336),AND($B336<>0,$D336=11),SUMIFS('likvid terv'!$N:$N,'likvid terv'!$A:$A,project_eves_terv!B336,'likvid terv'!$R:$R,project_eves_terv!$E336),AND($B336<>0,$D336=12),SUMIFS('likvid terv'!$O:$O,'likvid terv'!$A:$A,project_eves_terv!B336,'likvid terv'!$R:$R,project_eves_terv!$E336),$B336=0,0)} -> 0 | G336: ='likvid terv'!$B$2 -> 0
A337: ='likvid terv'!$B$1 -> 0 | B337: ='likvid terv'!$B$62 -> 0 | C337: 2027 | D337: 12 | E337: 8 | F337: {=_xlfn.IFS(AND($B337<>0,$D337=1),SUMIFS('likvid terv'!$D:$D,'likvid terv'!$A:$A,project_eves_terv!B337,'likvid terv'!$R:$R,project_eves_terv!$E337),AND($B337<>0,$D337=2),SUMIFS('likvid terv'!$E:$E,'likvid terv'!$A:$A,project_eves_terv!B337,'likvid terv'!$R:$R,project_eves_terv!$E337),AND($B337<>0,$D337=3),SUMIFS('likvid terv'!$F:$F,'likvid terv'!$A:$A,project_eves_terv!B337,'likvid terv'!$R:$R,project_eves_terv!$E337),AND($B337<>0,$D337=4),SUMIFS('likvid terv'!$G:$G,'likvid terv'!$A:$A,project_eves_terv!B337,'likvid terv'!$R:$R,project_eves_terv!$E337),AND($B337<>0,$D337=5),SUMIFS('likvid terv'!$H:$H,'likvid terv'!$A:$A,project_eves_terv!B337,'likvid terv'!$R:$R,project_eves_terv!$E337),AND($B337<>0,$D337=6),SUMIFS('likvid terv'!$I:$I,'likvid terv'!$A:$A,project_eves_terv!B337,'likvid terv'!$R:$R,project_eves_terv!$E337),AND($B337<>0,$D337=7),SUMIFS('likvid terv'!$J:$J,'likvid terv'!$A:$A,project_eves_terv!B337,'likvid terv'!$R:$R,project_eves_terv!$E337),AND($B337<>0,$D337=8),SUMIFS('likvid terv'!$K:$K,'likvid terv'!$A:$A,project_eves_terv!B337,'likvid terv'!$R:$R,project_eves_terv!$E337),AND($B337<>0,$D337=9),SUMIFS('likvid terv'!$L:$L,'likvid terv'!$A:$A,project_eves_terv!B337,'likvid terv'!$R:$R,project_eves_terv!$E337),AND($B337<>0,$D337=10),SUMIFS('likvid terv'!$M:$M,'likvid terv'!$A:$A,project_eves_terv!B337,'likvid terv'!$R:$R,project_eves_terv!$E337),AND($B337<>0,$D337=11),SUMIFS('likvid terv'!$N:$N,'likvid terv'!$A:$A,project_eves_terv!B337,'likvid terv'!$R:$R,project_eves_terv!$E337),AND($B337<>0,$D337=12),SUMIFS('likvid terv'!$O:$O,'likvid terv'!$A:$A,project_eves_terv!B337,'likvid terv'!$R:$R,project_eves_terv!$E337),$B337=0,0)} -> 0 | G337: ='likvid terv'!$B$2 -> 0
... A649: ='likvid terv'!$B$1 -> 0 | B649: ='likvid terv'!$B$62 -> 0 | C649: 2027 | D649: 12 | E649: 27 | F649: {=_xlfn.IFS(AND($B649<>0,$D649=1),SUMIFS('likvid terv'!$D:$D,'likvid terv'!$A:$A,project_eves_terv!B649,'likvid terv'!$R:$R,project_eves_terv!$E649),AND($B649<>0,$D649=2),SUMIFS('likvid terv'!$E:$E,'likvid terv'!$A:$A,project_eves_terv!B649,'likvid terv'!$R:$R,project_eves_terv!$E649),AND($B649<>0,$D649=3),SUMIFS('likvid terv'!$F:$F,'likvid terv'!$A:$A,project_eves_terv!B649,'likvid terv'!$R:$R,project_eves_terv!$E649),AND($B649<>0,$D649=4),SUMIFS('likvid terv'!$G:$G,'likvid terv'!$A:$A,project_eves_terv!B649,'likvid terv'!$R:$R,project_eves_terv!$E649),AND($B649<>0,$D649=5),SUMIFS('likvid terv'!$H:$H,'likvid terv'!$A:$A,project_eves_terv!B649,'likvid terv'!$R:$R,project_eves_terv!$E649),AND($B649<>0,$D649=6),SUMIFS('likvid terv'!$I:$I,'likvid terv'!$A:$A,project_eves_terv!B649,'likvid terv'!$R:$R,project_eves_terv!$E649),AND($B649<>0,$D649=7),SUMIFS('likvid terv'!$J:$J,'likvid terv'!$A:$A,project_eves_terv!B649,'likvid terv'!$R:$R,project_eves_terv!$E649),AND($B649<>0,$D649=8),SUMIFS('likvid terv'!$K:$K,'likvid terv'!$A:$A,project_eves_terv!B649,'likvid terv'!$R:$R,project_eves_terv!$E649),AND($B649<>0,$D649=9),SUMIFS('likvid terv'!$L:$L,'likvid terv'!$A:$A,project_eves_terv!B649,'likvid terv'!$R:$R,project_eves_terv!$E649),AND($B649<>0,$D649=10),SUMIFS('likvid terv'!$M:$M,'likvid terv'!$A:$A,project_eves_terv!B649,'likvid terv'!$R:$R,project_eves_terv!$E649),AND($B649<>0,$D649=11),SUMIFS('likvid terv'!$N:$N,'likvid terv'!$A:$A,project_eves_terv!B649,'likvid terv'!$R:$R,project_eves_terv!$E649),AND($B649<>0,$D649=12),SUMIFS('likvid terv'!$O:$O,'likvid terv'!$A:$A,project_eves_terv!B649,'likvid terv'!$R:$R,project_eves_terv!$E649),$B649=0,0)} -> 0 | G649: ='likvid terv'!$B$2 -> 0
A650: ='likvid terv'!$B$1 -> 0 | B650: ='likvid terv'!$B$91 -> 0 | C650: 2027 | D650: 1 | E650: 8 | F650: {=_xlfn.IFS(AND($B650<>0,$D650=1),SUMIFS('likvid terv'!$D:$D,'likvid terv'!$A:$A,project_eves_terv!B650,'likvid terv'!$R:$R,project_eves_terv!$E650),AND($B650<>0,$D650=2),SUMIFS('likvid terv'!$E:$E,'likvid terv'!$A:$A,project_eves_terv!B650,'likvid terv'!$R:$R,project_eves_terv!$E650),AND($B650<>0,$D650=3),SUMIFS('likvid terv'!$F:$F,'likvid terv'!$A:$A,project_eves_terv!B650,'likvid terv'!$R:$R,project_eves_terv!$E650),AND($B650<>0,$D650=4),SUMIFS('likvid terv'!$G:$G,'likvid terv'!$A:$A,project_eves_terv!B650,'likvid terv'!$R:$R,project_eves_terv!$E650),AND($B650<>0,$D650=5),SUMIFS('likvid terv'!$H:$H,'likvid terv'!$A:$A,project_eves_terv!B650,'likvid terv'!$R:$R,project_eves_terv!$E650),AND($B650<>0,$D650=6),SUMIFS('likvid terv'!$I:$I,'likvid terv'!$A:$A,project_eves_terv!B650,'likvid terv'!$R:$R,project_eves_terv!$E650),AND($B650<>0,$D650=7),SUMIFS('likvid terv'!$J:$J,'likvid terv'!$A:$A,project_eves_terv!B650,'likvid terv'!$R:$R,project_eves_terv!$E650),AND($B650<>0,$D650=8),SUMIFS('likvid terv'!$K:$K,'likvid terv'!$A:$A,project_eves_terv!B650,'likvid terv'!$R:$R,project_eves_terv!$E650),AND($B650<>0,$D650=9),SUMIFS('likvid terv'!$L:$L,'likvid terv'!$A:$A,project_eves_terv!B650,'likvid terv'!$R:$R,project_eves_terv!$E650),AND($B650<>0,$D650=10),SUMIFS('likvid terv'!$M:$M,'likvid terv'!$A:$A,project_eves_terv!B650,'likvid terv'!$R:$R,project_eves_terv!$E650),AND($B650<>0,$D650=11),SUMIFS('likvid terv'!$N:$N,'likvid terv'!$A:$A,project_eves_terv!B650,'likvid terv'!$R:$R,project_eves_terv!$E650),AND($B650<>0,$D650=12),SUMIFS('likvid terv'!$O:$O,'likvid terv'!$A:$A,project_eves_terv!B650,'likvid terv'!$R:$R,project_eves_terv!$E650),$B650=0,0)} -> 0 | G650: ='likvid terv'!$B$2 -> 0
A651: ='likvid terv'!$B$1 -> 0 | B651: ='likvid terv'!$B$91 -> 0 | C651: 2027 | D651: 2 | E651: 8 | F651: {=_xlfn.IFS(AND($B651<>0,$D651=1),SUMIFS('likvid terv'!$D:$D,'likvid terv'!$A:$A,project_eves_terv!B651,'likvid terv'!$R:$R,project_eves_terv!$E651),AND($B651<>0,$D651=2),SUMIFS('likvid terv'!$E:$E,'likvid terv'!$A:$A,project_eves_terv!B651,'likvid terv'!$R:$R,project_eves_terv!$E651),AND($B651<>0,$D651=3),SUMIFS('likvid terv'!$F:$F,'likvid terv'!$A:$A,project_eves_terv!B651,'likvid terv'!$R:$R,project_eves_terv!$E651),AND($B651<>0,$D651=4),SUMIFS('likvid terv'!$G:$G,'likvid terv'!$A:$A,project_eves_terv!B651,'likvid terv'!$R:$R,project_eves_terv!$E651),AND($B651<>0,$D651=5),SUMIFS('likvid terv'!$H:$H,'likvid terv'!$A:$A,project_eves_terv!B651,'likvid terv'!$R:$R,project_eves_terv!$E651),AND($B651<>0,$D651=6),SUMIFS('likvid terv'!$I:$I,'likvid terv'!$A:$A,project_eves_terv!B651,'likvid terv'!$R:$R,project_eves_terv!$E651),AND($B651<>0,$D651=7),SUMIFS('likvid terv'!$J:$J,'likvid terv'!$A:$A,project_eves_terv!B651,'likvid terv'!$R:$R,project_eves_terv!$E651),AND($B651<>0,$D651=8),SUMIFS('likvid terv'!$K:$K,'likvid terv'!$A:$A,project_eves_terv!B651,'likvid terv'!$R:$R,project_eves_terv!$E651),AND($B651<>0,$D651=9),SUMIFS('likvid terv'!$L:$L,'likvid terv'!$A:$A,project_eves_terv!B651,'likvid terv'!$R:$R,project_eves_terv!$E651),AND($B651<>0,$D651=10),SUMIFS('likvid terv'!$M:$M,'likvid terv'!$A:$A,project_eves_terv!B651,'likvid terv'!$R:$R,project_eves_terv!$E651),AND($B651<>0,$D651=11),SUMIFS('likvid terv'!$N:$N,'likvid terv'!$A:$A,project_eves_terv!B651,'likvid terv'!$R:$R,project_eves_terv!$E651),AND($B651<>0,$D651=12),SUMIFS('likvid terv'!$O:$O,'likvid terv'!$A:$A,project_eves_terv!B651,'likvid terv'!$R:$R,project_eves_terv!$E651),$B651=0,0)} -> 0 | G651: ='likvid terv'!$B$2 -> 0
A652: ='likvid terv'!$B$1 -> 0 | B652: ='likvid terv'!$B$91 -> 0 | C652: 2027 | D652: 3 | E652: 8 | F652: {=_xlfn.IFS(AND($B652<>0,$D652=1),SUMIFS('likvid terv'!$D:$D,'likvid terv'!$A:$A,project_eves_terv!B652,'likvid terv'!$R:$R,project_eves_terv!$E652),AND($B652<>0,$D652=2),SUMIFS('likvid terv'!$E:$E,'likvid terv'!$A:$A,project_eves_terv!B652,'likvid terv'!$R:$R,project_eves_terv!$E652),AND($B652<>0,$D652=3),SUMIFS('likvid terv'!$F:$F,'likvid terv'!$A:$A,project_eves_terv!B652,'likvid terv'!$R:$R,project_eves_terv!$E652),AND($B652<>0,$D652=4),SUMIFS('likvid terv'!$G:$G,'likvid terv'!$A:$A,project_eves_terv!B652,'likvid terv'!$R:$R,project_eves_terv!$E652),AND($B652<>0,$D652=5),SUMIFS('likvid terv'!$H:$H,'likvid terv'!$A:$A,project_eves_terv!B652,'likvid terv'!$R:$R,project_eves_terv!$E652),AND($B652<>0,$D652=6),SUMIFS('likvid terv'!$I:$I,'likvid terv'!$A:$A,project_eves_terv!B652,'likvid terv'!$R:$R,project_eves_terv!$E652),AND($B652<>0,$D652=7),SUMIFS('likvid terv'!$J:$J,'likvid terv'!$A:$A,project_eves_terv!B652,'likvid terv'!$R:$R,project_eves_terv!$E652),AND($B652<>0,$D652=8),SUMIFS('likvid terv'!$K:$K,'likvid terv'!$A:$A,project_eves_terv!B652,'likvid terv'!$R:$R,project_eves_terv!$E652),AND($B652<>0,$D652=9),SUMIFS('likvid terv'!$L:$L,'likvid terv'!$A:$A,project_eves_terv!B652,'likvid terv'!$R:$R,project_eves_terv!$E652),AND($B652<>0,$D652=10),SUMIFS('likvid terv'!$M:$M,'likvid terv'!$A:$A,project_eves_terv!B652,'likvid terv'!$R:$R,project_eves_terv!$E652),AND($B652<>0,$D652=11),SUMIFS('likvid terv'!$N:$N,'likvid terv'!$A:$A,project_eves_terv!B652,'likvid terv'!$R:$R,project_eves_terv!$E652),AND($B652<>0,$D652=12),SUMIFS('likvid terv'!$O:$O,'likvid terv'!$A:$A,project_eves_terv!B652,'likvid terv'!$R:$R,project_eves_terv!$E652),$B652=0,0)} -> 0 | G652: ='likvid terv'!$B$2 -> 0
A653: ='likvid terv'!$B$1 -> 0 | B653: ='likvid terv'!$B$91 -> 0 | C653: 2027 | D653: 4 | E653: 8 | F653: {=_xlfn.IFS(AND($B653<>0,$D653=1),SUMIFS('likvid terv'!$D:$D,'likvid terv'!$A:$A,project_eves_terv!B653,'likvid terv'!$R:$R,project_eves_terv!$E653),AND($B653<>0,$D653=2),SUMIFS('likvid terv'!$E:$E,'likvid terv'!$A:$A,project_eves_terv!B653,'likvid terv'!$R:$R,project_eves_terv!$E653),AND($B653<>0,$D653=3),SUMIFS('likvid terv'!$F:$F,'likvid terv'!$A:$A,project_eves_terv!B653,'likvid terv'!$R:$R,project_eves_terv!$E653),AND($B653<>0,$D653=4),SUMIFS('likvid terv'!$G:$G,'likvid terv'!$A:$A,project_eves_terv!B653,'likvid terv'!$R:$R,project_eves_terv!$E653),AND($B653<>0,$D653=5),SUMIFS('likvid terv'!$H:$H,'likvid terv'!$A:$A,project_eves_terv!B653,'likvid terv'!$R:$R,project_eves_terv!$E653),AND($B653<>0,$D653=6),SUMIFS('likvid terv'!$I:$I,'likvid terv'!$A:$A,project_eves_terv!B653,'likvid terv'!$R:$R,project_eves_terv!$E653),AND($B653<>0,$D653=7),SUMIFS('likvid terv'!$J:$J,'likvid terv'!$A:$A,project_eves_terv!B653,'likvid terv'!$R:$R,project_eves_terv!$E653),AND($B653<>0,$D653=8),SUMIFS('likvid terv'!$K:$K,'likvid terv'!$A:$A,project_eves_terv!B653,'likvid terv'!$R:$R,project_eves_terv!$E653),AND($B653<>0,$D653=9),SUMIFS('likvid terv'!$L:$L,'likvid terv'!$A:$A,project_eves_terv!B653,'likvid terv'!$R:$R,project_eves_terv!$E653),AND($B653<>0,$D653=10),SUMIFS('likvid terv'!$M:$M,'likvid terv'!$A:$A,project_eves_terv!B653,'likvid terv'!$R:$R,project_eves_terv!$E653),AND($B653<>0,$D653=11),SUMIFS('likvid terv'!$N:$N,'likvid terv'!$A:$A,project_eves_terv!B653,'likvid terv'!$R:$R,project_eves_terv!$E653),AND($B653<>0,$D653=12),SUMIFS('likvid terv'!$O:$O,'likvid terv'!$A:$A,project_eves_terv!B653,'likvid terv'!$R:$R,project_eves_terv!$E653),$B653=0,0)} -> 0 | G653: ='likvid terv'!$B$2 -> 0
A654: ='likvid terv'!$B$1 -> 0 | B654: ='likvid terv'!$B$91 -> 0 | C654: 2027 | D654: 5 | E654: 8 | F654: {=_xlfn.IFS(AND($B654<>0,$D654=1),SUMIFS('likvid terv'!$D:$D,'likvid terv'!$A:$A,project_eves_terv!B654,'likvid terv'!$R:$R,project_eves_terv!$E654),AND($B654<>0,$D654=2),SUMIFS('likvid terv'!$E:$E,'likvid terv'!$A:$A,project_eves_terv!B654,'likvid terv'!$R:$R,project_eves_terv!$E654),AND($B654<>0,$D654=3),SUMIFS('likvid terv'!$F:$F,'likvid terv'!$A:$A,project_eves_terv!B654,'likvid terv'!$R:$R,project_eves_terv!$E654),AND($B654<>0,$D654=4),SUMIFS('likvid terv'!$G:$G,'likvid terv'!$A:$A,project_eves_terv!B654,'likvid terv'!$R:$R,project_eves_terv!$E654),AND($B654<>0,$D654=5),SUMIFS('likvid terv'!$H:$H,'likvid terv'!$A:$A,project_eves_terv!B654,'likvid terv'!$R:$R,project_eves_terv!$E654),AND($B654<>0,$D654=6),SUMIFS('likvid terv'!$I:$I,'likvid terv'!$A:$A,project_eves_terv!B654,'likvid terv'!$R:$R,project_eves_terv!$E654),AND($B654<>0,$D654=7),SUMIFS('likvid terv'!$J:$J,'likvid terv'!$A:$A,project_eves_terv!B654,'likvid terv'!$R:$R,project_eves_terv!$E654),AND($B654<>0,$D654=8),SUMIFS('likvid terv'!$K:$K,'likvid terv'!$A:$A,project_eves_terv!B654,'likvid terv'!$R:$R,project_eves_terv!$E654),AND($B654<>0,$D654=9),SUMIFS('likvid terv'!$L:$L,'likvid terv'!$A:$A,project_eves_terv!B654,'likvid terv'!$R:$R,project_eves_terv!$E654),AND($B654<>0,$D654=10),SUMIFS('likvid terv'!$M:$M,'likvid terv'!$A:$A,project_eves_terv!B654,'likvid terv'!$R:$R,project_eves_terv!$E654),AND($B654<>0,$D654=11),SUMIFS('likvid terv'!$N:$N,'likvid terv'!$A:$A,project_eves_terv!B654,'likvid terv'!$R:$R,project_eves_terv!$E654),AND($B654<>0,$D654=12),SUMIFS('likvid terv'!$O:$O,'likvid terv'!$A:$A,project_eves_terv!B654,'likvid terv'!$R:$R,project_eves_terv!$E654),$B654=0,0)} -> 0 | G654: ='likvid terv'!$B$2 -> 0
A655: ='likvid terv'!$B$1 -> 0 | B655: ='likvid terv'!$B$91 -> 0 | C655: 2027 | D655: 6 | E655: 8 | F655: {=_xlfn.IFS(AND($B655<>0,$D655=1),SUMIFS('likvid terv'!$D:$D,'likvid terv'!$A:$A,project_eves_terv!B655,'likvid terv'!$R:$R,project_eves_terv!$E655),AND($B655<>0,$D655=2),SUMIFS('likvid terv'!$E:$E,'likvid terv'!$A:$A,project_eves_terv!B655,'likvid terv'!$R:$R,project_eves_terv!$E655),AND($B655<>0,$D655=3),SUMIFS('likvid terv'!$F:$F,'likvid terv'!$A:$A,project_eves_terv!B655,'likvid terv'!$R:$R,project_eves_terv!$E655),AND($B655<>0,$D655=4),SUMIFS('likvid terv'!$G:$G,'likvid terv'!$A:$A,project_eves_terv!B655,'likvid terv'!$R:$R,project_eves_terv!$E655),AND($B655<>0,$D655=5),SUMIFS('likvid terv'!$H:$H,'likvid terv'!$A:$A,project_eves_terv!B655,'likvid terv'!$R:$R,project_eves_terv!$E655),AND($B655<>0,$D655=6),SUMIFS('likvid terv'!$I:$I,'likvid terv'!$A:$A,project_eves_terv!B655,'likvid terv'!$R:$R,project_eves_terv!$E655),AND($B655<>0,$D655=7),SUMIFS('likvid terv'!$J:$J,'likvid terv'!$A:$A,project_eves_terv!B655,'likvid terv'!$R:$R,project_eves_terv!$E655),AND($B655<>0,$D655=8),SUMIFS('likvid terv'!$K:$K,'likvid terv'!$A:$A,project_eves_terv!B655,'likvid terv'!$R:$R,project_eves_terv!$E655),AND($B655<>0,$D655=9),SUMIFS('likvid terv'!$L:$L,'likvid terv'!$A:$A,project_eves_terv!B655,'likvid terv'!$R:$R,project_eves_terv!$E655),AND($B655<>0,$D655=10),SUMIFS('likvid terv'!$M:$M,'likvid terv'!$A:$A,project_eves_terv!B655,'likvid terv'!$R:$R,project_eves_terv!$E655),AND($B655<>0,$D655=11),SUMIFS('likvid terv'!$N:$N,'likvid terv'!$A:$A,project_eves_terv!B655,'likvid terv'!$R:$R,project_eves_terv!$E655),AND($B655<>0,$D655=12),SUMIFS('likvid terv'!$O:$O,'likvid terv'!$A:$A,project_eves_terv!B655,'likvid terv'!$R:$R,project_eves_terv!$E655),$B655=0,0)} -> 0 | G655: ='likvid terv'!$B$2 -> 0
A656: ='likvid terv'!$B$1 -> 0 | B656: ='likvid terv'!$B$91 -> 0 | C656: 2027 | D656: 7 | E656: 8 | F656: {=_xlfn.IFS(AND($B656<>0,$D656=1),SUMIFS('likvid terv'!$D:$D,'likvid terv'!$A:$A,project_eves_terv!B656,'likvid terv'!$R:$R,project_eves_terv!$E656),AND($B656<>0,$D656=2),SUMIFS('likvid terv'!$E:$E,'likvid terv'!$A:$A,project_eves_terv!B656,'likvid terv'!$R:$R,project_eves_terv!$E656),AND($B656<>0,$D656=3),SUMIFS('likvid terv'!$F:$F,'likvid terv'!$A:$A,project_eves_terv!B656,'likvid terv'!$R:$R,project_eves_terv!$E656),AND($B656<>0,$D656=4),SUMIFS('likvid terv'!$G:$G,'likvid terv'!$A:$A,project_eves_terv!B656,'likvid terv'!$R:$R,project_eves_terv!$E656),AND($B656<>0,$D656=5),SUMIFS('likvid terv'!$H:$H,'likvid terv'!$A:$A,project_eves_terv!B656,'likvid terv'!$R:$R,project_eves_terv!$E656),AND($B656<>0,$D656=6),SUMIFS('likvid terv'!$I:$I,'likvid terv'!$A:$A,project_eves_terv!B656,'likvid terv'!$R:$R,project_eves_terv!$E656),AND($B656<>0,$D656=7),SUMIFS('likvid terv'!$J:$J,'likvid terv'!$A:$A,project_eves_terv!B656,'likvid terv'!$R:$R,project_eves_terv!$E656),AND($B656<>0,$D656=8),SUMIFS('likvid terv'!$K:$K,'likvid terv'!$A:$A,project_eves_terv!B656,'likvid terv'!$R:$R,project_eves_terv!$E656),AND($B656<>0,$D656=9),SUMIFS('likvid terv'!$L:$L,'likvid terv'!$A:$A,project_eves_terv!B656,'likvid terv'!$R:$R,project_eves_terv!$E656),AND($B656<>0,$D656=10),SUMIFS('likvid terv'!$M:$M,'likvid terv'!$A:$A,project_eves_terv!B656,'likvid terv'!$R:$R,project_eves_terv!$E656),AND($B656<>0,$D656=11),SUMIFS('likvid terv'!$N:$N,'likvid terv'!$A:$A,project_eves_terv!B656,'likvid terv'!$R:$R,project_eves_terv!$E656),AND($B656<>0,$D656=12),SUMIFS('likvid terv'!$O:$O,'likvid terv'!$A:$A,project_eves_terv!B656,'likvid terv'!$R:$R,project_eves_terv!$E656),$B656=0,0)} -> 0 | G656: ='likvid terv'!$B$2 -> 0
A657: ='likvid terv'!$B$1 -> 0 | B657: ='likvid terv'!$B$91 -> 0 | C657: 2027 | D657: 8 | E657: 8 | F657: {=_xlfn.IFS(AND($B657<>0,$D657=1),SUMIFS('likvid terv'!$D:$D,'likvid terv'!$A:$A,project_eves_terv!B657,'likvid terv'!$R:$R,project_eves_terv!$E657),AND($B657<>0,$D657=2),SUMIFS('likvid terv'!$E:$E,'likvid terv'!$A:$A,project_eves_terv!B657,'likvid terv'!$R:$R,project_eves_terv!$E657),AND($B657<>0,$D657=3),SUMIFS('likvid terv'!$F:$F,'likvid terv'!$A:$A,project_eves_terv!B657,'likvid terv'!$R:$R,project_eves_terv!$E657),AND($B657<>0,$D657=4),SUMIFS('likvid terv'!$G:$G,'likvid terv'!$A:$A,project_eves_terv!B657,'likvid terv'!$R:$R,project_eves_terv!$E657),AND($B657<>0,$D657=5),SUMIFS('likvid terv'!$H:$H,'likvid terv'!$A:$A,project_eves_terv!B657,'likvid terv'!$R:$R,project_eves_terv!$E657),AND($B657<>0,$D657=6),SUMIFS('likvid terv'!$I:$I,'likvid terv'!$A:$A,project_eves_terv!B657,'likvid terv'!$R:$R,project_eves_terv!$E657),AND($B657<>0,$D657=7),SUMIFS('likvid terv'!$J:$J,'likvid terv'!$A:$A,project_eves_terv!B657,'likvid terv'!$R:$R,project_eves_terv!$E657),AND($B657<>0,$D657=8),SUMIFS('likvid terv'!$K:$K,'likvid terv'!$A:$A,project_eves_terv!B657,'likvid terv'!$R:$R,project_eves_terv!$E657),AND($B657<>0,$D657=9),SUMIFS('likvid terv'!$L:$L,'likvid terv'!$A:$A,project_eves_terv!B657,'likvid terv'!$R:$R,project_eves_terv!$E657),AND($B657<>0,$D657=10),SUMIFS('likvid terv'!$M:$M,'likvid terv'!$A:$A,project_eves_terv!B657,'likvid terv'!$R:$R,project_eves_terv!$E657),AND($B657<>0,$D657=11),SUMIFS('likvid terv'!$N:$N,'likvid terv'!$A:$A,project_eves_terv!B657,'likvid terv'!$R:$R,project_eves_terv!$E657),AND($B657<>0,$D657=12),SUMIFS('likvid terv'!$O:$O,'likvid terv'!$A:$A,project_eves_terv!B657,'likvid terv'!$R:$R,project_eves_terv!$E657),$B657=0,0)} -> 0 | G657: ='likvid terv'!$B$2 -> 0
A658: ='likvid terv'!$B$1 -> 0 | B658: ='likvid terv'!$B$91 -> 0 | C658: 2027 | D658: 9 | E658: 8 | F658: {=_xlfn.IFS(AND($B658<>0,$D658=1),SUMIFS('likvid terv'!$D:$D,'likvid terv'!$A:$A,project_eves_terv!B658,'likvid terv'!$R:$R,project_eves_terv!$E658),AND($B658<>0,$D658=2),SUMIFS('likvid terv'!$E:$E,'likvid terv'!$A:$A,project_eves_terv!B658,'likvid terv'!$R:$R,project_eves_terv!$E658),AND($B658<>0,$D658=3),SUMIFS('likvid terv'!$F:$F,'likvid terv'!$A:$A,project_eves_terv!B658,'likvid terv'!$R:$R,project_eves_terv!$E658),AND($B658<>0,$D658=4),SUMIFS('likvid terv'!$G:$G,'likvid terv'!$A:$A,project_eves_terv!B658,'likvid terv'!$R:$R,project_eves_terv!$E658),AND($B658<>0,$D658=5),SUMIFS('likvid terv'!$H:$H,'likvid terv'!$A:$A,project_eves_terv!B658,'likvid terv'!$R:$R,project_eves_terv!$E658),AND($B658<>0,$D658=6),SUMIFS('likvid terv'!$I:$I,'likvid terv'!$A:$A,project_eves_terv!B658,'likvid terv'!$R:$R,project_eves_terv!$E658),AND($B658<>0,$D658=7),SUMIFS('likvid terv'!$J:$J,'likvid terv'!$A:$A,project_eves_terv!B658,'likvid terv'!$R:$R,project_eves_terv!$E658),AND($B658<>0,$D658=8),SUMIFS('likvid terv'!$K:$K,'likvid terv'!$A:$A,project_eves_terv!B658,'likvid terv'!$R:$R,project_eves_terv!$E658),AND($B658<>0,$D658=9),SUMIFS('likvid terv'!$L:$L,'likvid terv'!$A:$A,project_eves_terv!B658,'likvid terv'!$R:$R,project_eves_terv!$E658),AND($B658<>0,$D658=10),SUMIFS('likvid terv'!$M:$M,'likvid terv'!$A:$A,project_eves_terv!B658,'likvid terv'!$R:$R,project_eves_terv!$E658),AND($B658<>0,$D658=11),SUMIFS('likvid terv'!$N:$N,'likvid terv'!$A:$A,project_eves_terv!B658,'likvid terv'!$R:$R,project_eves_terv!$E658),AND($B658<>0,$D658=12),SUMIFS('likvid terv'!$O:$O,'likvid terv'!$A:$A,project_eves_terv!B658,'likvid terv'!$R:$R,project_eves_terv!$E658),$B658=0,0)} -> 0 | G658: ='likvid terv'!$B$2 -> 0
A659: ='likvid terv'!$B$1 -> 0 | B659: ='likvid terv'!$B$91 -> 0 | C659: 2027 | D659: 10 | E659: 8 | F659: {=_xlfn.IFS(AND($B659<>0,$D659=1),SUMIFS('likvid terv'!$D:$D,'likvid terv'!$A:$A,project_eves_terv!B659,'likvid terv'!$R:$R,project_eves_terv!$E659),AND($B659<>0,$D659=2),SUMIFS('likvid terv'!$E:$E,'likvid terv'!$A:$A,project_eves_terv!B659,'likvid terv'!$R:$R,project_eves_terv!$E659),AND($B659<>0,$D659=3),SUMIFS('likvid terv'!$F:$F,'likvid terv'!$A:$A,project_eves_terv!B659,'likvid terv'!$R:$R,project_eves_terv!$E659),AND($B659<>0,$D659=4),SUMIFS('likvid terv'!$G:$G,'likvid terv'!$A:$A,project_eves_terv!B659,'likvid terv'!$R:$R,project_eves_terv!$E659),AND($B659<>0,$D659=5),SUMIFS('likvid terv'!$H:$H,'likvid terv'!$A:$A,project_eves_terv!B659,'likvid terv'!$R:$R,project_eves_terv!$E659),AND($B659<>0,$D659=6),SUMIFS('likvid terv'!$I:$I,'likvid terv'!$A:$A,project_eves_terv!B659,'likvid terv'!$R:$R,project_eves_terv!$E659),AND($B659<>0,$D659=7),SUMIFS('likvid terv'!$J:$J,'likvid terv'!$A:$A,project_eves_terv!B659,'likvid terv'!$R:$R,project_eves_terv!$E659),AND($B659<>0,$D659=8),SUMIFS('likvid terv'!$K:$K,'likvid terv'!$A:$A,project_eves_terv!B659,'likvid terv'!$R:$R,project_eves_terv!$E659),AND($B659<>0,$D659=9),SUMIFS('likvid terv'!$L:$L,'likvid terv'!$A:$A,project_eves_terv!B659,'likvid terv'!$R:$R,project_eves_terv!$E659),AND($B659<>0,$D659=10),SUMIFS('likvid terv'!$M:$M,'likvid terv'!$A:$A,project_eves_terv!B659,'likvid terv'!$R:$R,project_eves_terv!$E659),AND($B659<>0,$D659=11),SUMIFS('likvid terv'!$N:$N,'likvid terv'!$A:$A,project_eves_terv!B659,'likvid terv'!$R:$R,project_eves_terv!$E659),AND($B659<>0,$D659=12),SUMIFS('likvid terv'!$O:$O,'likvid terv'!$A:$A,project_eves_terv!B659,'likvid terv'!$R:$R,project_eves_terv!$E659),$B659=0,0)} -> 0 | G659: ='likvid terv'!$B$2 -> 0
A660: ='likvid terv'!$B$1 -> 0 | B660: ='likvid terv'!$B$91 -> 0 | C660: 2027 | D660: 11 | E660: 8 | F660: {=_xlfn.IFS(AND($B660<>0,$D660=1),SUMIFS('likvid terv'!$D:$D,'likvid terv'!$A:$A,project_eves_terv!B660,'likvid terv'!$R:$R,project_eves_terv!$E660),AND($B660<>0,$D660=2),SUMIFS('likvid terv'!$E:$E,'likvid terv'!$A:$A,project_eves_terv!B660,'likvid terv'!$R:$R,project_eves_terv!$E660),AND($B660<>0,$D660=3),SUMIFS('likvid terv'!$F:$F,'likvid terv'!$A:$A,project_eves_terv!B660,'likvid terv'!$R:$R,project_eves_terv!$E660),AND($B660<>0,$D660=4),SUMIFS('likvid terv'!$G:$G,'likvid terv'!$A:$A,project_eves_terv!B660,'likvid terv'!$R:$R,project_eves_terv!$E660),AND($B660<>0,$D660=5),SUMIFS('likvid terv'!$H:$H,'likvid terv'!$A:$A,project_eves_terv!B660,'likvid terv'!$R:$R,project_eves_terv!$E660),AND($B660<>0,$D660=6),SUMIFS('likvid terv'!$I:$I,'likvid terv'!$A:$A,project_eves_terv!B660,'likvid terv'!$R:$R,project_eves_terv!$E660),AND($B660<>0,$D660=7),SUMIFS('likvid terv'!$J:$J,'likvid terv'!$A:$A,project_eves_terv!B660,'likvid terv'!$R:$R,project_eves_terv!$E660),AND($B660<>0,$D660=8),SUMIFS('likvid terv'!$K:$K,'likvid terv'!$A:$A,project_eves_terv!B660,'likvid terv'!$R:$R,project_eves_terv!$E660),AND($B660<>0,$D660=9),SUMIFS('likvid terv'!$L:$L,'likvid terv'!$A:$A,project_eves_terv!B660,'likvid terv'!$R:$R,project_eves_terv!$E660),AND($B660<>0,$D660=10),SUMIFS('likvid terv'!$M:$M,'likvid terv'!$A:$A,project_eves_terv!B660,'likvid terv'!$R:$R,project_eves_terv!$E660),AND($B660<>0,$D660=11),SUMIFS('likvid terv'!$N:$N,'likvid terv'!$A:$A,project_eves_terv!B660,'likvid terv'!$R:$R,project_eves_terv!$E660),AND($B660<>0,$D660=12),SUMIFS('likvid terv'!$O:$O,'likvid terv'!$A:$A,project_eves_terv!B660,'likvid terv'!$R:$R,project_eves_terv!$E660),$B660=0,0)} -> 0 | G660: ='likvid terv'!$B$2 -> 0
A661: ='likvid terv'!$B$1 -> 0 | B661: ='likvid terv'!$B$91 -> 0 | C661: 2027 | D661: 12 | E661: 8 | F661: {=_xlfn.IFS(AND($B661<>0,$D661=1),SUMIFS('likvid terv'!$D:$D,'likvid terv'!$A:$A,project_eves_terv!B661,'likvid terv'!$R:$R,project_eves_terv!$E661),AND($B661<>0,$D661=2),SUMIFS('likvid terv'!$E:$E,'likvid terv'!$A:$A,project_eves_terv!B661,'likvid terv'!$R:$R,project_eves_terv!$E661),AND($B661<>0,$D661=3),SUMIFS('likvid terv'!$F:$F,'likvid terv'!$A:$A,project_eves_terv!B661,'likvid terv'!$R:$R,project_eves_terv!$E661),AND($B661<>0,$D661=4),SUMIFS('likvid terv'!$G:$G,'likvid terv'!$A:$A,project_eves_terv!B661,'likvid terv'!$R:$R,project_eves_terv!$E661),AND($B661<>0,$D661=5),SUMIFS('likvid terv'!$H:$H,'likvid terv'!$A:$A,project_eves_terv!B661,'likvid terv'!$R:$R,project_eves_terv!$E661),AND($B661<>0,$D661=6),SUMIFS('likvid terv'!$I:$I,'likvid terv'!$A:$A,project_eves_terv!B661,'likvid terv'!$R:$R,project_eves_terv!$E661),AND($B661<>0,$D661=7),SUMIFS('likvid terv'!$J:$J,'likvid terv'!$A:$A,project_eves_terv!B661,'likvid terv'!$R:$R,project_eves_terv!$E661),AND($B661<>0,$D661=8),SUMIFS('likvid terv'!$K:$K,'likvid terv'!$A:$A,project_eves_terv!B661,'likvid terv'!$R:$R,project_eves_terv!$E661),AND($B661<>0,$D661=9),SUMIFS('likvid terv'!$L:$L,'likvid terv'!$A:$A,project_eves_terv!B661,'likvid terv'!$R:$R,project_eves_terv!$E661),AND($B661<>0,$D661=10),SUMIFS('likvid terv'!$M:$M,'likvid terv'!$A:$A,project_eves_terv!B661,'likvid terv'!$R:$R,project_eves_terv!$E661),AND($B661<>0,$D661=11),SUMIFS('likvid terv'!$N:$N,'likvid terv'!$A:$A,project_eves_terv!B661,'likvid terv'!$R:$R,project_eves_terv!$E661),AND($B661<>0,$D661=12),SUMIFS('likvid terv'!$O:$O,'likvid terv'!$A:$A,project_eves_terv!B661,'likvid terv'!$R:$R,project_eves_terv!$E661),$B661=0,0)} -> 0 | G661: ='likvid terv'!$B$2 -> 0
... A973: ='likvid terv'!$B$1 -> 0 | B973: ='likvid terv'!$B$91 -> 0 | C973: 2027 | D973: 12 | E973: 27 | F973: {=_xlfn.IFS(AND($B973<>0,$D973=1),SUMIFS('likvid terv'!$D:$D,'likvid terv'!$A:$A,project_eves_terv!B973,'likvid terv'!$R:$R,project_eves_terv!$E973),AND($B973<>0,$D973=2),SUMIFS('likvid terv'!$E:$E,'likvid terv'!$A:$A,project_eves_terv!B973,'likvid terv'!$R:$R,project_eves_terv!$E973),AND($B973<>0,$D973=3),SUMIFS('likvid terv'!$F:$F,'likvid terv'!$A:$A,project_eves_terv!B973,'likvid terv'!$R:$R,project_eves_terv!$E973),AND($B973<>0,$D973=4),SUMIFS('likvid terv'!$G:$G,'likvid terv'!$A:$A,project_eves_terv!B973,'likvid terv'!$R:$R,project_eves_terv!$E973),AND($B973<>0,$D973=5),SUMIFS('likvid terv'!$H:$H,'likvid terv'!$A:$A,project_eves_terv!B973,'likvid terv'!$R:$R,project_eves_terv!$E973),AND($B973<>0,$D973=6),SUMIFS('likvid terv'!$I:$I,'likvid terv'!$A:$A,project_eves_terv!B973,'likvid terv'!$R:$R,project_eves_terv!$E973),AND($B973<>0,$D973=7),SUMIFS('likvid terv'!$J:$J,'likvid terv'!$A:$A,project_eves_terv!B973,'likvid terv'!$R:$R,project_eves_terv!$E973),AND($B973<>0,$D973=8),SUMIFS('likvid terv'!$K:$K,'likvid terv'!$A:$A,project_eves_terv!B973,'likvid terv'!$R:$R,project_eves_terv!$E973),AND($B973<>0,$D973=9),SUMIFS('likvid terv'!$L:$L,'likvid terv'!$A:$A,project_eves_terv!B973,'likvid terv'!$R:$R,project_eves_terv!$E973),AND($B973<>0,$D973=10),SUMIFS('likvid terv'!$M:$M,'likvid terv'!$A:$A,project_eves_terv!B973,'likvid terv'!$R:$R,project_eves_terv!$E973),AND($B973<>0,$D973=11),SUMIFS('likvid terv'!$N:$N,'likvid terv'!$A:$A,project_eves_terv!B973,'likvid terv'!$R:$R,project_eves_terv!$E973),AND($B973<>0,$D973=12),SUMIFS('likvid terv'!$O:$O,'likvid terv'!$A:$A,project_eves_terv!B973,'likvid terv'!$R:$R,project_eves_terv!$E973),$B973=0,0)} -> 0 | G973: ='likvid terv'!$B$2 -> 0
A974: ='likvid terv'!$B$1 -> 0 | B974: ='likvid terv'!$B$120 -> 0 | C974: 2027 | D974: 1 | E974: 8 | F974: {=_xlfn.IFS(AND($B974<>0,$D974=1),SUMIFS('likvid terv'!$D:$D,'likvid terv'!$A:$A,project_eves_terv!B974,'likvid terv'!$R:$R,project_eves_terv!$E974),AND($B974<>0,$D974=2),SUMIFS('likvid terv'!$E:$E,'likvid terv'!$A:$A,project_eves_terv!B974,'likvid terv'!$R:$R,project_eves_terv!$E974),AND($B974<>0,$D974=3),SUMIFS('likvid terv'!$F:$F,'likvid terv'!$A:$A,project_eves_terv!B974,'likvid terv'!$R:$R,project_eves_terv!$E974),AND($B974<>0,$D974=4),SUMIFS('likvid terv'!$G:$G,'likvid terv'!$A:$A,project_eves_terv!B974,'likvid terv'!$R:$R,project_eves_terv!$E974),AND($B974<>0,$D974=5),SUMIFS('likvid terv'!$H:$H,'likvid terv'!$A:$A,project_eves_terv!B974,'likvid terv'!$R:$R,project_eves_terv!$E974),AND($B974<>0,$D974=6),SUMIFS('likvid terv'!$I:$I,'likvid terv'!$A:$A,project_eves_terv!B974,'likvid terv'!$R:$R,project_eves_terv!$E974),AND($B974<>0,$D974=7),SUMIFS('likvid terv'!$J:$J,'likvid terv'!$A:$A,project_eves_terv!B974,'likvid terv'!$R:$R,project_eves_terv!$E974),AND($B974<>0,$D974=8),SUMIFS('likvid terv'!$K:$K,'likvid terv'!$A:$A,project_eves_terv!B974,'likvid terv'!$R:$R,project_eves_terv!$E974),AND($B974<>0,$D974=9),SUMIFS('likvid terv'!$L:$L,'likvid terv'!$A:$A,project_eves_terv!B974,'likvid terv'!$R:$R,project_eves_terv!$E974),AND($B974<>0,$D974=10),SUMIFS('likvid terv'!$M:$M,'likvid terv'!$A:$A,project_eves_terv!B974,'likvid terv'!$R:$R,project_eves_terv!$E974),AND($B974<>0,$D974=11),SUMIFS('likvid terv'!$N:$N,'likvid terv'!$A:$A,project_eves_terv!B974,'likvid terv'!$R:$R,project_eves_terv!$E974),AND($B974<>0,$D974=12),SUMIFS('likvid terv'!$O:$O,'likvid terv'!$A:$A,project_eves_terv!B974,'likvid terv'!$R:$R,project_eves_terv!$E974),$B974=0,0)} -> 0 | G974: ='likvid terv'!$B$2 -> 0
A975: ='likvid terv'!$B$1 -> 0 | B975: ='likvid terv'!$B$120 -> 0 | C975: 2027 | D975: 2 | E975: 8 | F975: {=_xlfn.IFS(AND($B975<>0,$D975=1),SUMIFS('likvid terv'!$D:$D,'likvid terv'!$A:$A,project_eves_terv!B975,'likvid terv'!$R:$R,project_eves_terv!$E975),AND($B975<>0,$D975=2),SUMIFS('likvid terv'!$E:$E,'likvid terv'!$A:$A,project_eves_terv!B975,'likvid terv'!$R:$R,project_eves_terv!$E975),AND($B975<>0,$D975=3),SUMIFS('likvid terv'!$F:$F,'likvid terv'!$A:$A,project_eves_terv!B975,'likvid terv'!$R:$R,project_eves_terv!$E975),AND($B975<>0,$D975=4),SUMIFS('likvid terv'!$G:$G,'likvid terv'!$A:$A,project_eves_terv!B975,'likvid terv'!$R:$R,project_eves_terv!$E975),AND($B975<>0,$D975=5),SUMIFS('likvid terv'!$H:$H,'likvid terv'!$A:$A,project_eves_terv!B975,'likvid terv'!$R:$R,project_eves_terv!$E975),AND($B975<>0,$D975=6),SUMIFS('likvid terv'!$I:$I,'likvid terv'!$A:$A,project_eves_terv!B975,'likvid terv'!$R:$R,project_eves_terv!$E975),AND($B975<>0,$D975=7),SUMIFS('likvid terv'!$J:$J,'likvid terv'!$A:$A,project_eves_terv!B975,'likvid terv'!$R:$R,project_eves_terv!$E975),AND($B975<>0,$D975=8),SUMIFS('likvid terv'!$K:$K,'likvid terv'!$A:$A,project_eves_terv!B975,'likvid terv'!$R:$R,project_eves_terv!$E975),AND($B975<>0,$D975=9),SUMIFS('likvid terv'!$L:$L,'likvid terv'!$A:$A,project_eves_terv!B975,'likvid terv'!$R:$R,project_eves_terv!$E975),AND($B975<>0,$D975=10),SUMIFS('likvid terv'!$M:$M,'likvid terv'!$A:$A,project_eves_terv!B975,'likvid terv'!$R:$R,project_eves_terv!$E975),AND($B975<>0,$D975=11),SUMIFS('likvid terv'!$N:$N,'likvid terv'!$A:$A,project_eves_terv!B975,'likvid terv'!$R:$R,project_eves_terv!$E975),AND($B975<>0,$D975=12),SUMIFS('likvid terv'!$O:$O,'likvid terv'!$A:$A,project_eves_terv!B975,'likvid terv'!$R:$R,project_eves_terv!$E975),$B975=0,0)} -> 0 | G975: ='likvid terv'!$B$2 -> 0
A976: ='likvid terv'!$B$1 -> 0 | B976: ='likvid terv'!$B$120 -> 0 | C976: 2027 | D976: 3 | E976: 8 | F976: {=_xlfn.IFS(AND($B976<>0,$D976=1),SUMIFS('likvid terv'!$D:$D,'likvid terv'!$A:$A,project_eves_terv!B976,'likvid terv'!$R:$R,project_eves_terv!$E976),AND($B976<>0,$D976=2),SUMIFS('likvid terv'!$E:$E,'likvid terv'!$A:$A,project_eves_terv!B976,'likvid terv'!$R:$R,project_eves_terv!$E976),AND($B976<>0,$D976=3),SUMIFS('likvid terv'!$F:$F,'likvid terv'!$A:$A,project_eves_terv!B976,'likvid terv'!$R:$R,project_eves_terv!$E976),AND($B976<>0,$D976=4),SUMIFS('likvid terv'!$G:$G,'likvid terv'!$A:$A,project_eves_terv!B976,'likvid terv'!$R:$R,project_eves_terv!$E976),AND($B976<>0,$D976=5),SUMIFS('likvid terv'!$H:$H,'likvid terv'!$A:$A,project_eves_terv!B976,'likvid terv'!$R:$R,project_eves_terv!$E976),AND($B976<>0,$D976=6),SUMIFS('likvid terv'!$I:$I,'likvid terv'!$A:$A,project_eves_terv!B976,'likvid terv'!$R:$R,project_eves_terv!$E976),AND($B976<>0,$D976=7),SUMIFS('likvid terv'!$J:$J,'likvid terv'!$A:$A,project_eves_terv!B976,'likvid terv'!$R:$R,project_eves_terv!$E976),AND($B976<>0,$D976=8),SUMIFS('likvid terv'!$K:$K,'likvid terv'!$A:$A,project_eves_terv!B976,'likvid terv'!$R:$R,project_eves_terv!$E976),AND($B976<>0,$D976=9),SUMIFS('likvid terv'!$L:$L,'likvid terv'!$A:$A,project_eves_terv!B976,'likvid terv'!$R:$R,project_eves_terv!$E976),AND($B976<>0,$D976=10),SUMIFS('likvid terv'!$M:$M,'likvid terv'!$A:$A,project_eves_terv!B976,'likvid terv'!$R:$R,project_eves_terv!$E976),AND($B976<>0,$D976=11),SUMIFS('likvid terv'!$N:$N,'likvid terv'!$A:$A,project_eves_terv!B976,'likvid terv'!$R:$R,project_eves_terv!$E976),AND($B976<>0,$D976=12),SUMIFS('likvid terv'!$O:$O,'likvid terv'!$A:$A,project_eves_terv!B976,'likvid terv'!$R:$R,project_eves_terv!$E976),$B976=0,0)} -> 0 | G976: ='likvid terv'!$B$2 -> 0
A977: ='likvid terv'!$B$1 -> 0 | B977: ='likvid terv'!$B$120 -> 0 | C977: 2027 | D977: 4 | E977: 8 | F977: {=_xlfn.IFS(AND($B977<>0,$D977=1),SUMIFS('likvid terv'!$D:$D,'likvid terv'!$A:$A,project_eves_terv!B977,'likvid terv'!$R:$R,project_eves_terv!$E977),AND($B977<>0,$D977=2),SUMIFS('likvid terv'!$E:$E,'likvid terv'!$A:$A,project_eves_terv!B977,'likvid terv'!$R:$R,project_eves_terv!$E977),AND($B977<>0,$D977=3),SUMIFS('likvid terv'!$F:$F,'likvid terv'!$A:$A,project_eves_terv!B977,'likvid terv'!$R:$R,project_eves_terv!$E977),AND($B977<>0,$D977=4),SUMIFS('likvid terv'!$G:$G,'likvid terv'!$A:$A,project_eves_terv!B977,'likvid terv'!$R:$R,project_eves_terv!$E977),AND($B977<>0,$D977=5),SUMIFS('likvid terv'!$H:$H,'likvid terv'!$A:$A,project_eves_terv!B977,'likvid terv'!$R:$R,project_eves_terv!$E977),AND($B977<>0,$D977=6),SUMIFS('likvid terv'!$I:$I,'likvid terv'!$A:$A,project_eves_terv!B977,'likvid terv'!$R:$R,project_eves_terv!$E977),AND($B977<>0,$D977=7),SUMIFS('likvid terv'!$J:$J,'likvid terv'!$A:$A,project_eves_terv!B977,'likvid terv'!$R:$R,project_eves_terv!$E977),AND($B977<>0,$D977=8),SUMIFS('likvid terv'!$K:$K,'likvid terv'!$A:$A,project_eves_terv!B977,'likvid terv'!$R:$R,project_eves_terv!$E977),AND($B977<>0,$D977=9),SUMIFS('likvid terv'!$L:$L,'likvid terv'!$A:$A,project_eves_terv!B977,'likvid terv'!$R:$R,project_eves_terv!$E977),AND($B977<>0,$D977=10),SUMIFS('likvid terv'!$M:$M,'likvid terv'!$A:$A,project_eves_terv!B977,'likvid terv'!$R:$R,project_eves_terv!$E977),AND($B977<>0,$D977=11),SUMIFS('likvid terv'!$N:$N,'likvid terv'!$A:$A,project_eves_terv!B977,'likvid terv'!$R:$R,project_eves_terv!$E977),AND($B977<>0,$D977=12),SUMIFS('likvid terv'!$O:$O,'likvid terv'!$A:$A,project_eves_terv!B977,'likvid terv'!$R:$R,project_eves_terv!$E977),$B977=0,0)} -> 0 | G977: ='likvid terv'!$B$2 -> 0
A978: ='likvid terv'!$B$1 -> 0 | B978: ='likvid terv'!$B$120 -> 0 | C978: 2027 | D978: 5 | E978: 8 | F978: {=_xlfn.IFS(AND($B978<>0,$D978=1),SUMIFS('likvid terv'!$D:$D,'likvid terv'!$A:$A,project_eves_terv!B978,'likvid terv'!$R:$R,project_eves_terv!$E978),AND($B978<>0,$D978=2),SUMIFS('likvid terv'!$E:$E,'likvid terv'!$A:$A,project_eves_terv!B978,'likvid terv'!$R:$R,project_eves_terv!$E978),AND($B978<>0,$D978=3),SUMIFS('likvid terv'!$F:$F,'likvid terv'!$A:$A,project_eves_terv!B978,'likvid terv'!$R:$R,project_eves_terv!$E978),AND($B978<>0,$D978=4),SUMIFS('likvid terv'!$G:$G,'likvid terv'!$A:$A,project_eves_terv!B978,'likvid terv'!$R:$R,project_eves_terv!$E978),AND($B978<>0,$D978=5),SUMIFS('likvid terv'!$H:$H,'likvid terv'!$A:$A,project_eves_terv!B978,'likvid terv'!$R:$R,project_eves_terv!$E978),AND($B978<>0,$D978=6),SUMIFS('likvid terv'!$I:$I,'likvid terv'!$A:$A,project_eves_terv!B978,'likvid terv'!$R:$R,project_eves_terv!$E978),AND($B978<>0,$D978=7),SUMIFS('likvid terv'!$J:$J,'likvid terv'!$A:$A,project_eves_terv!B978,'likvid terv'!$R:$R,project_eves_terv!$E978),AND($B978<>0,$D978=8),SUMIFS('likvid terv'!$K:$K,'likvid terv'!$A:$A,project_eves_terv!B978,'likvid terv'!$R:$R,project_eves_terv!$E978),AND($B978<>0,$D978=9),SUMIFS('likvid terv'!$L:$L,'likvid terv'!$A:$A,project_eves_terv!B978,'likvid terv'!$R:$R,project_eves_terv!$E978),AND($B978<>0,$D978=10),SUMIFS('likvid terv'!$M:$M,'likvid terv'!$A:$A,project_eves_terv!B978,'likvid terv'!$R:$R,project_eves_terv!$E978),AND($B978<>0,$D978=11),SUMIFS('likvid terv'!$N:$N,'likvid terv'!$A:$A,project_eves_terv!B978,'likvid terv'!$R:$R,project_eves_terv!$E978),AND($B978<>0,$D978=12),SUMIFS('likvid terv'!$O:$O,'likvid terv'!$A:$A,project_eves_terv!B978,'likvid terv'!$R:$R,project_eves_terv!$E978),$B978=0,0)} -> 0 | G978: ='likvid terv'!$B$2 -> 0
A979: ='likvid terv'!$B$1 -> 0 | B979: ='likvid terv'!$B$120 -> 0 | C979: 2027 | D979: 6 | E979: 8 | F979: {=_xlfn.IFS(AND($B979<>0,$D979=1),SUMIFS('likvid terv'!$D:$D,'likvid terv'!$A:$A,project_eves_terv!B979,'likvid terv'!$R:$R,project_eves_terv!$E979),AND($B979<>0,$D979=2),SUMIFS('likvid terv'!$E:$E,'likvid terv'!$A:$A,project_eves_terv!B979,'likvid terv'!$R:$R,project_eves_terv!$E979),AND($B979<>0,$D979=3),SUMIFS('likvid terv'!$F:$F,'likvid terv'!$A:$A,project_eves_terv!B979,'likvid terv'!$R:$R,project_eves_terv!$E979),AND($B979<>0,$D979=4),SUMIFS('likvid terv'!$G:$G,'likvid terv'!$A:$A,project_eves_terv!B979,'likvid terv'!$R:$R,project_eves_terv!$E979),AND($B979<>0,$D979=5),SUMIFS('likvid terv'!$H:$H,'likvid terv'!$A:$A,project_eves_terv!B979,'likvid terv'!$R:$R,project_eves_terv!$E979),AND($B979<>0,$D979=6),SUMIFS('likvid terv'!$I:$I,'likvid terv'!$A:$A,project_eves_terv!B979,'likvid terv'!$R:$R,project_eves_terv!$E979),AND($B979<>0,$D979=7),SUMIFS('likvid terv'!$J:$J,'likvid terv'!$A:$A,project_eves_terv!B979,'likvid terv'!$R:$R,project_eves_terv!$E979),AND($B979<>0,$D979=8),SUMIFS('likvid terv'!$K:$K,'likvid terv'!$A:$A,project_eves_terv!B979,'likvid terv'!$R:$R,project_eves_terv!$E979),AND($B979<>0,$D979=9),SUMIFS('likvid terv'!$L:$L,'likvid terv'!$A:$A,project_eves_terv!B979,'likvid terv'!$R:$R,project_eves_terv!$E979),AND($B979<>0,$D979=10),SUMIFS('likvid terv'!$M:$M,'likvid terv'!$A:$A,project_eves_terv!B979,'likvid terv'!$R:$R,project_eves_terv!$E979),AND($B979<>0,$D979=11),SUMIFS('likvid terv'!$N:$N,'likvid terv'!$A:$A,project_eves_terv!B979,'likvid terv'!$R:$R,project_eves_terv!$E979),AND($B979<>0,$D979=12),SUMIFS('likvid terv'!$O:$O,'likvid terv'!$A:$A,project_eves_terv!B979,'likvid terv'!$R:$R,project_eves_terv!$E979),$B979=0,0)} -> 0 | G979: ='likvid terv'!$B$2 -> 0
A980: ='likvid terv'!$B$1 -> 0 | B980: ='likvid terv'!$B$120 -> 0 | C980: 2027 | D980: 7 | E980: 8 | F980: {=_xlfn.IFS(AND($B980<>0,$D980=1),SUMIFS('likvid terv'!$D:$D,'likvid terv'!$A:$A,project_eves_terv!B980,'likvid terv'!$R:$R,project_eves_terv!$E980),AND($B980<>0,$D980=2),SUMIFS('likvid terv'!$E:$E,'likvid terv'!$A:$A,project_eves_terv!B980,'likvid terv'!$R:$R,project_eves_terv!$E980),AND($B980<>0,$D980=3),SUMIFS('likvid terv'!$F:$F,'likvid terv'!$A:$A,project_eves_terv!B980,'likvid terv'!$R:$R,project_eves_terv!$E980),AND($B980<>0,$D980=4),SUMIFS('likvid terv'!$G:$G,'likvid terv'!$A:$A,project_eves_terv!B980,'likvid terv'!$R:$R,project_eves_terv!$E980),AND($B980<>0,$D980=5),SUMIFS('likvid terv'!$H:$H,'likvid terv'!$A:$A,project_eves_terv!B980,'likvid terv'!$R:$R,project_eves_terv!$E980),AND($B980<>0,$D980=6),SUMIFS('likvid terv'!$I:$I,'likvid terv'!$A:$A,project_eves_terv!B980,'likvid terv'!$R:$R,project_eves_terv!$E980),AND($B980<>0,$D980=7),SUMIFS('likvid terv'!$J:$J,'likvid terv'!$A:$A,project_eves_terv!B980,'likvid terv'!$R:$R,project_eves_terv!$E980),AND($B980<>0,$D980=8),SUMIFS('likvid terv'!$K:$K,'likvid terv'!$A:$A,project_eves_terv!B980,'likvid terv'!$R:$R,project_eves_terv!$E980),AND($B980<>0,$D980=9),SUMIFS('likvid terv'!$L:$L,'likvid terv'!$A:$A,project_eves_terv!B980,'likvid terv'!$R:$R,project_eves_terv!$E980),AND($B980<>0,$D980=10),SUMIFS('likvid terv'!$M:$M,'likvid terv'!$A:$A,project_eves_terv!B980,'likvid terv'!$R:$R,project_eves_terv!$E980),AND($B980<>0,$D980=11),SUMIFS('likvid terv'!$N:$N,'likvid terv'!$A:$A,project_eves_terv!B980,'likvid terv'!$R:$R,project_eves_terv!$E980),AND($B980<>0,$D980=12),SUMIFS('likvid terv'!$O:$O,'likvid terv'!$A:$A,project_eves_terv!B980,'likvid terv'!$R:$R,project_eves_terv!$E980),$B980=0,0)} -> 0 | G980: ='likvid terv'!$B$2 -> 0
A981: ='likvid terv'!$B$1 -> 0 | B981: ='likvid terv'!$B$120 -> 0 | C981: 2027 | D981: 8 | E981: 8 | F981: {=_xlfn.IFS(AND($B981<>0,$D981=1),SUMIFS('likvid terv'!$D:$D,'likvid terv'!$A:$A,project_eves_terv!B981,'likvid terv'!$R:$R,project_eves_terv!$E981),AND($B981<>0,$D981=2),SUMIFS('likvid terv'!$E:$E,'likvid terv'!$A:$A,project_eves_terv!B981,'likvid terv'!$R:$R,project_eves_terv!$E981),AND($B981<>0,$D981=3),SUMIFS('likvid terv'!$F:$F,'likvid terv'!$A:$A,project_eves_terv!B981,'likvid terv'!$R:$R,project_eves_terv!$E981),AND($B981<>0,$D981=4),SUMIFS('likvid terv'!$G:$G,'likvid terv'!$A:$A,project_eves_terv!B981,'likvid terv'!$R:$R,project_eves_terv!$E981),AND($B981<>0,$D981=5),SUMIFS('likvid terv'!$H:$H,'likvid terv'!$A:$A,project_eves_terv!B981,'likvid terv'!$R:$R,project_eves_terv!$E981),AND($B981<>0,$D981=6),SUMIFS('likvid terv'!$I:$I,'likvid terv'!$A:$A,project_eves_terv!B981,'likvid terv'!$R:$R,project_eves_terv!$E981),AND($B981<>0,$D981=7),SUMIFS('likvid terv'!$J:$J,'likvid terv'!$A:$A,project_eves_terv!B981,'likvid terv'!$R:$R,project_eves_terv!$E981),AND($B981<>0,$D981=8),SUMIFS('likvid terv'!$K:$K,'likvid terv'!$A:$A,project_eves_terv!B981,'likvid terv'!$R:$R,project_eves_terv!$E981),AND($B981<>0,$D981=9),SUMIFS('likvid terv'!$L:$L,'likvid terv'!$A:$A,project_eves_terv!B981,'likvid terv'!$R:$R,project_eves_terv!$E981),AND($B981<>0,$D981=10),SUMIFS('likvid terv'!$M:$M,'likvid terv'!$A:$A,project_eves_terv!B981,'likvid terv'!$R:$R,project_eves_terv!$E981),AND($B981<>0,$D981=11),SUMIFS('likvid terv'!$N:$N,'likvid terv'!$A:$A,project_eves_terv!B981,'likvid terv'!$R:$R,project_eves_terv!$E981),AND($B981<>0,$D981=12),SUMIFS('likvid terv'!$O:$O,'likvid terv'!$A:$A,project_eves_terv!B981,'likvid terv'!$R:$R,project_eves_terv!$E981),$B981=0,0)} -> 0 | G981: ='likvid terv'!$B$2 -> 0
A982: ='likvid terv'!$B$1 -> 0 | B982: ='likvid terv'!$B$120 -> 0 | C982: 2027 | D982: 9 | E982: 8 | F982: {=_xlfn.IFS(AND($B982<>0,$D982=1),SUMIFS('likvid terv'!$D:$D,'likvid terv'!$A:$A,project_eves_terv!B982,'likvid terv'!$R:$R,project_eves_terv!$E982),AND($B982<>0,$D982=2),SUMIFS('likvid terv'!$E:$E,'likvid terv'!$A:$A,project_eves_terv!B982,'likvid terv'!$R:$R,project_eves_terv!$E982),AND($B982<>0,$D982=3),SUMIFS('likvid terv'!$F:$F,'likvid terv'!$A:$A,project_eves_terv!B982,'likvid terv'!$R:$R,project_eves_terv!$E982),AND($B982<>0,$D982=4),SUMIFS('likvid terv'!$G:$G,'likvid terv'!$A:$A,project_eves_terv!B982,'likvid terv'!$R:$R,project_eves_terv!$E982),AND($B982<>0,$D982=5),SUMIFS('likvid terv'!$H:$H,'likvid terv'!$A:$A,project_eves_terv!B982,'likvid terv'!$R:$R,project_eves_terv!$E982),AND($B982<>0,$D982=6),SUMIFS('likvid terv'!$I:$I,'likvid terv'!$A:$A,project_eves_terv!B982,'likvid terv'!$R:$R,project_eves_terv!$E982),AND($B982<>0,$D982=7),SUMIFS('likvid terv'!$J:$J,'likvid terv'!$A:$A,project_eves_terv!B982,'likvid terv'!$R:$R,project_eves_terv!$E982),AND($B982<>0,$D982=8),SUMIFS('likvid terv'!$K:$K,'likvid terv'!$A:$A,project_eves_terv!B982,'likvid terv'!$R:$R,project_eves_terv!$E982),AND($B982<>0,$D982=9),SUMIFS('likvid terv'!$L:$L,'likvid terv'!$A:$A,project_eves_terv!B982,'likvid terv'!$R:$R,project_eves_terv!$E982),AND($B982<>0,$D982=10),SUMIFS('likvid terv'!$M:$M,'likvid terv'!$A:$A,project_eves_terv!B982,'likvid terv'!$R:$R,project_eves_terv!$E982),AND($B982<>0,$D982=11),SUMIFS('likvid terv'!$N:$N,'likvid terv'!$A:$A,project_eves_terv!B982,'likvid terv'!$R:$R,project_eves_terv!$E982),AND($B982<>0,$D982=12),SUMIFS('likvid terv'!$O:$O,'likvid terv'!$A:$A,project_eves_terv!B982,'likvid terv'!$R:$R,project_eves_terv!$E982),$B982=0,0)} -> 0 | G982: ='likvid terv'!$B$2 -> 0
A983: ='likvid terv'!$B$1 -> 0 | B983: ='likvid terv'!$B$120 -> 0 | C983: 2027 | D983: 10 | E983: 8 | F983: {=_xlfn.IFS(AND($B983<>0,$D983=1),SUMIFS('likvid terv'!$D:$D,'likvid terv'!$A:$A,project_eves_terv!B983,'likvid terv'!$R:$R,project_eves_terv!$E983),AND($B983<>0,$D983=2),SUMIFS('likvid terv'!$E:$E,'likvid terv'!$A:$A,project_eves_terv!B983,'likvid terv'!$R:$R,project_eves_terv!$E983),AND($B983<>0,$D983=3),SUMIFS('likvid terv'!$F:$F,'likvid terv'!$A:$A,project_eves_terv!B983,'likvid terv'!$R:$R,project_eves_terv!$E983),AND($B983<>0,$D983=4),SUMIFS('likvid terv'!$G:$G,'likvid terv'!$A:$A,project_eves_terv!B983,'likvid terv'!$R:$R,project_eves_terv!$E983),AND($B983<>0,$D983=5),SUMIFS('likvid terv'!$H:$H,'likvid terv'!$A:$A,project_eves_terv!B983,'likvid terv'!$R:$R,project_eves_terv!$E983),AND($B983<>0,$D983=6),SUMIFS('likvid terv'!$I:$I,'likvid terv'!$A:$A,project_eves_terv!B983,'likvid terv'!$R:$R,project_eves_terv!$E983),AND($B983<>0,$D983=7),SUMIFS('likvid terv'!$J:$J,'likvid terv'!$A:$A,project_eves_terv!B983,'likvid terv'!$R:$R,project_eves_terv!$E983),AND($B983<>0,$D983=8),SUMIFS('likvid terv'!$K:$K,'likvid terv'!$A:$A,project_eves_terv!B983,'likvid terv'!$R:$R,project_eves_terv!$E983),AND($B983<>0,$D983=9),SUMIFS('likvid terv'!$L:$L,'likvid terv'!$A:$A,project_eves_terv!B983,'likvid terv'!$R:$R,project_eves_terv!$E983),AND($B983<>0,$D983=10),SUMIFS('likvid terv'!$M:$M,'likvid terv'!$A:$A,project_eves_terv!B983,'likvid terv'!$R:$R,project_eves_terv!$E983),AND($B983<>0,$D983=11),SUMIFS('likvid terv'!$N:$N,'likvid terv'!$A:$A,project_eves_terv!B983,'likvid terv'!$R:$R,project_eves_terv!$E983),AND($B983<>0,$D983=12),SUMIFS('likvid terv'!$O:$O,'likvid terv'!$A:$A,project_eves_terv!B983,'likvid terv'!$R:$R,project_eves_terv!$E983),$B983=0,0)} -> 0 | G983: ='likvid terv'!$B$2 -> 0
A984: ='likvid terv'!$B$1 -> 0 | B984: ='likvid terv'!$B$120 -> 0 | C984: 2027 | D984: 11 | E984: 8 | F984: {=_xlfn.IFS(AND($B984<>0,$D984=1),SUMIFS('likvid terv'!$D:$D,'likvid terv'!$A:$A,project_eves_terv!B984,'likvid terv'!$R:$R,project_eves_terv!$E984),AND($B984<>0,$D984=2),SUMIFS('likvid terv'!$E:$E,'likvid terv'!$A:$A,project_eves_terv!B984,'likvid terv'!$R:$R,project_eves_terv!$E984),AND($B984<>0,$D984=3),SUMIFS('likvid terv'!$F:$F,'likvid terv'!$A:$A,project_eves_terv!B984,'likvid terv'!$R:$R,project_eves_terv!$E984),AND($B984<>0,$D984=4),SUMIFS('likvid terv'!$G:$G,'likvid terv'!$A:$A,project_eves_terv!B984,'likvid terv'!$R:$R,project_eves_terv!$E984),AND($B984<>0,$D984=5),SUMIFS('likvid terv'!$H:$H,'likvid terv'!$A:$A,project_eves_terv!B984,'likvid terv'!$R:$R,project_eves_terv!$E984),AND($B984<>0,$D984=6),SUMIFS('likvid terv'!$I:$I,'likvid terv'!$A:$A,project_eves_terv!B984,'likvid terv'!$R:$R,project_eves_terv!$E984),AND($B984<>0,$D984=7),SUMIFS('likvid terv'!$J:$J,'likvid terv'!$A:$A,project_eves_terv!B984,'likvid terv'!$R:$R,project_eves_terv!$E984),AND($B984<>0,$D984=8),SUMIFS('likvid terv'!$K:$K,'likvid terv'!$A:$A,project_eves_terv!B984,'likvid terv'!$R:$R,project_eves_terv!$E984),AND($B984<>0,$D984=9),SUMIFS('likvid terv'!$L:$L,'likvid terv'!$A:$A,project_eves_terv!B984,'likvid terv'!$R:$R,project_eves_terv!$E984),AND($B984<>0,$D984=10),SUMIFS('likvid terv'!$M:$M,'likvid terv'!$A:$A,project_eves_terv!B984,'likvid terv'!$R:$R,project_eves_terv!$E984),AND($B984<>0,$D984=11),SUMIFS('likvid terv'!$N:$N,'likvid terv'!$A:$A,project_eves_terv!B984,'likvid terv'!$R:$R,project_eves_terv!$E984),AND($B984<>0,$D984=12),SUMIFS('likvid terv'!$O:$O,'likvid terv'!$A:$A,project_eves_terv!B984,'likvid terv'!$R:$R,project_eves_terv!$E984),$B984=0,0)} -> 0 | G984: ='likvid terv'!$B$2 -> 0
A985: ='likvid terv'!$B$1 -> 0 | B985: ='likvid terv'!$B$120 -> 0 | C985: 2027 | D985: 12 | E985: 8 | F985: {=_xlfn.IFS(AND($B985<>0,$D985=1),SUMIFS('likvid terv'!$D:$D,'likvid terv'!$A:$A,project_eves_terv!B985,'likvid terv'!$R:$R,project_eves_terv!$E985),AND($B985<>0,$D985=2),SUMIFS('likvid terv'!$E:$E,'likvid terv'!$A:$A,project_eves_terv!B985,'likvid terv'!$R:$R,project_eves_terv!$E985),AND($B985<>0,$D985=3),SUMIFS('likvid terv'!$F:$F,'likvid terv'!$A:$A,project_eves_terv!B985,'likvid terv'!$R:$R,project_eves_terv!$E985),AND($B985<>0,$D985=4),SUMIFS('likvid terv'!$G:$G,'likvid terv'!$A:$A,project_eves_terv!B985,'likvid terv'!$R:$R,project_eves_terv!$E985),AND($B985<>0,$D985=5),SUMIFS('likvid terv'!$H:$H,'likvid terv'!$A:$A,project_eves_terv!B985,'likvid terv'!$R:$R,project_eves_terv!$E985),AND($B985<>0,$D985=6),SUMIFS('likvid terv'!$I:$I,'likvid terv'!$A:$A,project_eves_terv!B985,'likvid terv'!$R:$R,project_eves_terv!$E985),AND($B985<>0,$D985=7),SUMIFS('likvid terv'!$J:$J,'likvid terv'!$A:$A,project_eves_terv!B985,'likvid terv'!$R:$R,project_eves_terv!$E985),AND($B985<>0,$D985=8),SUMIFS('likvid terv'!$K:$K,'likvid terv'!$A:$A,project_eves_terv!B985,'likvid terv'!$R:$R,project_eves_terv!$E985),AND($B985<>0,$D985=9),SUMIFS('likvid terv'!$L:$L,'likvid terv'!$A:$A,project_eves_terv!B985,'likvid terv'!$R:$R,project_eves_terv!$E985),AND($B985<>0,$D985=10),SUMIFS('likvid terv'!$M:$M,'likvid terv'!$A:$A,project_eves_terv!B985,'likvid terv'!$R:$R,project_eves_terv!$E985),AND($B985<>0,$D985=11),SUMIFS('likvid terv'!$N:$N,'likvid terv'!$A:$A,project_eves_terv!B985,'likvid terv'!$R:$R,project_eves_terv!$E985),AND($B985<>0,$D985=12),SUMIFS('likvid terv'!$O:$O,'likvid terv'!$A:$A,project_eves_terv!B985,'likvid terv'!$R:$R,project_eves_terv!$E985),$B985=0,0)} -> 0 | G985: ='likvid terv'!$B$2 -> 0
... A1297: ='likvid terv'!$B$1 -> 0 | B1297: ='likvid terv'!$B$120 -> 0 | C1297: 2027 | D1297: 12 | E1297: 27 | F1297: {=_xlfn.IFS(AND($B1297<>0,$D1297=1),SUMIFS('likvid terv'!$D:$D,'likvid terv'!$A:$A,project_eves_terv!B1297,'likvid terv'!$R:$R,project_eves_terv!$E1297),AND($B1297<>0,$D1297=2),SUMIFS('likvid terv'!$E:$E,'likvid terv'!$A:$A,project_eves_terv!B1297,'likvid terv'!$R:$R,project_eves_terv!$E1297),AND($B1297<>0,$D1297=3),SUMIFS('likvid terv'!$F:$F,'likvid terv'!$A:$A,project_eves_terv!B1297,'likvid terv'!$R:$R,project_eves_terv!$E1297),AND($B1297<>0,$D1297=4),SUMIFS('likvid terv'!$G:$G,'likvid terv'!$A:$A,project_eves_terv!B1297,'likvid terv'!$R:$R,project_eves_terv!$E1297),AND($B1297<>0,$D1297=5),SUMIFS('likvid terv'!$H:$H,'likvid terv'!$A:$A,project_eves_terv!B1297,'likvid terv'!$R:$R,project_eves_terv!$E1297),AND($B1297<>0,$D1297=6),SUMIFS('likvid terv'!$I:$I,'likvid terv'!$A:$A,project_eves_terv!B1297,'likvid terv'!$R:$R,project_eves_terv!$E1297),AND($B1297<>0,$D1297=7),SUMIFS('likvid terv'!$J:$J,'likvid terv'!$A:$A,project_eves_terv!B1297,'likvid terv'!$R:$R,project_eves_terv!$E1297),AND($B1297<>0,$D1297=8),SUMIFS('likvid terv'!$K:$K,'likvid terv'!$A:$A,project_eves_terv!B1297,'likvid terv'!$R:$R,project_eves_terv!$E1297),AND($B1297<>0,$D1297=9),SUMIFS('likvid terv'!$L:$L,'likvid terv'!$A:$A,project_eves_terv!B1297,'likvid terv'!$R:$R,project_eves_terv!$E1297),AND($B1297<>0,$D1297=10),SUMIFS('likvid terv'!$M:$M,'likvid terv'!$A:$A,project_eves_terv!B1297,'likvid terv'!$R:$R,project_eves_terv!$E1297),AND($B1297<>0,$D1297=11),SUMIFS('likvid terv'!$N:$N,'likvid terv'!$A:$A,project_eves_terv!B1297,'likvid terv'!$R:$R,project_eves_terv!$E1297),AND($B1297<>0,$D1297=12),SUMIFS('likvid terv'!$O:$O,'likvid terv'!$A:$A,project_eves_terv!B1297,'likvid terv'!$R:$R,project_eves_terv!$E1297),$B1297=0,0)} -> 0 | G1297: ='likvid terv'!$B$2 -> 0
A1298: ='likvid terv'!$B$1 -> 0 | B1298: ='likvid terv'!$B$149 -> 0 | C1298: 2027 | D1298: 1 | E1298: 8 | F1298: {=_xlfn.IFS(AND($B1298<>0,$D1298=1),SUMIFS('likvid terv'!$D:$D,'likvid terv'!$A:$A,project_eves_terv!B1298,'likvid terv'!$R:$R,project_eves_terv!$E1298),AND($B1298<>0,$D1298=2),SUMIFS('likvid terv'!$E:$E,'likvid terv'!$A:$A,project_eves_terv!B1298,'likvid terv'!$R:$R,project_eves_terv!$E1298),AND($B1298<>0,$D1298=3),SUMIFS('likvid terv'!$F:$F,'likvid terv'!$A:$A,project_eves_terv!B1298,'likvid terv'!$R:$R,project_eves_terv!$E1298),AND($B1298<>0,$D1298=4),SUMIFS('likvid terv'!$G:$G,'likvid terv'!$A:$A,project_eves_terv!B1298,'likvid terv'!$R:$R,project_eves_terv!$E1298),AND($B1298<>0,$D1298=5),SUMIFS('likvid terv'!$H:$H,'likvid terv'!$A:$A,project_eves_terv!B1298,'likvid terv'!$R:$R,project_eves_terv!$E1298),AND($B1298<>0,$D1298=6),SUMIFS('likvid terv'!$I:$I,'likvid terv'!$A:$A,project_eves_terv!B1298,'likvid terv'!$R:$R,project_eves_terv!$E1298),AND($B1298<>0,$D1298=7),SUMIFS('likvid terv'!$J:$J,'likvid terv'!$A:$A,project_eves_terv!B1298,'likvid terv'!$R:$R,project_eves_terv!$E1298),AND($B1298<>0,$D1298=8),SUMIFS('likvid terv'!$K:$K,'likvid terv'!$A:$A,project_eves_terv!B1298,'likvid terv'!$R:$R,project_eves_terv!$E1298),AND($B1298<>0,$D1298=9),SUMIFS('likvid terv'!$L:$L,'likvid terv'!$A:$A,project_eves_terv!B1298,'likvid terv'!$R:$R,project_eves_terv!$E1298),AND($B1298<>0,$D1298=10),SUMIFS('likvid terv'!$M:$M,'likvid terv'!$A:$A,project_eves_terv!B1298,'likvid terv'!$R:$R,project_eves_terv!$E1298),AND($B1298<>0,$D1298=11),SUMIFS('likvid terv'!$N:$N,'likvid terv'!$A:$A,project_eves_terv!B1298,'likvid terv'!$R:$R,project_eves_terv!$E1298),AND($B1298<>0,$D1298=12),SUMIFS('likvid terv'!$O:$O,'likvid terv'!$A:$A,project_eves_terv!B1298,'likvid terv'!$R:$R,project_eves_terv!$E1298),$B1298=0,0)} -> 0 | G1298: ='likvid terv'!$B$2 -> 0
A1299: ='likvid terv'!$B$1 -> 0 | B1299: ='likvid terv'!$B$149 -> 0 | C1299: 2027 | D1299: 2 | E1299: 8 | F1299: {=_xlfn.IFS(AND($B1299<>0,$D1299=1),SUMIFS('likvid terv'!$D:$D,'likvid terv'!$A:$A,project_eves_terv!B1299,'likvid terv'!$R:$R,project_eves_terv!$E1299),AND($B1299<>0,$D1299=2),SUMIFS('likvid terv'!$E:$E,'likvid terv'!$A:$A,project_eves_terv!B1299,'likvid terv'!$R:$R,project_eves_terv!$E1299),AND($B1299<>0,$D1299=3),SUMIFS('likvid terv'!$F:$F,'likvid terv'!$A:$A,project_eves_terv!B1299,'likvid terv'!$R:$R,project_eves_terv!$E1299),AND($B1299<>0,$D1299=4),SUMIFS('likvid terv'!$G:$G,'likvid terv'!$A:$A,project_eves_terv!B1299,'likvid terv'!$R:$R,project_eves_terv!$E1299),AND($B1299<>0,$D1299=5),SUMIFS('likvid terv'!$H:$H,'likvid terv'!$A:$A,project_eves_terv!B1299,'likvid terv'!$R:$R,project_eves_terv!$E1299),AND($B1299<>0,$D1299=6),SUMIFS('likvid terv'!$I:$I,'likvid terv'!$A:$A,project_eves_terv!B1299,'likvid terv'!$R:$R,project_eves_terv!$E1299),AND($B1299<>0,$D1299=7),SUMIFS('likvid terv'!$J:$J,'likvid terv'!$A:$A,project_eves_terv!B1299,'likvid terv'!$R:$R,project_eves_terv!$E1299),AND($B1299<>0,$D1299=8),SUMIFS('likvid terv'!$K:$K,'likvid terv'!$A:$A,project_eves_terv!B1299,'likvid terv'!$R:$R,project_eves_terv!$E1299),AND($B1299<>0,$D1299=9),SUMIFS('likvid terv'!$L:$L,'likvid terv'!$A:$A,project_eves_terv!B1299,'likvid terv'!$R:$R,project_eves_terv!$E1299),AND($B1299<>0,$D1299=10),SUMIFS('likvid terv'!$M:$M,'likvid terv'!$A:$A,project_eves_terv!B1299,'likvid terv'!$R:$R,project_eves_terv!$E1299),AND($B1299<>0,$D1299=11),SUMIFS('likvid terv'!$N:$N,'likvid terv'!$A:$A,project_eves_terv!B1299,'likvid terv'!$R:$R,project_eves_terv!$E1299),AND($B1299<>0,$D1299=12),SUMIFS('likvid terv'!$O:$O,'likvid terv'!$A:$A,project_eves_terv!B1299,'likvid terv'!$R:$R,project_eves_terv!$E1299),$B1299=0,0)} -> 0 | G1299: ='likvid terv'!$B$2 -> 0
A1300: ='likvid terv'!$B$1 -> 0 | B1300: ='likvid terv'!$B$149 -> 0 | C1300: 2027 | D1300: 3 | E1300: 8 | F1300: {=_xlfn.IFS(AND($B1300<>0,$D1300=1),SUMIFS('likvid terv'!$D:$D,'likvid terv'!$A:$A,project_eves_terv!B1300,'likvid terv'!$R:$R,project_eves_terv!$E1300),AND($B1300<>0,$D1300=2),SUMIFS('likvid terv'!$E:$E,'likvid terv'!$A:$A,project_eves_terv!B1300,'likvid terv'!$R:$R,project_eves_terv!$E1300),AND($B1300<>0,$D1300=3),SUMIFS('likvid terv'!$F:$F,'likvid terv'!$A:$A,project_eves_terv!B1300,'likvid terv'!$R:$R,project_eves_terv!$E1300),AND($B1300<>0,$D1300=4),SUMIFS('likvid terv'!$G:$G,'likvid terv'!$A:$A,project_eves_terv!B1300,'likvid terv'!$R:$R,project_eves_terv!$E1300),AND($B1300<>0,$D1300=5),SUMIFS('likvid terv'!$H:$H,'likvid terv'!$A:$A,project_eves_terv!B1300,'likvid terv'!$R:$R,project_eves_terv!$E1300),AND($B1300<>0,$D1300=6),SUMIFS('likvid terv'!$I:$I,'likvid terv'!$A:$A,project_eves_terv!B1300,'likvid terv'!$R:$R,project_eves_terv!$E1300),AND($B1300<>0,$D1300=7),SUMIFS('likvid terv'!$J:$J,'likvid terv'!$A:$A,project_eves_terv!B1300,'likvid terv'!$R:$R,project_eves_terv!$E1300),AND($B1300<>0,$D1300=8),SUMIFS('likvid terv'!$K:$K,'likvid terv'!$A:$A,project_eves_terv!B1300,'likvid terv'!$R:$R,project_eves_terv!$E1300),AND($B1300<>0,$D1300=9),SUMIFS('likvid terv'!$L:$L,'likvid terv'!$A:$A,project_eves_terv!B1300,'likvid terv'!$R:$R,project_eves_terv!$E1300),AND($B1300<>0,$D1300=10),SUMIFS('likvid terv'!$M:$M,'likvid terv'!$A:$A,project_eves_terv!B1300,'likvid terv'!$R:$R,project_eves_terv!$E1300),AND($B1300<>0,$D1300=11),SUMIFS('likvid terv'!$N:$N,'likvid terv'!$A:$A,project_eves_terv!B1300,'likvid terv'!$R:$R,project_eves_terv!$E1300),AND($B1300<>0,$D1300=12),SUMIFS('likvid terv'!$O:$O,'likvid terv'!$A:$A,project_eves_terv!B1300,'likvid terv'!$R:$R,project_eves_terv!$E1300),$B1300=0,0)} -> 0 | G1300: ='likvid terv'!$B$2 -> 0
A1301: ='likvid terv'!$B$1 -> 0 | B1301: ='likvid terv'!$B$149 -> 0 | C1301: 2027 | D1301: 4 | E1301: 8 | F1301: {=_xlfn.IFS(AND($B1301<>0,$D1301=1),SUMIFS('likvid terv'!$D:$D,'likvid terv'!$A:$A,project_eves_terv!B1301,'likvid terv'!$R:$R,project_eves_terv!$E1301),AND($B1301<>0,$D1301=2),SUMIFS('likvid terv'!$E:$E,'likvid terv'!$A:$A,project_eves_terv!B1301,'likvid terv'!$R:$R,project_eves_terv!$E1301),AND($B1301<>0,$D1301=3),SUMIFS('likvid terv'!$F:$F,'likvid terv'!$A:$A,project_eves_terv!B1301,'likvid terv'!$R:$R,project_eves_terv!$E1301),AND($B1301<>0,$D1301=4),SUMIFS('likvid terv'!$G:$G,'likvid terv'!$A:$A,project_eves_terv!B1301,'likvid terv'!$R:$R,project_eves_terv!$E1301),AND($B1301<>0,$D1301=5),SUMIFS('likvid terv'!$H:$H,'likvid terv'!$A:$A,project_eves_terv!B1301,'likvid terv'!$R:$R,project_eves_terv!$E1301),AND($B1301<>0,$D1301=6),SUMIFS('likvid terv'!$I:$I,'likvid terv'!$A:$A,project_eves_terv!B1301,'likvid terv'!$R:$R,project_eves_terv!$E1301),AND($B1301<>0,$D1301=7),SUMIFS('likvid terv'!$J:$J,'likvid terv'!$A:$A,project_eves_terv!B1301,'likvid terv'!$R:$R,project_eves_terv!$E1301),AND($B1301<>0,$D1301=8),SUMIFS('likvid terv'!$K:$K,'likvid terv'!$A:$A,project_eves_terv!B1301,'likvid terv'!$R:$R,project_eves_terv!$E1301),AND($B1301<>0,$D1301=9),SUMIFS('likvid terv'!$L:$L,'likvid terv'!$A:$A,project_eves_terv!B1301,'likvid terv'!$R:$R,project_eves_terv!$E1301),AND($B1301<>0,$D1301=10),SUMIFS('likvid terv'!$M:$M,'likvid terv'!$A:$A,project_eves_terv!B1301,'likvid terv'!$R:$R,project_eves_terv!$E1301),AND($B1301<>0,$D1301=11),SUMIFS('likvid terv'!$N:$N,'likvid terv'!$A:$A,project_eves_terv!B1301,'likvid terv'!$R:$R,project_eves_terv!$E1301),AND($B1301<>0,$D1301=12),SUMIFS('likvid terv'!$O:$O,'likvid terv'!$A:$A,project_eves_terv!B1301,'likvid terv'!$R:$R,project_eves_terv!$E1301),$B1301=0,0)} -> 0 | G1301: ='likvid terv'!$B$2 -> 0
A1302: ='likvid terv'!$B$1 -> 0 | B1302: ='likvid terv'!$B$149 -> 0 | C1302: 2027 | D1302: 5 | E1302: 8 | F1302: {=_xlfn.IFS(AND($B1302<>0,$D1302=1),SUMIFS('likvid terv'!$D:$D,'likvid terv'!$A:$A,project_eves_terv!B1302,'likvid terv'!$R:$R,project_eves_terv!$E1302),AND($B1302<>0,$D1302=2),SUMIFS('likvid terv'!$E:$E,'likvid terv'!$A:$A,project_eves_terv!B1302,'likvid terv'!$R:$R,project_eves_terv!$E1302),AND($B1302<>0,$D1302=3),SUMIFS('likvid terv'!$F:$F,'likvid terv'!$A:$A,project_eves_terv!B1302,'likvid terv'!$R:$R,project_eves_terv!$E1302),AND($B1302<>0,$D1302=4),SUMIFS('likvid terv'!$G:$G,'likvid terv'!$A:$A,project_eves_terv!B1302,'likvid terv'!$R:$R,project_eves_terv!$E1302),AND($B1302<>0,$D1302=5),SUMIFS('likvid terv'!$H:$H,'likvid terv'!$A:$A,project_eves_terv!B1302,'likvid terv'!$R:$R,project_eves_terv!$E1302),AND($B1302<>0,$D1302=6),SUMIFS('likvid terv'!$I:$I,'likvid terv'!$A:$A,project_eves_terv!B1302,'likvid terv'!$R:$R,project_eves_terv!$E1302),AND($B1302<>0,$D1302=7),SUMIFS('likvid terv'!$J:$J,'likvid terv'!$A:$A,project_eves_terv!B1302,'likvid terv'!$R:$R,project_eves_terv!$E1302),AND($B1302<>0,$D1302=8),SUMIFS('likvid terv'!$K:$K,'likvid terv'!$A:$A,project_eves_terv!B1302,'likvid terv'!$R:$R,project_eves_terv!$E1302),AND($B1302<>0,$D1302=9),SUMIFS('likvid terv'!$L:$L,'likvid terv'!$A:$A,project_eves_terv!B1302,'likvid terv'!$R:$R,project_eves_terv!$E1302),AND($B1302<>0,$D1302=10),SUMIFS('likvid terv'!$M:$M,'likvid terv'!$A:$A,project_eves_terv!B1302,'likvid terv'!$R:$R,project_eves_terv!$E1302),AND($B1302<>0,$D1302=11),SUMIFS('likvid terv'!$N:$N,'likvid terv'!$A:$A,project_eves_terv!B1302,'likvid terv'!$R:$R,project_eves_terv!$E1302),AND($B1302<>0,$D1302=12),SUMIFS('likvid terv'!$O:$O,'likvid terv'!$A:$A,project_eves_terv!B1302,'likvid terv'!$R:$R,project_eves_terv!$E1302),$B1302=0,0)} -> 0 | G1302: ='likvid terv'!$B$2 -> 0
A1303: ='likvid terv'!$B$1 -> 0 | B1303: ='likvid terv'!$B$149 -> 0 | C1303: 2027 | D1303: 6 | E1303: 8 | F1303: {=_xlfn.IFS(AND($B1303<>0,$D1303=1),SUMIFS('likvid terv'!$D:$D,'likvid terv'!$A:$A,project_eves_terv!B1303,'likvid terv'!$R:$R,project_eves_terv!$E1303),AND($B1303<>0,$D1303=2),SUMIFS('likvid terv'!$E:$E,'likvid terv'!$A:$A,project_eves_terv!B1303,'likvid terv'!$R:$R,project_eves_terv!$E1303),AND($B1303<>0,$D1303=3),SUMIFS('likvid terv'!$F:$F,'likvid terv'!$A:$A,project_eves_terv!B1303,'likvid terv'!$R:$R,project_eves_terv!$E1303),AND($B1303<>0,$D1303=4),SUMIFS('likvid terv'!$G:$G,'likvid terv'!$A:$A,project_eves_terv!B1303,'likvid terv'!$R:$R,project_eves_terv!$E1303),AND($B1303<>0,$D1303=5),SUMIFS('likvid terv'!$H:$H,'likvid terv'!$A:$A,project_eves_terv!B1303,'likvid terv'!$R:$R,project_eves_terv!$E1303),AND($B1303<>0,$D1303=6),SUMIFS('likvid terv'!$I:$I,'likvid terv'!$A:$A,project_eves_terv!B1303,'likvid terv'!$R:$R,project_eves_terv!$E1303),AND($B1303<>0,$D1303=7),SUMIFS('likvid terv'!$J:$J,'likvid terv'!$A:$A,project_eves_terv!B1303,'likvid terv'!$R:$R,project_eves_terv!$E1303),AND($B1303<>0,$D1303=8),SUMIFS('likvid terv'!$K:$K,'likvid terv'!$A:$A,project_eves_terv!B1303,'likvid terv'!$R:$R,project_eves_terv!$E1303),AND($B1303<>0,$D1303=9),SUMIFS('likvid terv'!$L:$L,'likvid terv'!$A:$A,project_eves_terv!B1303,'likvid terv'!$R:$R,project_eves_terv!$E1303),AND($B1303<>0,$D1303=10),SUMIFS('likvid terv'!$M:$M,'likvid terv'!$A:$A,project_eves_terv!B1303,'likvid terv'!$R:$R,project_eves_terv!$E1303),AND($B1303<>0,$D1303=11),SUMIFS('likvid terv'!$N:$N,'likvid terv'!$A:$A,project_eves_terv!B1303,'likvid terv'!$R:$R,project_eves_terv!$E1303),AND($B1303<>0,$D1303=12),SUMIFS('likvid terv'!$O:$O,'likvid terv'!$A:$A,project_eves_terv!B1303,'likvid terv'!$R:$R,project_eves_terv!$E1303),$B1303=0,0)} -> 0 | G1303: ='likvid terv'!$B$2 -> 0
A1304: ='likvid terv'!$B$1 -> 0 | B1304: ='likvid terv'!$B$149 -> 0 | C1304: 2027 | D1304: 7 | E1304: 8 | F1304: {=_xlfn.IFS(AND($B1304<>0,$D1304=1),SUMIFS('likvid terv'!$D:$D,'likvid terv'!$A:$A,project_eves_terv!B1304,'likvid terv'!$R:$R,project_eves_terv!$E1304),AND($B1304<>0,$D1304=2),SUMIFS('likvid terv'!$E:$E,'likvid terv'!$A:$A,project_eves_terv!B1304,'likvid terv'!$R:$R,project_eves_terv!$E1304),AND($B1304<>0,$D1304=3),SUMIFS('likvid terv'!$F:$F,'likvid terv'!$A:$A,project_eves_terv!B1304,'likvid terv'!$R:$R,project_eves_terv!$E1304),AND($B1304<>0,$D1304=4),SUMIFS('likvid terv'!$G:$G,'likvid terv'!$A:$A,project_eves_terv!B1304,'likvid terv'!$R:$R,project_eves_terv!$E1304),AND($B1304<>0,$D1304=5),SUMIFS('likvid terv'!$H:$H,'likvid terv'!$A:$A,project_eves_terv!B1304,'likvid terv'!$R:$R,project_eves_terv!$E1304),AND($B1304<>0,$D1304=6),SUMIFS('likvid terv'!$I:$I,'likvid terv'!$A:$A,project_eves_terv!B1304,'likvid terv'!$R:$R,project_eves_terv!$E1304),AND($B1304<>0,$D1304=7),SUMIFS('likvid terv'!$J:$J,'likvid terv'!$A:$A,project_eves_terv!B1304,'likvid terv'!$R:$R,project_eves_terv!$E1304),AND($B1304<>0,$D1304=8),SUMIFS('likvid terv'!$K:$K,'likvid terv'!$A:$A,project_eves_terv!B1304,'likvid terv'!$R:$R,project_eves_terv!$E1304),AND($B1304<>0,$D1304=9),SUMIFS('likvid terv'!$L:$L,'likvid terv'!$A:$A,project_eves_terv!B1304,'likvid terv'!$R:$R,project_eves_terv!$E1304),AND($B1304<>0,$D1304=10),SUMIFS('likvid terv'!$M:$M,'likvid terv'!$A:$A,project_eves_terv!B1304,'likvid terv'!$R:$R,project_eves_terv!$E1304),AND($B1304<>0,$D1304=11),SUMIFS('likvid terv'!$N:$N,'likvid terv'!$A:$A,project_eves_terv!B1304,'likvid terv'!$R:$R,project_eves_terv!$E1304),AND($B1304<>0,$D1304=12),SUMIFS('likvid terv'!$O:$O,'likvid terv'!$A:$A,project_eves_terv!B1304,'likvid terv'!$R:$R,project_eves_terv!$E1304),$B1304=0,0)} -> 0 | G1304: ='likvid terv'!$B$2 -> 0
A1305: ='likvid terv'!$B$1 -> 0 | B1305: ='likvid terv'!$B$149 -> 0 | C1305: 2027 | D1305: 8 | E1305: 8 | F1305: {=_xlfn.IFS(AND($B1305<>0,$D1305=1),SUMIFS('likvid terv'!$D:$D,'likvid terv'!$A:$A,project_eves_terv!B1305,'likvid terv'!$R:$R,project_eves_terv!$E1305),AND($B1305<>0,$D1305=2),SUMIFS('likvid terv'!$E:$E,'likvid terv'!$A:$A,project_eves_terv!B1305,'likvid terv'!$R:$R,project_eves_terv!$E1305),AND($B1305<>0,$D1305=3),SUMIFS('likvid terv'!$F:$F,'likvid terv'!$A:$A,project_eves_terv!B1305,'likvid terv'!$R:$R,project_eves_terv!$E1305),AND($B1305<>0,$D1305=4),SUMIFS('likvid terv'!$G:$G,'likvid terv'!$A:$A,project_eves_terv!B1305,'likvid terv'!$R:$R,project_eves_terv!$E1305),AND($B1305<>0,$D1305=5),SUMIFS('likvid terv'!$H:$H,'likvid terv'!$A:$A,project_eves_terv!B1305,'likvid terv'!$R:$R,project_eves_terv!$E1305),AND($B1305<>0,$D1305=6),SUMIFS('likvid terv'!$I:$I,'likvid terv'!$A:$A,project_eves_terv!B1305,'likvid terv'!$R:$R,project_eves_terv!$E1305),AND($B1305<>0,$D1305=7),SUMIFS('likvid terv'!$J:$J,'likvid terv'!$A:$A,project_eves_terv!B1305,'likvid terv'!$R:$R,project_eves_terv!$E1305),AND($B1305<>0,$D1305=8),SUMIFS('likvid terv'!$K:$K,'likvid terv'!$A:$A,project_eves_terv!B1305,'likvid terv'!$R:$R,project_eves_terv!$E1305),AND($B1305<>0,$D1305=9),SUMIFS('likvid terv'!$L:$L,'likvid terv'!$A:$A,project_eves_terv!B1305,'likvid terv'!$R:$R,project_eves_terv!$E1305),AND($B1305<>0,$D1305=10),SUMIFS('likvid terv'!$M:$M,'likvid terv'!$A:$A,project_eves_terv!B1305,'likvid terv'!$R:$R,project_eves_terv!$E1305),AND($B1305<>0,$D1305=11),SUMIFS('likvid terv'!$N:$N,'likvid terv'!$A:$A,project_eves_terv!B1305,'likvid terv'!$R:$R,project_eves_terv!$E1305),AND($B1305<>0,$D1305=12),SUMIFS('likvid terv'!$O:$O,'likvid terv'!$A:$A,project_eves_terv!B1305,'likvid terv'!$R:$R,project_eves_terv!$E1305),$B1305=0,0)} -> 0 | G1305: ='likvid terv'!$B$2 -> 0
A1306: ='likvid terv'!$B$1 -> 0 | B1306: ='likvid terv'!$B$149 -> 0 | C1306: 2027 | D1306: 9 | E1306: 8 | F1306: {=_xlfn.IFS(AND($B1306<>0,$D1306=1),SUMIFS('likvid terv'!$D:$D,'likvid terv'!$A:$A,project_eves_terv!B1306,'likvid terv'!$R:$R,project_eves_terv!$E1306),AND($B1306<>0,$D1306=2),SUMIFS('likvid terv'!$E:$E,'likvid terv'!$A:$A,project_eves_terv!B1306,'likvid terv'!$R:$R,project_eves_terv!$E1306),AND($B1306<>0,$D1306=3),SUMIFS('likvid terv'!$F:$F,'likvid terv'!$A:$A,project_eves_terv!B1306,'likvid terv'!$R:$R,project_eves_terv!$E1306),AND($B1306<>0,$D1306=4),SUMIFS('likvid terv'!$G:$G,'likvid terv'!$A:$A,project_eves_terv!B1306,'likvid terv'!$R:$R,project_eves_terv!$E1306),AND($B1306<>0,$D1306=5),SUMIFS('likvid terv'!$H:$H,'likvid terv'!$A:$A,project_eves_terv!B1306,'likvid terv'!$R:$R,project_eves_terv!$E1306),AND($B1306<>0,$D1306=6),SUMIFS('likvid terv'!$I:$I,'likvid terv'!$A:$A,project_eves_terv!B1306,'likvid terv'!$R:$R,project_eves_terv!$E1306),AND($B1306<>0,$D1306=7),SUMIFS('likvid terv'!$J:$J,'likvid terv'!$A:$A,project_eves_terv!B1306,'likvid terv'!$R:$R,project_eves_terv!$E1306),AND($B1306<>0,$D1306=8),SUMIFS('likvid terv'!$K:$K,'likvid terv'!$A:$A,project_eves_terv!B1306,'likvid terv'!$R:$R,project_eves_terv!$E1306),AND($B1306<>0,$D1306=9),SUMIFS('likvid terv'!$L:$L,'likvid terv'!$A:$A,project_eves_terv!B1306,'likvid terv'!$R:$R,project_eves_terv!$E1306),AND($B1306<>0,$D1306=10),SUMIFS('likvid terv'!$M:$M,'likvid terv'!$A:$A,project_eves_terv!B1306,'likvid terv'!$R:$R,project_eves_terv!$E1306),AND($B1306<>0,$D1306=11),SUMIFS('likvid terv'!$N:$N,'likvid terv'!$A:$A,project_eves_terv!B1306,'likvid terv'!$R:$R,project_eves_terv!$E1306),AND($B1306<>0,$D1306=12),SUMIFS('likvid terv'!$O:$O,'likvid terv'!$A:$A,project_eves_terv!B1306,'likvid terv'!$R:$R,project_eves_terv!$E1306),$B1306=0,0)} -> 0 | G1306: ='likvid terv'!$B$2 -> 0
A1307: ='likvid terv'!$B$1 -> 0 | B1307: ='likvid terv'!$B$149 -> 0 | C1307: 2027 | D1307: 10 | E1307: 8 | F1307: {=_xlfn.IFS(AND($B1307<>0,$D1307=1),SUMIFS('likvid terv'!$D:$D,'likvid terv'!$A:$A,project_eves_terv!B1307,'likvid terv'!$R:$R,project_eves_terv!$E1307),AND($B1307<>0,$D1307=2),SUMIFS('likvid terv'!$E:$E,'likvid terv'!$A:$A,project_eves_terv!B1307,'likvid terv'!$R:$R,project_eves_terv!$E1307),AND($B1307<>0,$D1307=3),SUMIFS('likvid terv'!$F:$F,'likvid terv'!$A:$A,project_eves_terv!B1307,'likvid terv'!$R:$R,project_eves_terv!$E1307),AND($B1307<>0,$D1307=4),SUMIFS('likvid terv'!$G:$G,'likvid terv'!$A:$A,project_eves_terv!B1307,'likvid terv'!$R:$R,project_eves_terv!$E1307),AND($B1307<>0,$D1307=5),SUMIFS('likvid terv'!$H:$H,'likvid terv'!$A:$A,project_eves_terv!B1307,'likvid terv'!$R:$R,project_eves_terv!$E1307),AND($B1307<>0,$D1307=6),SUMIFS('likvid terv'!$I:$I,'likvid terv'!$A:$A,project_eves_terv!B1307,'likvid terv'!$R:$R,project_eves_terv!$E1307),AND($B1307<>0,$D1307=7),SUMIFS('likvid terv'!$J:$J,'likvid terv'!$A:$A,project_eves_terv!B1307,'likvid terv'!$R:$R,project_eves_terv!$E1307),AND($B1307<>0,$D1307=8),SUMIFS('likvid terv'!$K:$K,'likvid terv'!$A:$A,project_eves_terv!B1307,'likvid terv'!$R:$R,project_eves_terv!$E1307),AND($B1307<>0,$D1307=9),SUMIFS('likvid terv'!$L:$L,'likvid terv'!$A:$A,project_eves_terv!B1307,'likvid terv'!$R:$R,project_eves_terv!$E1307),AND($B1307<>0,$D1307=10),SUMIFS('likvid terv'!$M:$M,'likvid terv'!$A:$A,project_eves_terv!B1307,'likvid terv'!$R:$R,project_eves_terv!$E1307),AND($B1307<>0,$D1307=11),SUMIFS('likvid terv'!$N:$N,'likvid terv'!$A:$A,project_eves_terv!B1307,'likvid terv'!$R:$R,project_eves_terv!$E1307),AND($B1307<>0,$D1307=12),SUMIFS('likvid terv'!$O:$O,'likvid terv'!$A:$A,project_eves_terv!B1307,'likvid terv'!$R:$R,project_eves_terv!$E1307),$B1307=0,0)} -> 0 | G1307: ='likvid terv'!$B$2 -> 0
A1308: ='likvid terv'!$B$1 -> 0 | B1308: ='likvid terv'!$B$149 -> 0 | C1308: 2027 | D1308: 11 | E1308: 8 | F1308: {=_xlfn.IFS(AND($B1308<>0,$D1308=1),SUMIFS('likvid terv'!$D:$D,'likvid terv'!$A:$A,project_eves_terv!B1308,'likvid terv'!$R:$R,project_eves_terv!$E1308),AND($B1308<>0,$D1308=2),SUMIFS('likvid terv'!$E:$E,'likvid terv'!$A:$A,project_eves_terv!B1308,'likvid terv'!$R:$R,project_eves_terv!$E1308),AND($B1308<>0,$D1308=3),SUMIFS('likvid terv'!$F:$F,'likvid terv'!$A:$A,project_eves_terv!B1308,'likvid terv'!$R:$R,project_eves_terv!$E1308),AND($B1308<>0,$D1308=4),SUMIFS('likvid terv'!$G:$G,'likvid terv'!$A:$A,project_eves_terv!B1308,'likvid terv'!$R:$R,project_eves_terv!$E1308),AND($B1308<>0,$D1308=5),SUMIFS('likvid terv'!$H:$H,'likvid terv'!$A:$A,project_eves_terv!B1308,'likvid terv'!$R:$R,project_eves_terv!$E1308),AND($B1308<>0,$D1308=6),SUMIFS('likvid terv'!$I:$I,'likvid terv'!$A:$A,project_eves_terv!B1308,'likvid terv'!$R:$R,project_eves_terv!$E1308),AND($B1308<>0,$D1308=7),SUMIFS('likvid terv'!$J:$J,'likvid terv'!$A:$A,project_eves_terv!B1308,'likvid terv'!$R:$R,project_eves_terv!$E1308),AND($B1308<>0,$D1308=8),SUMIFS('likvid terv'!$K:$K,'likvid terv'!$A:$A,project_eves_terv!B1308,'likvid terv'!$R:$R,project_eves_terv!$E1308),AND($B1308<>0,$D1308=9),SUMIFS('likvid terv'!$L:$L,'likvid terv'!$A:$A,project_eves_terv!B1308,'likvid terv'!$R:$R,project_eves_terv!$E1308),AND($B1308<>0,$D1308=10),SUMIFS('likvid terv'!$M:$M,'likvid terv'!$A:$A,project_eves_terv!B1308,'likvid terv'!$R:$R,project_eves_terv!$E1308),AND($B1308<>0,$D1308=11),SUMIFS('likvid terv'!$N:$N,'likvid terv'!$A:$A,project_eves_terv!B1308,'likvid terv'!$R:$R,project_eves_terv!$E1308),AND($B1308<>0,$D1308=12),SUMIFS('likvid terv'!$O:$O,'likvid terv'!$A:$A,project_eves_terv!B1308,'likvid terv'!$R:$R,project_eves_terv!$E1308),$B1308=0,0)} -> 0 | G1308: ='likvid terv'!$B$2 -> 0
A1309: ='likvid terv'!$B$1 -> 0 | B1309: ='likvid terv'!$B$149 -> 0 | C1309: 2027 | D1309: 12 | E1309: 8 | F1309: {=_xlfn.IFS(AND($B1309<>0,$D1309=1),SUMIFS('likvid terv'!$D:$D,'likvid terv'!$A:$A,project_eves_terv!B1309,'likvid terv'!$R:$R,project_eves_terv!$E1309),AND($B1309<>0,$D1309=2),SUMIFS('likvid terv'!$E:$E,'likvid terv'!$A:$A,project_eves_terv!B1309,'likvid terv'!$R:$R,project_eves_terv!$E1309),AND($B1309<>0,$D1309=3),SUMIFS('likvid terv'!$F:$F,'likvid terv'!$A:$A,project_eves_terv!B1309,'likvid terv'!$R:$R,project_eves_terv!$E1309),AND($B1309<>0,$D1309=4),SUMIFS('likvid terv'!$G:$G,'likvid terv'!$A:$A,project_eves_terv!B1309,'likvid terv'!$R:$R,project_eves_terv!$E1309),AND($B1309<>0,$D1309=5),SUMIFS('likvid terv'!$H:$H,'likvid terv'!$A:$A,project_eves_terv!B1309,'likvid terv'!$R:$R,project_eves_terv!$E1309),AND($B1309<>0,$D1309=6),SUMIFS('likvid terv'!$I:$I,'likvid terv'!$A:$A,project_eves_terv!B1309,'likvid terv'!$R:$R,project_eves_terv!$E1309),AND($B1309<>0,$D1309=7),SUMIFS('likvid terv'!$J:$J,'likvid terv'!$A:$A,project_eves_terv!B1309,'likvid terv'!$R:$R,project_eves_terv!$E1309),AND($B1309<>0,$D1309=8),SUMIFS('likvid terv'!$K:$K,'likvid terv'!$A:$A,project_eves_terv!B1309,'likvid terv'!$R:$R,project_eves_terv!$E1309),AND($B1309<>0,$D1309=9),SUMIFS('likvid terv'!$L:$L,'likvid terv'!$A:$A,project_eves_terv!B1309,'likvid terv'!$R:$R,project_eves_terv!$E1309),AND($B1309<>0,$D1309=10),SUMIFS('likvid terv'!$M:$M,'likvid terv'!$A:$A,project_eves_terv!B1309,'likvid terv'!$R:$R,project_eves_terv!$E1309),AND($B1309<>0,$D1309=11),SUMIFS('likvid terv'!$N:$N,'likvid terv'!$A:$A,project_eves_terv!B1309,'likvid terv'!$R:$R,project_eves_terv!$E1309),AND($B1309<>0,$D1309=12),SUMIFS('likvid terv'!$O:$O,'likvid terv'!$A:$A,project_eves_terv!B1309,'likvid terv'!$R:$R,project_eves_terv!$E1309),$B1309=0,0)} -> 0 | G1309: ='likvid terv'!$B$2 -> 0
... A1621: ='likvid terv'!$B$1 -> 0 | B1621: ='likvid terv'!$B$149 -> 0 | C1621: 2027 | D1621: 12 | E1621: 27 | F1621: {=_xlfn.IFS(AND($B1621<>0,$D1621=1),SUMIFS('likvid terv'!$D:$D,'likvid terv'!$A:$A,project_eves_terv!B1621,'likvid terv'!$R:$R,project_eves_terv!$E1621),AND($B1621<>0,$D1621=2),SUMIFS('likvid terv'!$E:$E,'likvid terv'!$A:$A,project_eves_terv!B1621,'likvid terv'!$R:$R,project_eves_terv!$E1621),AND($B1621<>0,$D1621=3),SUMIFS('likvid terv'!$F:$F,'likvid terv'!$A:$A,project_eves_terv!B1621,'likvid terv'!$R:$R,project_eves_terv!$E1621),AND($B1621<>0,$D1621=4),SUMIFS('likvid terv'!$G:$G,'likvid terv'!$A:$A,project_eves_terv!B1621,'likvid terv'!$R:$R,project_eves_terv!$E1621),AND($B1621<>0,$D1621=5),SUMIFS('likvid terv'!$H:$H,'likvid terv'!$A:$A,project_eves_terv!B1621,'likvid terv'!$R:$R,project_eves_terv!$E1621),AND($B1621<>0,$D1621=6),SUMIFS('likvid terv'!$I:$I,'likvid terv'!$A:$A,project_eves_terv!B1621,'likvid terv'!$R:$R,project_eves_terv!$E1621),AND($B1621<>0,$D1621=7),SUMIFS('likvid terv'!$J:$J,'likvid terv'!$A:$A,project_eves_terv!B1621,'likvid terv'!$R:$R,project_eves_terv!$E1621),AND($B1621<>0,$D1621=8),SUMIFS('likvid terv'!$K:$K,'likvid terv'!$A:$A,project_eves_terv!B1621,'likvid terv'!$R:$R,project_eves_terv!$E1621),AND($B1621<>0,$D1621=9),SUMIFS('likvid terv'!$L:$L,'likvid terv'!$A:$A,project_eves_terv!B1621,'likvid terv'!$R:$R,project_eves_terv!$E1621),AND($B1621<>0,$D1621=10),SUMIFS('likvid terv'!$M:$M,'likvid terv'!$A:$A,project_eves_terv!B1621,'likvid terv'!$R:$R,project_eves_terv!$E1621),AND($B1621<>0,$D1621=11),SUMIFS('likvid terv'!$N:$N,'likvid terv'!$A:$A,project_eves_terv!B1621,'likvid terv'!$R:$R,project_eves_terv!$E1621),AND($B1621<>0,$D1621=12),SUMIFS('likvid terv'!$O:$O,'likvid terv'!$A:$A,project_eves_terv!B1621,'likvid terv'!$R:$R,project_eves_terv!$E1621),$B1621=0,0)} -> 0 | G1621: ='likvid terv'!$B$2 -> 0
A1622: ='likvid terv'!$B$1 -> 0 | B1622: ='likvid terv'!$B$178 -> 0 | C1622: 2027 | D1622: 1 | E1622: 8 | F1622: {=_xlfn.IFS(AND($B1622<>0,$D1622=1),SUMIFS('likvid terv'!$D:$D,'likvid terv'!$A:$A,project_eves_terv!B1622,'likvid terv'!$R:$R,project_eves_terv!$E1622),AND($B1622<>0,$D1622=2),SUMIFS('likvid terv'!$E:$E,'likvid terv'!$A:$A,project_eves_terv!B1622,'likvid terv'!$R:$R,project_eves_terv!$E1622),AND($B1622<>0,$D1622=3),SUMIFS('likvid terv'!$F:$F,'likvid terv'!$A:$A,project_eves_terv!B1622,'likvid terv'!$R:$R,project_eves_terv!$E1622),AND($B1622<>0,$D1622=4),SUMIFS('likvid terv'!$G:$G,'likvid terv'!$A:$A,project_eves_terv!B1622,'likvid terv'!$R:$R,project_eves_terv!$E1622),AND($B1622<>0,$D1622=5),SUMIFS('likvid terv'!$H:$H,'likvid terv'!$A:$A,project_eves_terv!B1622,'likvid terv'!$R:$R,project_eves_terv!$E1622),AND($B1622<>0,$D1622=6),SUMIFS('likvid terv'!$I:$I,'likvid terv'!$A:$A,project_eves_terv!B1622,'likvid terv'!$R:$R,project_eves_terv!$E1622),AND($B1622<>0,$D1622=7),SUMIFS('likvid terv'!$J:$J,'likvid terv'!$A:$A,project_eves_terv!B1622,'likvid terv'!$R:$R,project_eves_terv!$E1622),AND($B1622<>0,$D1622=8),SUMIFS('likvid terv'!$K:$K,'likvid terv'!$A:$A,project_eves_terv!B1622,'likvid terv'!$R:$R,project_eves_terv!$E1622),AND($B1622<>0,$D1622=9),SUMIFS('likvid terv'!$L:$L,'likvid terv'!$A:$A,project_eves_terv!B1622,'likvid terv'!$R:$R,project_eves_terv!$E1622),AND($B1622<>0,$D1622=10),SUMIFS('likvid terv'!$M:$M,'likvid terv'!$A:$A,project_eves_terv!B1622,'likvid terv'!$R:$R,project_eves_terv!$E1622),AND($B1622<>0,$D1622=11),SUMIFS('likvid terv'!$N:$N,'likvid terv'!$A:$A,project_eves_terv!B1622,'likvid terv'!$R:$R,project_eves_terv!$E1622),AND($B1622<>0,$D1622=12),SUMIFS('likvid terv'!$O:$O,'likvid terv'!$A:$A,project_eves_terv!B1622,'likvid terv'!$R:$R,project_eves_terv!$E1622),$B1622=0,0)} -> 0 | G1622: ='likvid terv'!$B$2 -> 0
A1623: ='likvid terv'!$B$1 -> 0 | B1623: ='likvid terv'!$B$178 -> 0 | C1623: 2027 | D1623: 2 | E1623: 8 | F1623: {=_xlfn.IFS(AND($B1623<>0,$D1623=1),SUMIFS('likvid terv'!$D:$D,'likvid terv'!$A:$A,project_eves_terv!B1623,'likvid terv'!$R:$R,project_eves_terv!$E1623),AND($B1623<>0,$D1623=2),SUMIFS('likvid terv'!$E:$E,'likvid terv'!$A:$A,project_eves_terv!B1623,'likvid terv'!$R:$R,project_eves_terv!$E1623),AND($B1623<>0,$D1623=3),SUMIFS('likvid terv'!$F:$F,'likvid terv'!$A:$A,project_eves_terv!B1623,'likvid terv'!$R:$R,project_eves_terv!$E1623),AND($B1623<>0,$D1623=4),SUMIFS('likvid terv'!$G:$G,'likvid terv'!$A:$A,project_eves_terv!B1623,'likvid terv'!$R:$R,project_eves_terv!$E1623),AND($B1623<>0,$D1623=5),SUMIFS('likvid terv'!$H:$H,'likvid terv'!$A:$A,project_eves_terv!B1623,'likvid terv'!$R:$R,project_eves_terv!$E1623),AND($B1623<>0,$D1623=6),SUMIFS('likvid terv'!$I:$I,'likvid terv'!$A:$A,project_eves_terv!B1623,'likvid terv'!$R:$R,project_eves_terv!$E1623),AND($B1623<>0,$D1623=7),SUMIFS('likvid terv'!$J:$J,'likvid terv'!$A:$A,project_eves_terv!B1623,'likvid terv'!$R:$R,project_eves_terv!$E1623),AND($B1623<>0,$D1623=8),SUMIFS('likvid terv'!$K:$K,'likvid terv'!$A:$A,project_eves_terv!B1623,'likvid terv'!$R:$R,project_eves_terv!$E1623),AND($B1623<>0,$D1623=9),SUMIFS('likvid terv'!$L:$L,'likvid terv'!$A:$A,project_eves_terv!B1623,'likvid terv'!$R:$R,project_eves_terv!$E1623),AND($B1623<>0,$D1623=10),SUMIFS('likvid terv'!$M:$M,'likvid terv'!$A:$A,project_eves_terv!B1623,'likvid terv'!$R:$R,project_eves_terv!$E1623),AND($B1623<>0,$D1623=11),SUMIFS('likvid terv'!$N:$N,'likvid terv'!$A:$A,project_eves_terv!B1623,'likvid terv'!$R:$R,project_eves_terv!$E1623),AND($B1623<>0,$D1623=12),SUMIFS('likvid terv'!$O:$O,'likvid terv'!$A:$A,project_eves_terv!B1623,'likvid terv'!$R:$R,project_eves_terv!$E1623),$B1623=0,0)} -> 0 | G1623: ='likvid terv'!$B$2 -> 0
A1624: ='likvid terv'!$B$1 -> 0 | B1624: ='likvid terv'!$B$178 -> 0 | C1624: 2027 | D1624: 3 | E1624: 8 | F1624: {=_xlfn.IFS(AND($B1624<>0,$D1624=1),SUMIFS('likvid terv'!$D:$D,'likvid terv'!$A:$A,project_eves_terv!B1624,'likvid terv'!$R:$R,project_eves_terv!$E1624),AND($B1624<>0,$D1624=2),SUMIFS('likvid terv'!$E:$E,'likvid terv'!$A:$A,project_eves_terv!B1624,'likvid terv'!$R:$R,project_eves_terv!$E1624),AND($B1624<>0,$D1624=3),SUMIFS('likvid terv'!$F:$F,'likvid terv'!$A:$A,project_eves_terv!B1624,'likvid terv'!$R:$R,project_eves_terv!$E1624),AND($B1624<>0,$D1624=4),SUMIFS('likvid terv'!$G:$G,'likvid terv'!$A:$A,project_eves_terv!B1624,'likvid terv'!$R:$R,project_eves_terv!$E1624),AND($B1624<>0,$D1624=5),SUMIFS('likvid terv'!$H:$H,'likvid terv'!$A:$A,project_eves_terv!B1624,'likvid terv'!$R:$R,project_eves_terv!$E1624),AND($B1624<>0,$D1624=6),SUMIFS('likvid terv'!$I:$I,'likvid terv'!$A:$A,project_eves_terv!B1624,'likvid terv'!$R:$R,project_eves_terv!$E1624),AND($B1624<>0,$D1624=7),SUMIFS('likvid terv'!$J:$J,'likvid terv'!$A:$A,project_eves_terv!B1624,'likvid terv'!$R:$R,project_eves_terv!$E1624),AND($B1624<>0,$D1624=8),SUMIFS('likvid terv'!$K:$K,'likvid terv'!$A:$A,project_eves_terv!B1624,'likvid terv'!$R:$R,project_eves_terv!$E1624),AND($B1624<>0,$D1624=9),SUMIFS('likvid terv'!$L:$L,'likvid terv'!$A:$A,project_eves_terv!B1624,'likvid terv'!$R:$R,project_eves_terv!$E1624),AND($B1624<>0,$D1624=10),SUMIFS('likvid terv'!$M:$M,'likvid terv'!$A:$A,project_eves_terv!B1624,'likvid terv'!$R:$R,project_eves_terv!$E1624),AND($B1624<>0,$D1624=11),SUMIFS('likvid terv'!$N:$N,'likvid terv'!$A:$A,project_eves_terv!B1624,'likvid terv'!$R:$R,project_eves_terv!$E1624),AND($B1624<>0,$D1624=12),SUMIFS('likvid terv'!$O:$O,'likvid terv'!$A:$A,project_eves_terv!B1624,'likvid terv'!$R:$R,project_eves_terv!$E1624),$B1624=0,0)} -> 0 | G1624: ='likvid terv'!$B$2 -> 0
A1625: ='likvid terv'!$B$1 -> 0 | B1625: ='likvid terv'!$B$178 -> 0 | C1625: 2027 | D1625: 4 | E1625: 8 | F1625: {=_xlfn.IFS(AND($B1625<>0,$D1625=1),SUMIFS('likvid terv'!$D:$D,'likvid terv'!$A:$A,project_eves_terv!B1625,'likvid terv'!$R:$R,project_eves_terv!$E1625),AND($B1625<>0,$D1625=2),SUMIFS('likvid terv'!$E:$E,'likvid terv'!$A:$A,project_eves_terv!B1625,'likvid terv'!$R:$R,project_eves_terv!$E1625),AND($B1625<>0,$D1625=3),SUMIFS('likvid terv'!$F:$F,'likvid terv'!$A:$A,project_eves_terv!B1625,'likvid terv'!$R:$R,project_eves_terv!$E1625),AND($B1625<>0,$D1625=4),SUMIFS('likvid terv'!$G:$G,'likvid terv'!$A:$A,project_eves_terv!B1625,'likvid terv'!$R:$R,project_eves_terv!$E1625),AND($B1625<>0,$D1625=5),SUMIFS('likvid terv'!$H:$H,'likvid terv'!$A:$A,project_eves_terv!B1625,'likvid terv'!$R:$R,project_eves_terv!$E1625),AND($B1625<>0,$D1625=6),SUMIFS('likvid terv'!$I:$I,'likvid terv'!$A:$A,project_eves_terv!B1625,'likvid terv'!$R:$R,project_eves_terv!$E1625),AND($B1625<>0,$D1625=7),SUMIFS('likvid terv'!$J:$J,'likvid terv'!$A:$A,project_eves_terv!B1625,'likvid terv'!$R:$R,project_eves_terv!$E1625),AND($B1625<>0,$D1625=8),SUMIFS('likvid terv'!$K:$K,'likvid terv'!$A:$A,project_eves_terv!B1625,'likvid terv'!$R:$R,project_eves_terv!$E1625),AND($B1625<>0,$D1625=9),SUMIFS('likvid terv'!$L:$L,'likvid terv'!$A:$A,project_eves_terv!B1625,'likvid terv'!$R:$R,project_eves_terv!$E1625),AND($B1625<>0,$D1625=10),SUMIFS('likvid terv'!$M:$M,'likvid terv'!$A:$A,project_eves_terv!B1625,'likvid terv'!$R:$R,project_eves_terv!$E1625),AND($B1625<>0,$D1625=11),SUMIFS('likvid terv'!$N:$N,'likvid terv'!$A:$A,project_eves_terv!B1625,'likvid terv'!$R:$R,project_eves_terv!$E1625),AND($B1625<>0,$D1625=12),SUMIFS('likvid terv'!$O:$O,'likvid terv'!$A:$A,project_eves_terv!B1625,'likvid terv'!$R:$R,project_eves_terv!$E1625),$B1625=0,0)} -> 0 | G1625: ='likvid terv'!$B$2 -> 0
A1626: ='likvid terv'!$B$1 -> 0 | B1626: ='likvid terv'!$B$178 -> 0 | C1626: 2027 | D1626: 5 | E1626: 8 | F1626: {=_xlfn.IFS(AND($B1626<>0,$D1626=1),SUMIFS('likvid terv'!$D:$D,'likvid terv'!$A:$A,project_eves_terv!B1626,'likvid terv'!$R:$R,project_eves_terv!$E1626),AND($B1626<>0,$D1626=2),SUMIFS('likvid terv'!$E:$E,'likvid terv'!$A:$A,project_eves_terv!B1626,'likvid terv'!$R:$R,project_eves_terv!$E1626),AND($B1626<>0,$D1626=3),SUMIFS('likvid terv'!$F:$F,'likvid terv'!$A:$A,project_eves_terv!B1626,'likvid terv'!$R:$R,project_eves_terv!$E1626),AND($B1626<>0,$D1626=4),SUMIFS('likvid terv'!$G:$G,'likvid terv'!$A:$A,project_eves_terv!B1626,'likvid terv'!$R:$R,project_eves_terv!$E1626),AND($B1626<>0,$D1626=5),SUMIFS('likvid terv'!$H:$H,'likvid terv'!$A:$A,project_eves_terv!B1626,'likvid terv'!$R:$R,project_eves_terv!$E1626),AND($B1626<>0,$D1626=6),SUMIFS('likvid terv'!$I:$I,'likvid terv'!$A:$A,project_eves_terv!B1626,'likvid terv'!$R:$R,project_eves_terv!$E1626),AND($B1626<>0,$D1626=7),SUMIFS('likvid terv'!$J:$J,'likvid terv'!$A:$A,project_eves_terv!B1626,'likvid terv'!$R:$R,project_eves_terv!$E1626),AND($B1626<>0,$D1626=8),SUMIFS('likvid terv'!$K:$K,'likvid terv'!$A:$A,project_eves_terv!B1626,'likvid terv'!$R:$R,project_eves_terv!$E1626),AND($B1626<>0,$D1626=9),SUMIFS('likvid terv'!$L:$L,'likvid terv'!$A:$A,project_eves_terv!B1626,'likvid terv'!$R:$R,project_eves_terv!$E1626),AND($B1626<>0,$D1626=10),SUMIFS('likvid terv'!$M:$M,'likvid terv'!$A:$A,project_eves_terv!B1626,'likvid terv'!$R:$R,project_eves_terv!$E1626),AND($B1626<>0,$D1626=11),SUMIFS('likvid terv'!$N:$N,'likvid terv'!$A:$A,project_eves_terv!B1626,'likvid terv'!$R:$R,project_eves_terv!$E1626),AND($B1626<>0,$D1626=12),SUMIFS('likvid terv'!$O:$O,'likvid terv'!$A:$A,project_eves_terv!B1626,'likvid terv'!$R:$R,project_eves_terv!$E1626),$B1626=0,0)} -> 0 | G1626: ='likvid terv'!$B$2 -> 0
A1627: ='likvid terv'!$B$1 -> 0 | B1627: ='likvid terv'!$B$178 -> 0 | C1627: 2027 | D1627: 6 | E1627: 8 | F1627: {=_xlfn.IFS(AND($B1627<>0,$D1627=1),SUMIFS('likvid terv'!$D:$D,'likvid terv'!$A:$A,project_eves_terv!B1627,'likvid terv'!$R:$R,project_eves_terv!$E1627),AND($B1627<>0,$D1627=2),SUMIFS('likvid terv'!$E:$E,'likvid terv'!$A:$A,project_eves_terv!B1627,'likvid terv'!$R:$R,project_eves_terv!$E1627),AND($B1627<>0,$D1627=3),SUMIFS('likvid terv'!$F:$F,'likvid terv'!$A:$A,project_eves_terv!B1627,'likvid terv'!$R:$R,project_eves_terv!$E1627),AND($B1627<>0,$D1627=4),SUMIFS('likvid terv'!$G:$G,'likvid terv'!$A:$A,project_eves_terv!B1627,'likvid terv'!$R:$R,project_eves_terv!$E1627),AND($B1627<>0,$D1627=5),SUMIFS('likvid terv'!$H:$H,'likvid terv'!$A:$A,project_eves_terv!B1627,'likvid terv'!$R:$R,project_eves_terv!$E1627),AND($B1627<>0,$D1627=6),SUMIFS('likvid terv'!$I:$I,'likvid terv'!$A:$A,project_eves_terv!B1627,'likvid terv'!$R:$R,project_eves_terv!$E1627),AND($B1627<>0,$D1627=7),SUMIFS('likvid terv'!$J:$J,'likvid terv'!$A:$A,project_eves_terv!B1627,'likvid terv'!$R:$R,project_eves_terv!$E1627),AND($B1627<>0,$D1627=8),SUMIFS('likvid terv'!$K:$K,'likvid terv'!$A:$A,project_eves_terv!B1627,'likvid terv'!$R:$R,project_eves_terv!$E1627),AND($B1627<>0,$D1627=9),SUMIFS('likvid terv'!$L:$L,'likvid terv'!$A:$A,project_eves_terv!B1627,'likvid terv'!$R:$R,project_eves_terv!$E1627),AND($B1627<>0,$D1627=10),SUMIFS('likvid terv'!$M:$M,'likvid terv'!$A:$A,project_eves_terv!B1627,'likvid terv'!$R:$R,project_eves_terv!$E1627),AND($B1627<>0,$D1627=11),SUMIFS('likvid terv'!$N:$N,'likvid terv'!$A:$A,project_eves_terv!B1627,'likvid terv'!$R:$R,project_eves_terv!$E1627),AND($B1627<>0,$D1627=12),SUMIFS('likvid terv'!$O:$O,'likvid terv'!$A:$A,project_eves_terv!B1627,'likvid terv'!$R:$R,project_eves_terv!$E1627),$B1627=0,0)} -> 0 | G1627: ='likvid terv'!$B$2 -> 0
A1628: ='likvid terv'!$B$1 -> 0 | B1628: ='likvid terv'!$B$178 -> 0 | C1628: 2027 | D1628: 7 | E1628: 8 | F1628: {=_xlfn.IFS(AND($B1628<>0,$D1628=1),SUMIFS('likvid terv'!$D:$D,'likvid terv'!$A:$A,project_eves_terv!B1628,'likvid terv'!$R:$R,project_eves_terv!$E1628),AND($B1628<>0,$D1628=2),SUMIFS('likvid terv'!$E:$E,'likvid terv'!$A:$A,project_eves_terv!B1628,'likvid terv'!$R:$R,project_eves_terv!$E1628),AND($B1628<>0,$D1628=3),SUMIFS('likvid terv'!$F:$F,'likvid terv'!$A:$A,project_eves_terv!B1628,'likvid terv'!$R:$R,project_eves_terv!$E1628),AND($B1628<>0,$D1628=4),SUMIFS('likvid terv'!$G:$G,'likvid terv'!$A:$A,project_eves_terv!B1628,'likvid terv'!$R:$R,project_eves_terv!$E1628),AND($B1628<>0,$D1628=5),SUMIFS('likvid terv'!$H:$H,'likvid terv'!$A:$A,project_eves_terv!B1628,'likvid terv'!$R:$R,project_eves_terv!$E1628),AND($B1628<>0,$D1628=6),SUMIFS('likvid terv'!$I:$I,'likvid terv'!$A:$A,project_eves_terv!B1628,'likvid terv'!$R:$R,project_eves_terv!$E1628),AND($B1628<>0,$D1628=7),SUMIFS('likvid terv'!$J:$J,'likvid terv'!$A:$A,project_eves_terv!B1628,'likvid terv'!$R:$R,project_eves_terv!$E1628),AND($B1628<>0,$D1628=8),SUMIFS('likvid terv'!$K:$K,'likvid terv'!$A:$A,project_eves_terv!B1628,'likvid terv'!$R:$R,project_eves_terv!$E1628),AND($B1628<>0,$D1628=9),SUMIFS('likvid terv'!$L:$L,'likvid terv'!$A:$A,project_eves_terv!B1628,'likvid terv'!$R:$R,project_eves_terv!$E1628),AND($B1628<>0,$D1628=10),SUMIFS('likvid terv'!$M:$M,'likvid terv'!$A:$A,project_eves_terv!B1628,'likvid terv'!$R:$R,project_eves_terv!$E1628),AND($B1628<>0,$D1628=11),SUMIFS('likvid terv'!$N:$N,'likvid terv'!$A:$A,project_eves_terv!B1628,'likvid terv'!$R:$R,project_eves_terv!$E1628),AND($B1628<>0,$D1628=12),SUMIFS('likvid terv'!$O:$O,'likvid terv'!$A:$A,project_eves_terv!B1628,'likvid terv'!$R:$R,project_eves_terv!$E1628),$B1628=0,0)} -> 0 | G1628: ='likvid terv'!$B$2 -> 0
A1629: ='likvid terv'!$B$1 -> 0 | B1629: ='likvid terv'!$B$178 -> 0 | C1629: 2027 | D1629: 8 | E1629: 8 | F1629: {=_xlfn.IFS(AND($B1629<>0,$D1629=1),SUMIFS('likvid terv'!$D:$D,'likvid terv'!$A:$A,project_eves_terv!B1629,'likvid terv'!$R:$R,project_eves_terv!$E1629),AND($B1629<>0,$D1629=2),SUMIFS('likvid terv'!$E:$E,'likvid terv'!$A:$A,project_eves_terv!B1629,'likvid terv'!$R:$R,project_eves_terv!$E1629),AND($B1629<>0,$D1629=3),SUMIFS('likvid terv'!$F:$F,'likvid terv'!$A:$A,project_eves_terv!B1629,'likvid terv'!$R:$R,project_eves_terv!$E1629),AND($B1629<>0,$D1629=4),SUMIFS('likvid terv'!$G:$G,'likvid terv'!$A:$A,project_eves_terv!B1629,'likvid terv'!$R:$R,project_eves_terv!$E1629),AND($B1629<>0,$D1629=5),SUMIFS('likvid terv'!$H:$H,'likvid terv'!$A:$A,project_eves_terv!B1629,'likvid terv'!$R:$R,project_eves_terv!$E1629),AND($B1629<>0,$D1629=6),SUMIFS('likvid terv'!$I:$I,'likvid terv'!$A:$A,project_eves_terv!B1629,'likvid terv'!$R:$R,project_eves_terv!$E1629),AND($B1629<>0,$D1629=7),SUMIFS('likvid terv'!$J:$J,'likvid terv'!$A:$A,project_eves_terv!B1629,'likvid terv'!$R:$R,project_eves_terv!$E1629),AND($B1629<>0,$D1629=8),SUMIFS('likvid terv'!$K:$K,'likvid terv'!$A:$A,project_eves_terv!B1629,'likvid terv'!$R:$R,project_eves_terv!$E1629),AND($B1629<>0,$D1629=9),SUMIFS('likvid terv'!$L:$L,'likvid terv'!$A:$A,project_eves_terv!B1629,'likvid terv'!$R:$R,project_eves_terv!$E1629),AND($B1629<>0,$D1629=10),SUMIFS('likvid terv'!$M:$M,'likvid terv'!$A:$A,project_eves_terv!B1629,'likvid terv'!$R:$R,project_eves_terv!$E1629),AND($B1629<>0,$D1629=11),SUMIFS('likvid terv'!$N:$N,'likvid terv'!$A:$A,project_eves_terv!B1629,'likvid terv'!$R:$R,project_eves_terv!$E1629),AND($B1629<>0,$D1629=12),SUMIFS('likvid terv'!$O:$O,'likvid terv'!$A:$A,project_eves_terv!B1629,'likvid terv'!$R:$R,project_eves_terv!$E1629),$B1629=0,0)} -> 0 | G1629: ='likvid terv'!$B$2 -> 0
A1630: ='likvid terv'!$B$1 -> 0 | B1630: ='likvid terv'!$B$178 -> 0 | C1630: 2027 | D1630: 9 | E1630: 8 | F1630: {=_xlfn.IFS(AND($B1630<>0,$D1630=1),SUMIFS('likvid terv'!$D:$D,'likvid terv'!$A:$A,project_eves_terv!B1630,'likvid terv'!$R:$R,project_eves_terv!$E1630),AND($B1630<>0,$D1630=2),SUMIFS('likvid terv'!$E:$E,'likvid terv'!$A:$A,project_eves_terv!B1630,'likvid terv'!$R:$R,project_eves_terv!$E1630),AND($B1630<>0,$D1630=3),SUMIFS('likvid terv'!$F:$F,'likvid terv'!$A:$A,project_eves_terv!B1630,'likvid terv'!$R:$R,project_eves_terv!$E1630),AND($B1630<>0,$D1630=4),SUMIFS('likvid terv'!$G:$G,'likvid terv'!$A:$A,project_eves_terv!B1630,'likvid terv'!$R:$R,project_eves_terv!$E1630),AND($B1630<>0,$D1630=5),SUMIFS('likvid terv'!$H:$H,'likvid terv'!$A:$A,project_eves_terv!B1630,'likvid terv'!$R:$R,project_eves_terv!$E1630),AND($B1630<>0,$D1630=6),SUMIFS('likvid terv'!$I:$I,'likvid terv'!$A:$A,project_eves_terv!B1630,'likvid terv'!$R:$R,project_eves_terv!$E1630),AND($B1630<>0,$D1630=7),SUMIFS('likvid terv'!$J:$J,'likvid terv'!$A:$A,project_eves_terv!B1630,'likvid terv'!$R:$R,project_eves_terv!$E1630),AND($B1630<>0,$D1630=8),SUMIFS('likvid terv'!$K:$K,'likvid terv'!$A:$A,project_eves_terv!B1630,'likvid terv'!$R:$R,project_eves_terv!$E1630),AND($B1630<>0,$D1630=9),SUMIFS('likvid terv'!$L:$L,'likvid terv'!$A:$A,project_eves_terv!B1630,'likvid terv'!$R:$R,project_eves_terv!$E1630),AND($B1630<>0,$D1630=10),SUMIFS('likvid terv'!$M:$M,'likvid terv'!$A:$A,project_eves_terv!B1630,'likvid terv'!$R:$R,project_eves_terv!$E1630),AND($B1630<>0,$D1630=11),SUMIFS('likvid terv'!$N:$N,'likvid terv'!$A:$A,project_eves_terv!B1630,'likvid terv'!$R:$R,project_eves_terv!$E1630),AND($B1630<>0,$D1630=12),SUMIFS('likvid terv'!$O:$O,'likvid terv'!$A:$A,project_eves_terv!B1630,'likvid terv'!$R:$R,project_eves_terv!$E1630),$B1630=0,0)} -> 0 | G1630: ='likvid terv'!$B$2 -> 0
A1631: ='likvid terv'!$B$1 -> 0 | B1631: ='likvid terv'!$B$178 -> 0 | C1631: 2027 | D1631: 10 | E1631: 8 | F1631: {=_xlfn.IFS(AND($B1631<>0,$D1631=1),SUMIFS('likvid terv'!$D:$D,'likvid terv'!$A:$A,project_eves_terv!B1631,'likvid terv'!$R:$R,project_eves_terv!$E1631),AND($B1631<>0,$D1631=2),SUMIFS('likvid terv'!$E:$E,'likvid terv'!$A:$A,project_eves_terv!B1631,'likvid terv'!$R:$R,project_eves_terv!$E1631),AND($B1631<>0,$D1631=3),SUMIFS('likvid terv'!$F:$F,'likvid terv'!$A:$A,project_eves_terv!B1631,'likvid terv'!$R:$R,project_eves_terv!$E1631),AND($B1631<>0,$D1631=4),SUMIFS('likvid terv'!$G:$G,'likvid terv'!$A:$A,project_eves_terv!B1631,'likvid terv'!$R:$R,project_eves_terv!$E1631),AND($B1631<>0,$D1631=5),SUMIFS('likvid terv'!$H:$H,'likvid terv'!$A:$A,project_eves_terv!B1631,'likvid terv'!$R:$R,project_eves_terv!$E1631),AND($B1631<>0,$D1631=6),SUMIFS('likvid terv'!$I:$I,'likvid terv'!$A:$A,project_eves_terv!B1631,'likvid terv'!$R:$R,project_eves_terv!$E1631),AND($B1631<>0,$D1631=7),SUMIFS('likvid terv'!$J:$J,'likvid terv'!$A:$A,project_eves_terv!B1631,'likvid terv'!$R:$R,project_eves_terv!$E1631),AND($B1631<>0,$D1631=8),SUMIFS('likvid terv'!$K:$K,'likvid terv'!$A:$A,project_eves_terv!B1631,'likvid terv'!$R:$R,project_eves_terv!$E1631),AND($B1631<>0,$D1631=9),SUMIFS('likvid terv'!$L:$L,'likvid terv'!$A:$A,project_eves_terv!B1631,'likvid terv'!$R:$R,project_eves_terv!$E1631),AND($B1631<>0,$D1631=10),SUMIFS('likvid terv'!$M:$M,'likvid terv'!$A:$A,project_eves_terv!B1631,'likvid terv'!$R:$R,project_eves_terv!$E1631),AND($B1631<>0,$D1631=11),SUMIFS('likvid terv'!$N:$N,'likvid terv'!$A:$A,project_eves_terv!B1631,'likvid terv'!$R:$R,project_eves_terv!$E1631),AND($B1631<>0,$D1631=12),SUMIFS('likvid terv'!$O:$O,'likvid terv'!$A:$A,project_eves_terv!B1631,'likvid terv'!$R:$R,project_eves_terv!$E1631),$B1631=0,0)} -> 0 | G1631: ='likvid terv'!$B$2 -> 0
A1632: ='likvid terv'!$B$1 -> 0 | B1632: ='likvid terv'!$B$178 -> 0 | C1632: 2027 | D1632: 11 | E1632: 8 | F1632: {=_xlfn.IFS(AND($B1632<>0,$D1632=1),SUMIFS('likvid terv'!$D:$D,'likvid terv'!$A:$A,project_eves_terv!B1632,'likvid terv'!$R:$R,project_eves_terv!$E1632),AND($B1632<>0,$D1632=2),SUMIFS('likvid terv'!$E:$E,'likvid terv'!$A:$A,project_eves_terv!B1632,'likvid terv'!$R:$R,project_eves_terv!$E1632),AND($B1632<>0,$D1632=3),SUMIFS('likvid terv'!$F:$F,'likvid terv'!$A:$A,project_eves_terv!B1632,'likvid terv'!$R:$R,project_eves_terv!$E1632),AND($B1632<>0,$D1632=4),SUMIFS('likvid terv'!$G:$G,'likvid terv'!$A:$A,project_eves_terv!B1632,'likvid terv'!$R:$R,project_eves_terv!$E1632),AND($B1632<>0,$D1632=5),SUMIFS('likvid terv'!$H:$H,'likvid terv'!$A:$A,project_eves_terv!B1632,'likvid terv'!$R:$R,project_eves_terv!$E1632),AND($B1632<>0,$D1632=6),SUMIFS('likvid terv'!$I:$I,'likvid terv'!$A:$A,project_eves_terv!B1632,'likvid terv'!$R:$R,project_eves_terv!$E1632),AND($B1632<>0,$D1632=7),SUMIFS('likvid terv'!$J:$J,'likvid terv'!$A:$A,project_eves_terv!B1632,'likvid terv'!$R:$R,project_eves_terv!$E1632),AND($B1632<>0,$D1632=8),SUMIFS('likvid terv'!$K:$K,'likvid terv'!$A:$A,project_eves_terv!B1632,'likvid terv'!$R:$R,project_eves_terv!$E1632),AND($B1632<>0,$D1632=9),SUMIFS('likvid terv'!$L:$L,'likvid terv'!$A:$A,project_eves_terv!B1632,'likvid terv'!$R:$R,project_eves_terv!$E1632),AND($B1632<>0,$D1632=10),SUMIFS('likvid terv'!$M:$M,'likvid terv'!$A:$A,project_eves_terv!B1632,'likvid terv'!$R:$R,project_eves_terv!$E1632),AND($B1632<>0,$D1632=11),SUMIFS('likvid terv'!$N:$N,'likvid terv'!$A:$A,project_eves_terv!B1632,'likvid terv'!$R:$R,project_eves_terv!$E1632),AND($B1632<>0,$D1632=12),SUMIFS('likvid terv'!$O:$O,'likvid terv'!$A:$A,project_eves_terv!B1632,'likvid terv'!$R:$R,project_eves_terv!$E1632),$B1632=0,0)} -> 0 | G1632: ='likvid terv'!$B$2 -> 0
A1633: ='likvid terv'!$B$1 -> 0 | B1633: ='likvid terv'!$B$178 -> 0 | C1633: 2027 | D1633: 12 | E1633: 8 | F1633: {=_xlfn.IFS(AND($B1633<>0,$D1633=1),SUMIFS('likvid terv'!$D:$D,'likvid terv'!$A:$A,project_eves_terv!B1633,'likvid terv'!$R:$R,project_eves_terv!$E1633),AND($B1633<>0,$D1633=2),SUMIFS('likvid terv'!$E:$E,'likvid terv'!$A:$A,project_eves_terv!B1633,'likvid terv'!$R:$R,project_eves_terv!$E1633),AND($B1633<>0,$D1633=3),SUMIFS('likvid terv'!$F:$F,'likvid terv'!$A:$A,project_eves_terv!B1633,'likvid terv'!$R:$R,project_eves_terv!$E1633),AND($B1633<>0,$D1633=4),SUMIFS('likvid terv'!$G:$G,'likvid terv'!$A:$A,project_eves_terv!B1633,'likvid terv'!$R:$R,project_eves_terv!$E1633),AND($B1633<>0,$D1633=5),SUMIFS('likvid terv'!$H:$H,'likvid terv'!$A:$A,project_eves_terv!B1633,'likvid terv'!$R:$R,project_eves_terv!$E1633),AND($B1633<>0,$D1633=6),SUMIFS('likvid terv'!$I:$I,'likvid terv'!$A:$A,project_eves_terv!B1633,'likvid terv'!$R:$R,project_eves_terv!$E1633),AND($B1633<>0,$D1633=7),SUMIFS('likvid terv'!$J:$J,'likvid terv'!$A:$A,project_eves_terv!B1633,'likvid terv'!$R:$R,project_eves_terv!$E1633),AND($B1633<>0,$D1633=8),SUMIFS('likvid terv'!$K:$K,'likvid terv'!$A:$A,project_eves_terv!B1633,'likvid terv'!$R:$R,project_eves_terv!$E1633),AND($B1633<>0,$D1633=9),SUMIFS('likvid terv'!$L:$L,'likvid terv'!$A:$A,project_eves_terv!B1633,'likvid terv'!$R:$R,project_eves_terv!$E1633),AND($B1633<>0,$D1633=10),SUMIFS('likvid terv'!$M:$M,'likvid terv'!$A:$A,project_eves_terv!B1633,'likvid terv'!$R:$R,project_eves_terv!$E1633),AND($B1633<>0,$D1633=11),SUMIFS('likvid terv'!$N:$N,'likvid terv'!$A:$A,project_eves_terv!B1633,'likvid terv'!$R:$R,project_eves_terv!$E1633),AND($B1633<>0,$D1633=12),SUMIFS('likvid terv'!$O:$O,'likvid terv'!$A:$A,project_eves_terv!B1633,'likvid terv'!$R:$R,project_eves_terv!$E1633),$B1633=0,0)} -> 0 | G1633: ='likvid terv'!$B$2 -> 0
... A1945: ='likvid terv'!$B$1 -> 0 | B1945: ='likvid terv'!$B$178 -> 0 | C1945: 2027 | D1945: 12 | E1945: 27 | F1945: {=_xlfn.IFS(AND($B1945<>0,$D1945=1),SUMIFS('likvid terv'!$D:$D,'likvid terv'!$A:$A,project_eves_terv!B1945,'likvid terv'!$R:$R,project_eves_terv!$E1945),AND($B1945<>0,$D1945=2),SUMIFS('likvid terv'!$E:$E,'likvid terv'!$A:$A,project_eves_terv!B1945,'likvid terv'!$R:$R,project_eves_terv!$E1945),AND($B1945<>0,$D1945=3),SUMIFS('likvid terv'!$F:$F,'likvid terv'!$A:$A,project_eves_terv!B1945,'likvid terv'!$R:$R,project_eves_terv!$E1945),AND($B1945<>0,$D1945=4),SUMIFS('likvid terv'!$G:$G,'likvid terv'!$A:$A,project_eves_terv!B1945,'likvid terv'!$R:$R,project_eves_terv!$E1945),AND($B1945<>0,$D1945=5),SUMIFS('likvid terv'!$H:$H,'likvid terv'!$A:$A,project_eves_terv!B1945,'likvid terv'!$R:$R,project_eves_terv!$E1945),AND($B1945<>0,$D1945=6),SUMIFS('likvid terv'!$I:$I,'likvid terv'!$A:$A,project_eves_terv!B1945,'likvid terv'!$R:$R,project_eves_terv!$E1945),AND($B1945<>0,$D1945=7),SUMIFS('likvid terv'!$J:$J,'likvid terv'!$A:$A,project_eves_terv!B1945,'likvid terv'!$R:$R,project_eves_terv!$E1945),AND($B1945<>0,$D1945=8),SUMIFS('likvid terv'!$K:$K,'likvid terv'!$A:$A,project_eves_terv!B1945,'likvid terv'!$R:$R,project_eves_terv!$E1945),AND($B1945<>0,$D1945=9),SUMIFS('likvid terv'!$L:$L,'likvid terv'!$A:$A,project_eves_terv!B1945,'likvid terv'!$R:$R,project_eves_terv!$E1945),AND($B1945<>0,$D1945=10),SUMIFS('likvid terv'!$M:$M,'likvid terv'!$A:$A,project_eves_terv!B1945,'likvid terv'!$R:$R,project_eves_terv!$E1945),AND($B1945<>0,$D1945=11),SUMIFS('likvid terv'!$N:$N,'likvid terv'!$A:$A,project_eves_terv!B1945,'likvid terv'!$R:$R,project_eves_terv!$E1945),AND($B1945<>0,$D1945=12),SUMIFS('likvid terv'!$O:$O,'likvid terv'!$A:$A,project_eves_terv!B1945,'likvid terv'!$R:$R,project_eves_terv!$E1945),$B1945=0,0)} -> 0 | G1945: ='likvid terv'!$B$2 -> 0
A1946: ='likvid terv'!$B$1 -> 0 | B1946: ='likvid terv'!$B$207 -> 0 | C1946: 2027 | D1946: 1 | E1946: 8 | F1946: {=_xlfn.IFS(AND($B1946<>0,$D1946=1),SUMIFS('likvid terv'!$D:$D,'likvid terv'!$A:$A,project_eves_terv!B1946,'likvid terv'!$R:$R,project_eves_terv!$E1946),AND($B1946<>0,$D1946=2),SUMIFS('likvid terv'!$E:$E,'likvid terv'!$A:$A,project_eves_terv!B1946,'likvid terv'!$R:$R,project_eves_terv!$E1946),AND($B1946<>0,$D1946=3),SUMIFS('likvid terv'!$F:$F,'likvid terv'!$A:$A,project_eves_terv!B1946,'likvid terv'!$R:$R,project_eves_terv!$E1946),AND($B1946<>0,$D1946=4),SUMIFS('likvid terv'!$G:$G,'likvid terv'!$A:$A,project_eves_terv!B1946,'likvid terv'!$R:$R,project_eves_terv!$E1946),AND($B1946<>0,$D1946=5),SUMIFS('likvid terv'!$H:$H,'likvid terv'!$A:$A,project_eves_terv!B1946,'likvid terv'!$R:$R,project_eves_terv!$E1946),AND($B1946<>0,$D1946=6),SUMIFS('likvid terv'!$I:$I,'likvid terv'!$A:$A,project_eves_terv!B1946,'likvid terv'!$R:$R,project_eves_terv!$E1946),AND($B1946<>0,$D1946=7),SUMIFS('likvid terv'!$J:$J,'likvid terv'!$A:$A,project_eves_terv!B1946,'likvid terv'!$R:$R,project_eves_terv!$E1946),AND($B1946<>0,$D1946=8),SUMIFS('likvid terv'!$K:$K,'likvid terv'!$A:$A,project_eves_terv!B1946,'likvid terv'!$R:$R,project_eves_terv!$E1946),AND($B1946<>0,$D1946=9),SUMIFS('likvid terv'!$L:$L,'likvid terv'!$A:$A,project_eves_terv!B1946,'likvid terv'!$R:$R,project_eves_terv!$E1946),AND($B1946<>0,$D1946=10),SUMIFS('likvid terv'!$M:$M,'likvid terv'!$A:$A,project_eves_terv!B1946,'likvid terv'!$R:$R,project_eves_terv!$E1946),AND($B1946<>0,$D1946=11),SUMIFS('likvid terv'!$N:$N,'likvid terv'!$A:$A,project_eves_terv!B1946,'likvid terv'!$R:$R,project_eves_terv!$E1946),AND($B1946<>0,$D1946=12),SUMIFS('likvid terv'!$O:$O,'likvid terv'!$A:$A,project_eves_terv!B1946,'likvid terv'!$R:$R,project_eves_terv!$E1946),$B1946=0,0)} -> 0 | G1946: ='likvid terv'!$B$2 -> 0
A1947: ='likvid terv'!$B$1 -> 0 | B1947: ='likvid terv'!$B$207 -> 0 | C1947: 2027 | D1947: 2 | E1947: 8 | F1947: {=_xlfn.IFS(AND($B1947<>0,$D1947=1),SUMIFS('likvid terv'!$D:$D,'likvid terv'!$A:$A,project_eves_terv!B1947,'likvid terv'!$R:$R,project_eves_terv!$E1947),AND($B1947<>0,$D1947=2),SUMIFS('likvid terv'!$E:$E,'likvid terv'!$A:$A,project_eves_terv!B1947,'likvid terv'!$R:$R,project_eves_terv!$E1947),AND($B1947<>0,$D1947=3),SUMIFS('likvid terv'!$F:$F,'likvid terv'!$A:$A,project_eves_terv!B1947,'likvid terv'!$R:$R,project_eves_terv!$E1947),AND($B1947<>0,$D1947=4),SUMIFS('likvid terv'!$G:$G,'likvid terv'!$A:$A,project_eves_terv!B1947,'likvid terv'!$R:$R,project_eves_terv!$E1947),AND($B1947<>0,$D1947=5),SUMIFS('likvid terv'!$H:$H,'likvid terv'!$A:$A,project_eves_terv!B1947,'likvid terv'!$R:$R,project_eves_terv!$E1947),AND($B1947<>0,$D1947=6),SUMIFS('likvid terv'!$I:$I,'likvid terv'!$A:$A,project_eves_terv!B1947,'likvid terv'!$R:$R,project_eves_terv!$E1947),AND($B1947<>0,$D1947=7),SUMIFS('likvid terv'!$J:$J,'likvid terv'!$A:$A,project_eves_terv!B1947,'likvid terv'!$R:$R,project_eves_terv!$E1947),AND($B1947<>0,$D1947=8),SUMIFS('likvid terv'!$K:$K,'likvid terv'!$A:$A,project_eves_terv!B1947,'likvid terv'!$R:$R,project_eves_terv!$E1947),AND($B1947<>0,$D1947=9),SUMIFS('likvid terv'!$L:$L,'likvid terv'!$A:$A,project_eves_terv!B1947,'likvid terv'!$R:$R,project_eves_terv!$E1947),AND($B1947<>0,$D1947=10),SUMIFS('likvid terv'!$M:$M,'likvid terv'!$A:$A,project_eves_terv!B1947,'likvid terv'!$R:$R,project_eves_terv!$E1947),AND($B1947<>0,$D1947=11),SUMIFS('likvid terv'!$N:$N,'likvid terv'!$A:$A,project_eves_terv!B1947,'likvid terv'!$R:$R,project_eves_terv!$E1947),AND($B1947<>0,$D1947=12),SUMIFS('likvid terv'!$O:$O,'likvid terv'!$A:$A,project_eves_terv!B1947,'likvid terv'!$R:$R,project_eves_terv!$E1947),$B1947=0,0)} -> 0 | G1947: ='likvid terv'!$B$2 -> 0
A1948: ='likvid terv'!$B$1 -> 0 | B1948: ='likvid terv'!$B$207 -> 0 | C1948: 2027 | D1948: 3 | E1948: 8 | F1948: {=_xlfn.IFS(AND($B1948<>0,$D1948=1),SUMIFS('likvid terv'!$D:$D,'likvid terv'!$A:$A,project_eves_terv!B1948,'likvid terv'!$R:$R,project_eves_terv!$E1948),AND($B1948<>0,$D1948=2),SUMIFS('likvid terv'!$E:$E,'likvid terv'!$A:$A,project_eves_terv!B1948,'likvid terv'!$R:$R,project_eves_terv!$E1948),AND($B1948<>0,$D1948=3),SUMIFS('likvid terv'!$F:$F,'likvid terv'!$A:$A,project_eves_terv!B1948,'likvid terv'!$R:$R,project_eves_terv!$E1948),AND($B1948<>0,$D1948=4),SUMIFS('likvid terv'!$G:$G,'likvid terv'!$A:$A,project_eves_terv!B1948,'likvid terv'!$R:$R,project_eves_terv!$E1948),AND($B1948<>0,$D1948=5),SUMIFS('likvid terv'!$H:$H,'likvid terv'!$A:$A,project_eves_terv!B1948,'likvid terv'!$R:$R,project_eves_terv!$E1948),AND($B1948<>0,$D1948=6),SUMIFS('likvid terv'!$I:$I,'likvid terv'!$A:$A,project_eves_terv!B1948,'likvid terv'!$R:$R,project_eves_terv!$E1948),AND($B1948<>0,$D1948=7),SUMIFS('likvid terv'!$J:$J,'likvid terv'!$A:$A,project_eves_terv!B1948,'likvid terv'!$R:$R,project_eves_terv!$E1948),AND($B1948<>0,$D1948=8),SUMIFS('likvid terv'!$K:$K,'likvid terv'!$A:$A,project_eves_terv!B1948,'likvid terv'!$R:$R,project_eves_terv!$E1948),AND($B1948<>0,$D1948=9),SUMIFS('likvid terv'!$L:$L,'likvid terv'!$A:$A,project_eves_terv!B1948,'likvid terv'!$R:$R,project_eves_terv!$E1948),AND($B1948<>0,$D1948=10),SUMIFS('likvid terv'!$M:$M,'likvid terv'!$A:$A,project_eves_terv!B1948,'likvid terv'!$R:$R,project_eves_terv!$E1948),AND($B1948<>0,$D1948=11),SUMIFS('likvid terv'!$N:$N,'likvid terv'!$A:$A,project_eves_terv!B1948,'likvid terv'!$R:$R,project_eves_terv!$E1948),AND($B1948<>0,$D1948=12),SUMIFS('likvid terv'!$O:$O,'likvid terv'!$A:$A,project_eves_terv!B1948,'likvid terv'!$R:$R,project_eves_terv!$E1948),$B1948=0,0)} -> 0 | G1948: ='likvid terv'!$B$2 -> 0
A1949: ='likvid terv'!$B$1 -> 0 | B1949: ='likvid terv'!$B$207 -> 0 | C1949: 2027 | D1949: 4 | E1949: 8 | F1949: {=_xlfn.IFS(AND($B1949<>0,$D1949=1),SUMIFS('likvid terv'!$D:$D,'likvid terv'!$A:$A,project_eves_terv!B1949,'likvid terv'!$R:$R,project_eves_terv!$E1949),AND($B1949<>0,$D1949=2),SUMIFS('likvid terv'!$E:$E,'likvid terv'!$A:$A,project_eves_terv!B1949,'likvid terv'!$R:$R,project_eves_terv!$E1949),AND($B1949<>0,$D1949=3),SUMIFS('likvid terv'!$F:$F,'likvid terv'!$A:$A,project_eves_terv!B1949,'likvid terv'!$R:$R,project_eves_terv!$E1949),AND($B1949<>0,$D1949=4),SUMIFS('likvid terv'!$G:$G,'likvid terv'!$A:$A,project_eves_terv!B1949,'likvid terv'!$R:$R,project_eves_terv!$E1949),AND($B1949<>0,$D1949=5),SUMIFS('likvid terv'!$H:$H,'likvid terv'!$A:$A,project_eves_terv!B1949,'likvid terv'!$R:$R,project_eves_terv!$E1949),AND($B1949<>0,$D1949=6),SUMIFS('likvid terv'!$I:$I,'likvid terv'!$A:$A,project_eves_terv!B1949,'likvid terv'!$R:$R,project_eves_terv!$E1949),AND($B1949<>0,$D1949=7),SUMIFS('likvid terv'!$J:$J,'likvid terv'!$A:$A,project_eves_terv!B1949,'likvid terv'!$R:$R,project_eves_terv!$E1949),AND($B1949<>0,$D1949=8),SUMIFS('likvid terv'!$K:$K,'likvid terv'!$A:$A,project_eves_terv!B1949,'likvid terv'!$R:$R,project_eves_terv!$E1949),AND($B1949<>0,$D1949=9),SUMIFS('likvid terv'!$L:$L,'likvid terv'!$A:$A,project_eves_terv!B1949,'likvid terv'!$R:$R,project_eves_terv!$E1949),AND($B1949<>0,$D1949=10),SUMIFS('likvid terv'!$M:$M,'likvid terv'!$A:$A,project_eves_terv!B1949,'likvid terv'!$R:$R,project_eves_terv!$E1949),AND($B1949<>0,$D1949=11),SUMIFS('likvid terv'!$N:$N,'likvid terv'!$A:$A,project_eves_terv!B1949,'likvid terv'!$R:$R,project_eves_terv!$E1949),AND($B1949<>0,$D1949=12),SUMIFS('likvid terv'!$O:$O,'likvid terv'!$A:$A,project_eves_terv!B1949,'likvid terv'!$R:$R,project_eves_terv!$E1949),$B1949=0,0)} -> 0 | G1949: ='likvid terv'!$B$2 -> 0
A1950: ='likvid terv'!$B$1 -> 0 | B1950: ='likvid terv'!$B$207 -> 0 | C1950: 2027 | D1950: 5 | E1950: 8 | F1950: {=_xlfn.IFS(AND($B1950<>0,$D1950=1),SUMIFS('likvid terv'!$D:$D,'likvid terv'!$A:$A,project_eves_terv!B1950,'likvid terv'!$R:$R,project_eves_terv!$E1950),AND($B1950<>0,$D1950=2),SUMIFS('likvid terv'!$E:$E,'likvid terv'!$A:$A,project_eves_terv!B1950,'likvid terv'!$R:$R,project_eves_terv!$E1950),AND($B1950<>0,$D1950=3),SUMIFS('likvid terv'!$F:$F,'likvid terv'!$A:$A,project_eves_terv!B1950,'likvid terv'!$R:$R,project_eves_terv!$E1950),AND($B1950<>0,$D1950=4),SUMIFS('likvid terv'!$G:$G,'likvid terv'!$A:$A,project_eves_terv!B1950,'likvid terv'!$R:$R,project_eves_terv!$E1950),AND($B1950<>0,$D1950=5),SUMIFS('likvid terv'!$H:$H,'likvid terv'!$A:$A,project_eves_terv!B1950,'likvid terv'!$R:$R,project_eves_terv!$E1950),AND($B1950<>0,$D1950=6),SUMIFS('likvid terv'!$I:$I,'likvid terv'!$A:$A,project_eves_terv!B1950,'likvid terv'!$R:$R,project_eves_terv!$E1950),AND($B1950<>0,$D1950=7),SUMIFS('likvid terv'!$J:$J,'likvid terv'!$A:$A,project_eves_terv!B1950,'likvid terv'!$R:$R,project_eves_terv!$E1950),AND($B1950<>0,$D1950=8),SUMIFS('likvid terv'!$K:$K,'likvid terv'!$A:$A,project_eves_terv!B1950,'likvid terv'!$R:$R,project_eves_terv!$E1950),AND($B1950<>0,$D1950=9),SUMIFS('likvid terv'!$L:$L,'likvid terv'!$A:$A,project_eves_terv!B1950,'likvid terv'!$R:$R,project_eves_terv!$E1950),AND($B1950<>0,$D1950=10),SUMIFS('likvid terv'!$M:$M,'likvid terv'!$A:$A,project_eves_terv!B1950,'likvid terv'!$R:$R,project_eves_terv!$E1950),AND($B1950<>0,$D1950=11),SUMIFS('likvid terv'!$N:$N,'likvid terv'!$A:$A,project_eves_terv!B1950,'likvid terv'!$R:$R,project_eves_terv!$E1950),AND($B1950<>0,$D1950=12),SUMIFS('likvid terv'!$O:$O,'likvid terv'!$A:$A,project_eves_terv!B1950,'likvid terv'!$R:$R,project_eves_terv!$E1950),$B1950=0,0)} -> 0 | G1950: ='likvid terv'!$B$2 -> 0
